Workbook

Sheet Índice
A2: Índice
A4: CUADROS RESUMEN
A6: ATR-R1 | B6: Accidentes de trabajo
A8: ACCIDENTES DE TRABAJO CON BAJA, EN JORNADA E IN ITINERE, SEGÚN GRAVEDAD
A10: ATR-R1 | B10: Accidetes de trabajo con baja
A11: ATR-A2.1 | B11: Accidentes en jornada de trabajo: Por sector, sección y división de actividad económica. Total
A12: ATR-A2.2 | B12: Accidentes en jornada de trabajo: Por sector, sección y división de actividad económica. Trabajadores por cuenta propia
A13: ATR-A2.3 | B13: Accidentes en jornada de trabajo: Por sector, sección y división de actividad económica. Asalariados
A14: ATR-A2_II | B14: Accidentes In Intinere: Por sector, sección y división de actividad económica
A15: ATR-A3 | B15: Accidentes en jornada de trabajo: Por sexo y edad del trabajador accidentado
A16: ATR-A3_II | B16: Accidentes In Intinere: Por sexo y edad del trabajador accidentado
A17: ATR-A4 | B17: Accidentes en jornada de trabajo: Por grandes grupos de ocupación
A18: ATR-A4_II | B18: Accidentes In Intinere: Por grandes grupos de ocupación
A19: ATR-A5 | B19: Accidentes en jornada de trabajo: Por tipo de lugar donde se encontraba el trabajador accidentado
A20: ATR-A5_II | B20: Accidentes In Intinere: Por tipo de lugar donde se encontraba el trabajador accidentado
A21: ATR-A6 | B21: Accidentes en jornada de trabajo: Por actividad física específica que desempeñaba el trabajador accidentado
... A36: ATR-A13_II | B36: Accidentes In Intinere según relación laboral del accidentado
A37: ÍNDICES DE INCIDENCIA DE ACCIDENTES DE TRABAJO CON BAJA EN JORNADA
A39: ATR-I2.1 | B39: Por sector y sección de actividad económica. Total
A40: ATR-I2.2 | B40: Por sector y sección de actividad económica. Asalariados
A41: ATR-I2.3 | B41: Por sector y sección de actividad económica. Trabajadores por cuenta propia
A43: ANEXOS
A45: TAS | B45: Clasificación contenida en Orden TAS/2926/2002, de 19 de noviembre
A46: CNAE-09 | B46: Clasificación Nacional de Actividades Económicas
A47: CNO11 | B47: Clasifiocación Nacional de Ocupaciones
A48: FUENTES Y NOTAS EXPLICATIVAS
A50: ATR-FN | B50: Fuentes y notas explicativas

Sheet ATR-R1
A1: ACCIDENTES DE TRABAJO | F1: Volver al índice
A3: ATR-A1. ACCIDENTES DE TRABAJO CON BAJA
A6: enero-junio 2021
C7: VALORES ABSOLUTOS | E7: VARIACIONES SOBRE IGUAL PERIODO AÑO ANTERIOR
C8: 2020 | D8: 2021 | E8: Absolutas | F8: Relativas en %
A9: ACCIDENTES QUE HAN CAUSADO BAJA EN EL PERIODO DE REFERENCIA (1)
A10: Total | C10: 1755 | D10: =SUM(D11:D12) -> 2229 | E10: =D10-C10 -> 474 | F10: =((D10/C10)-1) -> 0.27008547
B11: En jornada de trabajo | C11: 1633 | D11: ='ATR-A2.1'!F9 -> 2026 | E11: =D11-C11 -> 393 | F11: =((D11/C11)-1) -> 0.24066136
B12: In itinere | C12: 122 | D12: ='ATR-A2_II'!F9 -> 203 | E12: =D12-C12 -> 81 | F12: =((D12/C12)-1) -> 0.66393443
B14: Asalariados | C14: 1506 | D14: ='ATR-A2.2'!F9 -> 1903 | E14: =D14-C14 -> 397 | F14: =((D14/C14)-1) -> 0.26361222
B15: Trabajadores por cuenta propia | C15: 127 | D15: =D11-D14 -> 123 | E15: =D15-C15 -> -4 | F15: =((D15/C15)-1) -> -0.031496063
A17: ACCIDENTES EN JORNADA DE TRABAJO
A18: Gravedad
B19: Leves | C19: 1609 | D19: ='ATR-A2.1'!C9 -> 2005 | E19: =D19-C19 -> 396 | F19: =((D19/C19)-1) -> 0.2461156
B20: Graves | C20: 19 | D20: ='ATR-A2.1'!D9 -> 18 | E20: =D20-C20 -> -1 | F20: =((D20/C20)-1) -> -0.052631579
B21: Mortales | C21: 5 | D21: ='ATR-A2.1'!E9 -> 3 | E21: =D21-C21 -> -2 | F21: =((D21/C21)-1) -> -0.4
A23: Sexo
B24: Varones | C24: 1196 | D24: ='ATR-A3'!E23 -> 1453 | E24: =D24-C24 -> 257 | F24: =((D24/C24)-1) -> 0.21488294
B25: Mujeres | C25: 437 | D25: ='ATR-A3'!E37 -> 573 | E25: =D25-C25 -> 136 | F25: =((D25/C25)-1) -> 0.31121281
A27: Forma o contacto que produjo la lesión
B28: Sobreesfuerzo físico sobre el sistema musculoesquelético | C28: 638 | D28: 776 | E28: =D28-C28 -> 138 | F28: =((D28/C28)-1) -> 0.21630094
B29: Choque contra objeto inmóvil | C29: 426 | D29: 494 | E29: =D29-C29 -> 68 | F29: =((D29/C29)-1) -> 0.15962441
B30: Choque contra objetos en movimiento | C30: 267 | D30: 321 | E30: =D30-C30 -> 54 | F30: =((D30/C30)-1) -> 0.20224719
B31: Contacto con agente material cortante, punzante o duro | C31: 172 | D31: 198 | E31: =D31-C31 -> 26 | F31: =((D31/C31)-1) -> 0.15116279
B32: Otras causas | C32: 130 | D32: =D11-SUM(D28:D31) -> 237 | E32: =D32-C32 -> 107 | F32: =((D32/C32)-1) -> 0.82307692
A34: Sección de actividad
B35: A - Agricultura, ganadería, silvicultura y pesca | C35: 123 | D35: ='ATR-I2.1'!D18 -> 134 | E35: =D35-C35 -> 11 | F35: =((D35/C35)-1) -> 0.089430894
B36: B - Industrias extractivas | C36: 3 | D36: ='ATR-I2.1'!D19 -> 3 | E36: =D36-C36 -> 0 | F36: =((D36/C36)-1) -> 0
B37: C - Industria manufacturera | C37: 571 | D37: ='ATR-I2.1'!D20 -> 587 | E37: =D37-C37 -> 16 | F37: =((D37/C37)-1) -> 0.028021016
B38: E - Suministro de agua, saneamiento, gestión residuos | C38: 26 | D38: ='ATR-I2.1'!D22 -> 31 | E38: =D38-C38 -> 5 | F38: =((D38/C38)-1) -> 0.19230769
B39: F - Construcción | C39: 225 | D39: ='ATR-I2.1'!D23 -> 304 | E39: =D39-C39 -> 79 | F39: =((D39/C39)-1) -> 0.35111111
B40: G - Comercio al por mayor y menor; reparación de vehículos a motor | C40: 200 | D40: ='ATR-I2.1'!D24 -> 224 | E40: =D40-C40 -> 24 | F40: =((D40/C40)-1) -> 0.12
B41: H - Transporte y almacenamiento | C41: 91 | D41: ='ATR-I2.1'!D25 -> 92 | E41: =D41-C41 -> 1 | F41: =((D41/C41)-1) -> 0.010989011
B42: I - Hostelería | C42: 69 | D42: ='ATR-I2.1'!D26 -> 79 | E42: =D42-C42 -> 10 | F42: =((D42/C42)-1) -> 0.14492754
B43: N - Actividades administrativas y servicios auxiliares | C43: 66 | D43: ='ATR-I2.1'!D31 -> 186 | E43: =D43-C43 -> 120 | F43: =((D43/C43)-1) -> 1.8181818
B44: O - Administración Pública y defensa; Seguridad social obligatoria | C44: 53 | D44: ='ATR-I2.1'!D32 -> 88 | E44: =D44-C44 -> 35 | F44: =((D44/C44)-1) -> 0.66037736
B45: Q - Actividades sanitarias y de servicios sociales | C45: 132 | D45: ='ATR-I2.1'!D34 -> 211 | E45: =D45-C45 -> 79 | F45: =((D45/C45)-1) -> 0.59848485
B46: Resto de secciones de actividad (D, J, K, L, M, P, R, S, T, U) | C46: 74 | D46: =D11-SUM(D35:D45) -> 87 | E46: =D46-C46 -> 13 | F46: =((D46/C46)-1) -> 0.17567568
A48: ÍNDICES DE INCIDENCIA DE ACCIDENTES EN JORNADA DE TRABAJO
A49: Sección de actividad
...

Sheet ATR-A2.1
A1: ACCIDENTES DE TRABAJO | E1: Volver al índice
A3: ATR-A2. ACCIDENTES DE TRABAJO CON BAJA, EN JORNADA, SEGÚN GRAVEDAD,
A4: POR SECTOR, SECCIÓN Y DIVISIÓN DE ACTIVIDAD ECONÓMICA
A6: enero-junio 2021
C8: Leves | D8: Graves | E8: Mortales | F8: TOTAL
B9: TOTAL | C9: =SUM(C12:C15) -> 2005 | D9: =SUM(D12:D15) -> 18 | E9: =SUM(E12:E15) -> 3 | F9: =SUM(F12:F15) -> 2026
B11: SECTOR
B12: Agrario | C12: =C18+C19+C20 -> 133 | D12: =D18+D19+D20 -> 1 | E12: =E18+E19+E20 -> 0 | F12: =F18+F19+F20 -> 134
B13: Industria | C13: =SUM(C21:C42) -> 611 | D13: =SUM(D21:D42) -> 9 | E13: =SUM(E21:E42) -> 1 | F13: =SUM(F21:F42) -> 621
B14: Construcción | C14: =SUM(C43:C45) -> 298 | D14: =SUM(D43:D45) -> 6 | E14: =SUM(E43:E45) -> 0 | F14: =SUM(F43:F45) -> 304
B15: Servicios | C15: =SUM(C46:C100) -> 963 | D15: =SUM(D46:D100) -> 2 | E15: =SUM(E46:E100) -> 2 | F15: =SUM(F46:F100) -> 967
B17: SECCIÓN Y DIVISIÓN
B18: 01 Agricultura, ganadería, caza y servicios relacionados con las mismas | C18: 114 | D18: 1 | E18: 0 | F18: =SUM(C18:E18) -> 115
B19: 02 Silvicultura y explotación forestal | C19: 16 | D19: 0 | E19: 0 | F19: =SUM(C19:E19) -> 16
B20: 03 Pesca y acuicultura | C20: 3 | D20: 0 | E20: 0 | F20: =SUM(C20:E20) -> 3
B21: 08 Otras industrias extractivas | C21: 3 | D21: 0 | E21: 0 | F21: =SUM(C21:E21) -> 3
B22: 10 Industria de la alimentación | C22: 151 | D22: 2 | E22: 0 | F22: =SUM(C22:E22) -> 153
B23: 11 Fabricación de bebidas | C23: 39 | D23: 0 | E23: 0 | F23: =SUM(C23:E23) -> 39
B24: 13 Industria textil | C24: 12 | D24: 0 | E24: 0 | F24: =SUM(C24:E24) -> 12
B25: 15 Industria del cuero y del calzado | C25: 46 | D25: 0 | E25: 0 | F25: =SUM(C25:E25) -> 46
B26: 16 Industria de la madera y del corcho, excepto muebles cestería y espartería | C26: 35 | D26: 1 | E26: 0 | F26: =SUM(C26:E26) -> 36
B27: 17 Industria del papel | C27: 17 | D27: 0 | E27: 0 | F27: =SUM(C27:E27) -> 17
B28: 18 Artes gráficas y reproducción de soportes grabados | C28: 8 | D28: 0 | E28: 0 | F28: =SUM(C28:E28) -> 8
B29: 20 Industria química | C29: 8 | D29: 0 | E29: 0 | F29: =SUM(C29:E29) -> 8
... B73: 97 Actividades de los hogares como empleadores de personal doméstico | C73: 5 | D73: 0 | E73: 0 | F73: =SUM(C73:E73) -> 5

Sheet ATR-A2.2
A1: ACCIDENTES DE TRABAJO | E1: Volver al índice
A3: ATR-A2. ACCIDENTES DE TRABAJO CON BAJA, EN JORNADA, SEGÚN GRAVEDAD,
A4: POR SECTOR, SECCIÓN Y DIVISIÓN DE ACTIVIDAD ECONÓMICA. ASALARIADOS.
A6: enero-junio 2021
C8: Leves | D8: Graves | E8: Mortales | F8: TOTAL
B9: TOTAL | C9: =SUM(C12:C15) -> 1883 | D9: =SUM(D12:D15) -> 17 | E9: =SUM(E12:E15) -> 3 | F9: =SUM(F12:F15) -> 1903
B11: SECTOR
B12: Agrario | C12: =C18+C19+C20 -> 112 | D12: =D18+D19+D20 -> 0 | E12: =E18+E19+E20 -> 0 | F12: =F18+F19+F20 -> 112
B13: Industria | C13: =SUM(C21:C41) -> 601 | D13: =SUM(D21:D41) -> 9 | E13: =SUM(E21:E41) -> 1 | F13: =SUM(F21:F41) -> 611
B14: Construcción | C14: =SUM(C42:C44) -> 259 | D14: =SUM(D42:D44) -> 6 | E14: =SUM(E42:E44) -> 0 | F14: =SUM(F42:F44) -> 265
B15: Servicios | C15: =SUM(C45:C100) -> 911 | D15: =SUM(D45:D100) -> 2 | E15: =SUM(E45:E100) -> 2 | F15: =SUM(F45:F91) -> 915
B17: SECCIÓN Y DIVISIÓN
B18: 01 Agricultura, ganadería, caza y servicios relacionados con las mismas | C18: 93 | D18: 0 | E18: 0 | F18: =SUM(C18:E18) -> 93
B19: 02 Silvicultura y explotación forestal | C19: 16 | D19: 0 | E19: 0 | F19: =SUM(C19:E19) -> 16
B20: 03 Pesca y acuicultura | C20: 3 | D20: 0 | E20: 0 | F20: =SUM(C20:E20) -> 3
B21: 08 Otras industrias extractivas | C21: 3 | D21: 0 | E21: 0 | F21: =SUM(C21:E21) -> 3
B22: 10 Industria de la alimentación | C22: 150 | D22: 2 | E22: 0 | F22: =SUM(C22:E22) -> 152
B23: 11 Fabricación de bebidas | C23: 39 | D23: 0 | E23: 0 | F23: =SUM(C23:E23) -> 39
B24: 13 Industria textil | C24: 12 | D24: 0 | E24: 0 | F24: =SUM(C24:E24) -> 12
B25: 15 Industria del cuero y del calzado | C25: 45 | D25: 0 | E25: 0 | F25: =SUM(C25:E25) -> 45
B26: 16 Industria de la madera y del corcho, excepto muebles cestería y espartería | C26: 35 | D26: 1 | E26: 0 | F26: =SUM(C26:E26) -> 36
B27: 17 Industria del papel | C27: 16 | D27: 0 | E27: 0 | F27: =SUM(C27:E27) -> 16
B28: 18 Artes gráficas y reproducción de soportes grabados | C28: 7 | D28: 0 | E28: 0 | F28: =SUM(C28:E28) -> 7
B29: 20 Industria química | C29: 8 | D29: 0 | E29: 0 | F29: =SUM(C29:E29) -> 8
... B72: 97 Actividades de los hogares como empleadores de personal doméstico | C72: 5 | D72: 0 | E72: 0 | F72: =SUM(C72:E72) -> 5

Sheet ATR-A2.3
A1: ACCIDENTES DE TRABAJO | E1: Volver al índice
A3: ATR-A2. ACCIDENTES DE TRABAJO CON BAJA, EN JORNADA, SEGÚN GRAVEDAD,
A4: POR SECTOR, SECCIÓN Y DIVISIÓN DE ACTIVIDAD ECONÓMICA. TRABAJADORES POR CUENTA PROPIA.
A6: enero-junio 2021
C8: Leves | D8: Graves | E8: Mortales | F8: TOTAL
B9: TOTAL | C9: ='ATR-A2.1'!C9-'ATR-A2.2'!C9 -> 122 | D9: ='ATR-A2.1'!D9-'ATR-A2.2'!D9 -> 1 | E9: ='ATR-A2.1'!E9-'ATR-A2.2'!E9 -> 0 | F9: ='ATR-A2.1'!F9-'ATR-A2.2'!F9 -> 123
B11: SECTOR
B12: Agrario | C12: ='ATR-A2.1'!C12-'ATR-A2.2'!C12 -> 21 | D12: ='ATR-A2.1'!D12-'ATR-A2.2'!D12 -> 1 | E12: ='ATR-A2.1'!E12-'ATR-A2.2'!E12 -> 0 | F12: ='ATR-A2.1'!F12-'ATR-A2.2'!F12 -> 22
B13: Industria | C13: ='ATR-A2.1'!C13-'ATR-A2.2'!C13 -> 10 | D13: ='ATR-A2.1'!D13-'ATR-A2.2'!D13 -> 0 | E13: ='ATR-A2.1'!E13-'ATR-A2.2'!E13 -> 0 | F13: ='ATR-A2.1'!F13-'ATR-A2.2'!F13 -> 10
B14: Construcción | C14: ='ATR-A2.1'!C14-'ATR-A2.2'!C14 -> 39 | D14: ='ATR-A2.1'!D14-'ATR-A2.2'!D14 -> 0 | E14: ='ATR-A2.1'!E14-'ATR-A2.2'!E14 -> 0 | F14: ='ATR-A2.1'!F14-'ATR-A2.2'!F14 -> 39
B15: Servicios | C15: ='ATR-A2.1'!C15-'ATR-A2.2'!C15 -> 52 | D15: ='ATR-A2.1'!D15-'ATR-A2.2'!D15 -> 0 | E15: ='ATR-A2.1'!E15-'ATR-A2.2'!E15 -> 0 | F15: ='ATR-A2.1'!F15-'ATR-A2.2'!F15 -> 52
B17: SECCIÓN Y DIVISIÓN
B18: 01 Agricultura, ganadería, caza y servicios relacionados con las mismas | C18: 21 | D18: 1 | E18: 0 | F18: =SUM(C18:E18) -> 22
B19: 10 Industria de la alimentación | C19: 1 | D19: 0 | E19: 0 | F19: =SUM(C19:E19) -> 1 | G19: =SUM(F19:F26) -> 10
B20: 15 Industria del cuero y del calzado | C20: 1 | D20: 0 | E20: 0 | F20: =SUM(C20:E20) -> 1
B21: 17 Industria del papel | C21: 1 | D21: 0 | E21: 0 | F21: =SUM(C21:E21) -> 1
B22: 18 Artes gráficas y reproducción de soportes grabados | C22: 1 | D22: 0 | E22: 0 | F22: =SUM(C22:E22) -> 1
B23: 25 Fabricación de productos metálicos, excepto maquinaria y equipo | C23: 1 | D23: 0 | E23: 0 | F23: =SUM(C23:E23) -> 1
B24: 31 Fabricación de muebles | C24: 3 | D24: 0 | E24: 0 | F24: =SUM(C24:E24) -> 3
B25: 32 Otras industrias manufactureras | C25: 1 | D25: 0 | E25: 0 | F25: =SUM(C25:E25) -> 1
B26: 33 Reparación e instalación de maquinaria y equipo | C26: 1 | D26: 0 | E26: 0 | F26: =SUM(C26:E26) -> 1
B27: 41 Construcción de edificios | C27: 11 | D27: 0 | E27: 0 | F27: =SUM(C27:E27) -> 11
B28: 43 Actividades de construcción especializada | C28: 28 | D28: 0 | E28: 0 | F28: =SUM(C28:E28) -> 28
B29: 45 Venta y reparación de vehículos de motor y motocicletas | C29: 11 | D29: 0 | E29: 0 | F29: =SUM(C29:E29) -> 11
B30: 46 Comercio al por mayor e intermediarios del comercio, excepto de vehículos de motor y motocicletas | C30: 5 | D30: 0 | E30: 0 | F30: =SUM(C30:E30) -> 5
B31: 47 Comercio al por menor, excepto de vehículos de motor y motocicletas | C31: 10 | D31: 0 | E31: 0 | F31: =SUM(C31:E31) -> 10
... B41: 96 Otros servicios personales | C41: 1 | D41: 0 | E41: 0 | F41: =SUM(C41:E41) -> 1

Sheet ATR-A2_II
A1: ACCIDENTES DE TRABAJO | E1: Volver al índice
A3: ATR-A2_II. ACCIDENTES DE TRABAJO CON BAJA, IN ITINERE, SEGÚN GRAVEDAD,
A4: POR SECTOR, SECCIÓN Y DIVISIÓN DE ACTIVIDAD ECONÓMICA
A6: enero-junio 2021
C8: Leves | D8: Graves | E8: Mortales | F8: TOTAL
B9: TOTAL | C9: =SUM(C12:C15) -> 202 | D9: =SUM(D12:D15) -> 0 | E9: =SUM(E12:E15) -> 1 | F9: =SUM(C9:E9) -> 203
B11: SECTOR
B12: Agrario | C12: =C18+C19 -> 8 | D12: =D18+D19 -> 0 | E12: =E18+E19 -> 0 | F12: =SUM(C12:E12) -> 8
B13: Industria | C13: =SUM(C20:C36) -> 55 | D13: =SUM(D20:D36) -> 0 | E13: =SUM(E20:E36) -> 1 | F13: =SUM(C13:E13) -> 56
B14: Construcción | C14: =SUM(C37:C38) -> 8 | D14: =SUM(D37:D38) -> 0 | E14: =SUM(E37:E38) -> 0 | F14: =SUM(C14:E14) -> 8
B15: Servicios | C15: =SUM(C39:C90) -> 131 | D15: =SUM(D39:D90) -> 0 | E15: =SUM(E39:E90) -> 0 | F15: =SUM(C15:E15) -> 131
B17: SECCIÓN Y DIVISIÓN
B18: 01 Agricultura, ganadería, caza y servicios relacionados con las mismas | C18: 7 | D18: 0 | E18: 0 | F18: =SUM(C18:E18) -> 7
B19: 02 Silvicultura y explotación forestal | C19: 1 | D19: 0 | E19: 0 | F19: =SUM(C19:E19) -> 1
B20: 10 Industria de la alimentación | C20: 13 | D20: 0 | E20: 0 | F20: =SUM(C20:E20) -> 13
B21: 11 Fabricación de bebidas | C21: 2 | D21: 0 | E21: 0 | F21: =SUM(C21:E21) -> 2
B22: 13 Industria textil | C22: 1 | D22: 0 | E22: 0 | F22: =SUM(C22:E22) -> 1
B23: 15 Industria del cuero y del calzado | C23: 9 | D23: 0 | E23: 0 | F23: =SUM(C23:E23) -> 9
B24: 16 Industria de la madera y del corcho, excepto muebles cestería y espartería | C24: 2 | D24: 0 | E24: 1 | F24: =SUM(C24:E24) -> 3
B25: 17 Industria del papel | C25: 1 | D25: 0 | E25: 0 | F25: =SUM(C25:E25) -> 1
B26: 18 Artes gráficas y reproducción de soportes grabados | C26: 1 | D26: 0 | E26: 0 | F26: =SUM(C26:E26) -> 1
B27: 20 Industria química | C27: 1 | D27: 0 | E27: 0 | F27: =SUM(C27:E27) -> 1
B28: 22 Fabricación de productos de caucho y plásticos | C28: 8 | D28: 0 | E28: 0 | F28: =SUM(C28:E28) -> 8
B29: 23 Fabricación de otros productos minerales no metálicos | C29: 1 | D29: 0 | E29: 0 | F29: =SUM(C29:E29) -> 1
... B56: 93 Actividades deportivas, recreativas y de entretenimiento | C56: 2 | D56: 0 | E56: 0 | F56: =SUM(C56:E56) -> 2

Sheet ATR-A3
A1: ACCIDENTES DE TRABAJO | G1: Volver al índice
A3: ATR-A3. ACCIDENTES DE TRABAJO CON BAJA, EN JORNADA, SEGÚN GRAVEDAD,
A4: POR SEXO Y EDAD DEL TRABAJADOR ACCIDENTADO
A6: enero-junio 2021
B8: Leves | C8: Graves | D8: Mortales | E8: TOTAL
A9: TOTAL | B9: =SUM(B10:B21) -> 2005 | C9: =SUM(C10:C21) -> 18 | D9: =SUM(D10:D21) -> 3 | E9: =SUM(E10:E21) -> 2026
A10: De 16 a 19 | B10: 24 | C10: 1 | D10: 0 | E10: =SUM(B10:D10) -> 25
A11: De 20 a 24 | B11: 136 | C11: 0 | D11: 1 | E11: =SUM(B11:D11) -> 137
A12: De 25 a 29 | B12: 159 | C12: 0 | D12: 0 | E12: =SUM(B12:D12) -> 159
A13: De 30 a 34 | B13: 217 | C13: 2 | D13: 0 | E13: =SUM(B13:D13) -> 219
A14: De 35 a 39 | B14: 265 | C14: 1 | D14: 0 | E14: =SUM(B14:D14) -> 266
A15: De 40 a 44 | B15: 294 | C15: 3 | D15: 0 | E15: =SUM(B15:D15) -> 297
A16: De 45 a 49 | B16: 313 | C16: 2 | D16: 1 | E16: =SUM(B16:D16) -> 316
A17: De 50 a 54 | B17: 279 | C17: 3 | D17: 0 | E17: =SUM(B17:D17) -> 282
A18: De 55 a 59 | B18: 206 | C18: 6 | D18: 1 | E18: =SUM(B18:D18) -> 213
A19: De 60 a 64 | B19: 102 | C19: 0 | D19: 0 | E19: =SUM(B19:D19) -> 102
A20: 65 o más años | B20: 10 | C20: 0 | D20: 0 | E20: =SUM(B20:D20) -> 10
A23: VARONES | B23: =SUM(B24:B34) -> 1433 | C23: =SUM(C24:C34) -> 18 | D23: =SUM(D24:D34) -> 2 | E23: =SUM(E24:E35) -> 1453
A24: De 16 a 19 | B24: 20 | C24: 1 | D24: 0 | E24: =SUM(B24:D24) -> 21
A25: De 20 a 24 | B25: 109 | C25: 0 | D25: 1 | E25: =SUM(B25:D25) -> 110
A26: De 25 a 29 | B26: 122 | C26: 0 | D26: 0 | E26: =SUM(B26:D26) -> 122
A27: De 30 a 34 | B27: 164 | C27: 2 | D27: 0 | E27: =SUM(B27:D27) -> 166
A28: De 35 a 39 | B28: 192 | C28: 1 | D28: 0 | E28: =SUM(B28:D28) -> 193
A29: De 40 a 44 | B29: 206 | C29: 3 | D29: 0 | E29: =SUM(B29:D29) -> 209
A30: De 45 a 49 | B30: 211 | C30: 2 | D30: 0 | E30: =SUM(B30:D30) -> 213
A31: De 50 a 54 | B31: 191 | C31: 3 | D31: 0 | E31: =SUM(B31:D31) -> 194
A32: De 55 a 59 | B32: 147 | C32: 6 | D32: 1 | E32: =SUM(B32:D32) -> 154
A33: De 60 a 64 | B33: 64 | C33: 0 | D33: 0 | E33: =SUM(B33:D33) -> 64
A34: 65 o más años | B34: 7 | C34: 0 | D34: 0 | E34: =SUM(B34:D34) -> 7
A37: MUJERES | B37: =SUM(B38:B48) -> 572 | C37: =SUM(C38:C48) -> 0 | D37: =SUM(D38:D48) -> 1 | E37: =SUM(E38:E49) -> 573
A38: De 16 a 19 | B38: =B10-B24 -> 4 | C38: =C10-C24 -> 0 | D38: =D10-D24 -> 0 | E38: =E10-E24 -> 4
A39: De 20 a 24 | B39: =B11-B25 -> 27 | C39: =C11-C25 -> 0 | D39: =D11-D25 -> 0 | E39: =E11-E25 -> 27
A40: De 25 a 29 | B40: =B12-B26 -> 37 | C40: =C12-C26 -> 0 | D40: =D12-D26 -> 0 | E40: =E12-E26 -> 37
A41: De 30 a 34 | B41: =B13-B27 -> 53 | C41: =C13-C27 -> 0 | D41: =D13-D27 -> 0 | E41: =E13-E27 -> 53
A42: De 35 a 39 | B42: =B14-B28 -> 73 | C42: =C14-C28 -> 0 | D42: =D14-D28 -> 0 | E42: =E14-E28 -> 73
A43: De 40 a 44 | B43: =B15-B29 -> 88 | C43: =C15-C29 -> 0 | D43: =D15-D29 -> 0 | E43: =E15-E29 -> 88
A44: De 45 a 49 | B44: =B16-B30 -> 102 | C44: =C16-C30 -> 0 | D44: =D16-D30 -> 1 | E44: =E16-E30 -> 103
A45: De 50 a 54 | B45: =B17-B31 -> 88 | C45: =C17-C31 -> 0 | D45: =D17-D31 -> 0 | E45: =E17-E31 -> 88
A46: De 55 a 59 | B46: =B18-B32 -> 59 | C46: =C18-C32 -> 0 | D46: =D18-D32 -> 0 | E46: =E18-E32 -> 59
A47: De 60 a 64 | B47: =B19-B33 -> 38 | C47: =C19-C33 -> 0 | D47: =D19-D33 -> 0 | E47: =E19-E33 -> 38
...

Sheet ATR-A3_II
A1: ACCIDENTES DE TRABAJO | G1: Volver al índice
A3: ATR-A3_II. ACCIDENTES DE TRABAJO CON BAJA, IN ITINERE, SEGÚN GRAVEDAD,
A4: POR SEXO Y EDAD DEL TRABAJADOR ACCIDENTADO
A6: enero-junio 2021
B8: Leves | C8: Graves | D8: Mortales | E8: TOTAL
A9: TOTAL | B9: =SUM(B10:B20) -> 202 | C9: =SUM(C10:C20) -> 0 | D9: =SUM(D10:D20) -> 1 | E9: =SUM(E10:E20) -> 203
A10: De 16 a 19 | B10: 3 | C10: 0 | D10: 0 | E10: =SUM(B10:D10) -> 3
A11: De 20 a 24 | B11: 15 | C11: 0 | D11: 0 | E11: =SUM(B11:D11) -> 15
A12: De 25 a 29 | B12: 22 | C12: 0 | D12: 0 | E12: =SUM(B12:D12) -> 22
A13: De 30 a 34 | B13: 22 | C13: 0 | D13: 0 | E13: =SUM(B13:D13) -> 22
A14: De 35 a 39 | B14: 28 | C14: 0 | D14: 0 | E14: =SUM(B14:D14) -> 28
A15: De 40 a 44 | B15: 19 | C15: 0 | D15: 0 | E15: =SUM(B15:D15) -> 19
A16: De 45 a 49 | B16: 32 | C16: 0 | D16: 0 | E16: =SUM(B16:D16) -> 32
A17: De 50 a 54 | B17: 21 | C17: 0 | D17: 0 | E17: =SUM(B17:D17) -> 21
A18: De 55 a 59 | B18: 27 | C18: 0 | D18: 1 | E18: =SUM(B18:D18) -> 28
A19: De 60 a 64 | B19: 12 | C19: 0 | D19: 0 | E19: =SUM(B19:D19) -> 12
A20: 65 o más años | B20: 1 | C20: 0 | D20: 0 | E20: =SUM(B20:D20) -> 1
A22: HOMBRES | B22: =SUM(B23:B33) -> 94 | C22: =SUM(C23:C33) -> 0 | D22: =SUM(D23:D33) -> 1 | E22: =SUM(E23:E33) -> 95
A23: De 16 a 19 | B23: 2 | C23: 0 | D23: 0 | E23: =SUM(B23:D23) -> 2
A24: De 20 a 24 | B24: 12 | C24: 0 | D24: 0 | E24: =SUM(B24:D24) -> 12
A25: De 25 a 29 | B25: 8 | C25: 0 | D25: 0 | E25: =SUM(B25:D25) -> 8
A26: De 30 a 34 | B26: 12 | C26: 0 | D26: 0 | E26: =SUM(B26:D26) -> 12
A27: De 35 a 39 | B27: 12 | C27: 0 | D27: 0 | E27: =SUM(B27:D27) -> 12
A28: De 40 a 44 | B28: 7 | C28: 0 | D28: 0 | E28: =SUM(B28:D28) -> 7
A29: De 45 a 49 | B29: 18 | C29: 0 | D29: 0 | E29: =SUM(B29:D29) -> 18
A30: De 50 a 54 | B30: 10 | C30: 0 | D30: 0 | E30: =SUM(B30:D30) -> 10
A31: De 55 a 59 | B31: 7 | C31: 0 | D31: 1 | E31: =SUM(B31:D31) -> 8
A32: De 60 a 64 | B32: 5 | C32: 0 | D32: 0 | E32: =SUM(B32:D32) -> 5
A33: 65 o más años | B33: 1 | C33: 0 | D33: 0 | E33: =SUM(B33:D33) -> 1
A35: MUJERES | B35: =SUM(B36:B47) -> 108 | C35: =SUM(C37:C47) -> 0 | D35: =SUM(D37:D47) -> 0 | E35: =SUM(B35:D35) -> 108
A36: De 16 a 19 | B36: =B10-B23 -> 1 | C36: =C10-C23 -> 0 | D36: =D10-D23 -> 0 | E36: =E10-E23 -> 1
A37: De 20 a 24 | B37: =B11-B24 -> 3 | C37: =C11-C24 -> 0 | D37: =D11-D24 -> 0 | E37: =E11-E24 -> 3
A38: De 25 a 29 | B38: =B12-B25 -> 14 | C38: =C12-C25 -> 0 | D38: =D12-D25 -> 0 | E38: =E12-E25 -> 14
A39: De 30 a 34 | B39: =B13-B26 -> 10 | C39: =C13-C26 -> 0 | D39: =D13-D26 -> 0 | E39: =E13-E26 -> 10
A40: De 35 a 39 | B40: =B14-B27 -> 16 | C40: =C14-C27 -> 0 | D40: =D14-D27 -> 0 | E40: =E14-E27 -> 16
A41: De 40 a 44 | B41: =B15-B28 -> 12 | C41: =C15-C28 -> 0 | D41: =D15-D28 -> 0 | E41: =E15-E28 -> 12
A42: De 45 a 49 | B42: =B16-B29 -> 14 | C42: =C16-C29 -> 0 | D42: =D16-D29 -> 0 | E42: =E16-E29 -> 14
A43: De 50 a 54 | B43: =B17-B30 -> 11 | C43: =C17-C30 -> 0 | D43: =D17-D30 -> 0 | E43: =E17-E30 -> 11
A44: De 55 a 59 | B44: =B18-B31 -> 20 | C44: =C18-C31 -> 0 | D44: =D18-D31 -> 0 | E44: =E18-E31 -> 20
A45: De 60 a 64 | B45: =B19-B32 -> 7 | C45: =C19-C32 -> 0 | D45: =D19-D32 -> 0 | E45: =E19-E32 -> 7
...

Sheet ATR-A4
A1: ACCIDENTES DE TRABAJO | F1: Volver al índice
A3: ATR-A4. ACCIDENTES DE TRABAJO CON BAJA, EN JORNADA , SEGÚN GRAVEDAD,
A4: POR GRANDES GRUPOS DE OCUPACIÓN
A6: enero-junio 2021
B8: Leves | C8: Graves | D8: Mortales | E8: TOTAL
A9: TOTAL | B9: =SUM(B11:B26) -> 2005 | C9: =SUM(C11:C26) -> 18 | D9: =SUM(D11:D26) -> 3 | E9: =SUM(B9:D9) -> 2026
A11: A- Directores y gerentes | B11: 12 | C11: 0 | D11: 1 | E11: =SUM(B11:D11) -> 13
A12: B- Técnicos y profesionales científicos e intelectuales de la salud y la enseñanza | B12: 62 | C12: 0 | D12: 0 | E12: =SUM(B12:D12) -> 62
A13: C- Otros técnicos y profesionales científicos e intelectuales | B13: 10 | C13: 1 | D13: 0 | E13: =SUM(B13:D13) -> 11
A14: D- Técnicos y profesionales de apoyo | B14: 92 | C14: 0 | D14: 0 | E14: =SUM(B14:D14) -> 92
A15: E- Empleados de oficina que no atienden al público | B15: 17 | C15: 0 | D15: 0 | E15: =SUM(B15:D15) -> 17
A16: F- Empleados de oficina que atienden al público | B16: 17 | C16: 0 | D16: 0 | E16: =SUM(B16:D16) -> 17
A17: G- Trabajadores de los servicios de restauración y comercio | B17: 141 | C17: 0 | D17: 0 | E17: =SUM(B17:D17) -> 141
A18: H- Trabajadores cualificados en el sector agrícola, ganadero, forestal y pesquero | B18: 168 | C18: 0 | D18: 0 | E18: =SUM(B18:D18) -> 168
A19: I- Trabajadores de los servicios de protección y seguridad | B19: 26 | C19: 0 | D19: 0 | E19: =SUM(B19:D19) -> 26
A20: J- Trabajadores cualificados en el sector agrícola, ganadero, forestal y pesquero | B20: 61 | C20: 1 | D20: 0 | E20: =SUM(B20:D20) -> 62
A21: K- Trabajadores cualificados de la construcción, excepto operadores de máquinas | B21: 211 | C21: 5 | D21: 0 | E21: =SUM(B21:D21) -> 216
A22: L- Trabajadores cualificados de las industrias manufactureras, excepto operadores de instalaciones y máquinas | B22: 415 | C22: 4 | D22: 0 | E22: =SUM(B22:D22) -> 419
... A27: Q- Ocupaciones militares | B27: 0 | C27: 0 | D27: 0 | E27: =SUM(B27:D27) -> 0

Sheet ATR-A4_II
A1: ACCIDENTES DE TRABAJO | F1: Volver al índice
A3: ATR-A4__II. ACCIDENTES DE TRABAJO CON BAJA, IN ITINERE, SEGÚN GRAVEDAD,
A4: POR GRANDES GRUPOS DE OCUPACIÓN
A6: enero-junio 2021
B8: Leves | C8: Graves | D8: Mortales | E8: TOTAL
A9: TOTAL | B9: =SUM(B10:B25) -> 202 | C9: =SUM(C11:C25) -> 0 | D9: =SUM(D11:D25) -> 1 | E9: =SUM(B9:D9) -> 203
A10: A- Directores y gerentes | B10: 6 | C10: 0 | D10: 0 | E10: =SUM(B10:D10) -> 6
A11: B- Técnicos y profesionales científicos e intelectuales de la salud y la enseñanza | B11: 15 | C11: 0 | D11: 0 | E11: =SUM(B11:D11) -> 15
A12: C- Otros técnicos y profesionales científicos e intelectuales | B12: 2 | C12: 0 | D12: 0 | E12: =SUM(B12:D12) -> 2
A13: D- Técnicos y profesionales de apoyo | B13: 7 | C13: 0 | D13: 0 | E13: =SUM(B13:D13) -> 7
A14: E- Empleados de oficina que no atienden al público | B14: 10 | C14: 0 | D14: 0 | E14: =SUM(B14:D14) -> 10
A15: F- Empleados de oficina que atienden al público | B15: 5 | C15: 0 | D15: 0 | E15: =SUM(B15:D15) -> 5
A16: G- Trabajadores de los servicios de restauración y comercio | B16: 25 | C16: 0 | D16: 0 | E16: =SUM(B16:D16) -> 25
A17: H- Trabajadores cualificados en el sector agrícola, ganadero, forestal y pesquero | B17: 23 | C17: 0 | D17: 0 | E17: =SUM(B17:D17) -> 23
A18: I- Trabajadores de los servicios de protección y seguridad | B18: 2 | C18: 0 | D18: 0 | E18: =SUM(B18:D18) -> 2
A19: J- Trabajadores cualificados en el sector agrícola, ganadero, forestal y pesquero | B19: 3 | C19: 0 | D19: 0 | E19: =SUM(B19:D19) -> 3
A20: K- Trabajadores cualificados de la construcción, excepto operadores de máquinas | B20: 7 | C20: 0 | D20: 0 | E20: =SUM(B20:D20) -> 7
A21: L- Trabajadores cualificados de las industrias manufactureras, excepto operadores de instalaciones y máquinas | B21: 35 | C21: 0 | D21: 1 | E21: =SUM(B21:D21) -> 36
... A25: P- Peones de la agricultura, pesca, construcción, industrias manufactureras y transportes | B25: 27 | C25: 0 | D25: 0 | E25: =SUM(B25:D25) -> 27
A26: Se incluyen los accidentes que han causado baja en el periodo de referencia, recepcionados por la Autoridad Laboral Provincial (véanse Fuentes y Notas Explicativas). | B26: 0 | C26: 0

Sheet ATR-A5
A1: ACCIDENTES DE TRABAJO | F1: Volver al índice
A3: ATR-A5. ACCIDENTES DE TRABAJO CON BAJA, EN JORNADA, SEGÚN GRAVEDAD,
A4: POR TIPO DE LUGAR DONDE SE ENCONTRABA EL TRABAJADOR ACCIDENTADO
A6: enero-junio 2021
B8: Leves | C8: Graves | D8: Mortales | E8: TOTAL
A9: TOTAL | B9: =SUM(B12:B14) -> 2005 | C9: =SUM(C12:C14) -> 18 | D9: =SUM(D12:D14) -> 3 | E9: =SUM(B9:D9) -> 2026
A11: TIPO DE LUGAR GENERAL
A12: En centro habitual | B12: 1807 | C12: 11 | D12: 2 | E12: =SUM(B12:D12) -> 1820
A13: En desplazamiento | B13: 97 | C13: 2 | D13: 1 | E13: =SUM(B13:D13) -> 100
A14: En otro centro | B14: 101 | C14: 5 | D14: 0 | E14: =SUM(B14:D14) -> 106
A16: TIPO DE LUGAR DETALLADO
A17: 000.- Ninguna información | B17: 5 | C17: 0 | D17: 0 | E17: =SUM(B17:D17) -> 5
A18: 011.- Lugar de producción, taller, fábrica | B18: 728 | C18: 6 | D18: 0 | E18: =SUM(B18:D18) -> 734
A19: 012.- Área de mantenimiento, taller de reparación | B19: 67 | C19: 1 | D19: 0 | E19: =SUM(B19:D19) -> 68
A20: 013.- Áreas destinadas principalmente a almacenamiento, carga, descarga | B20: 176 | C20: 1 | D20: 0 | E20: =SUM(B20:D20) -> 177
A21: 019.- Otros Tipos de lugar conocidos del grupo 010, pero no mencionados anteriormente | B21: 23 | C21: 1 | D21: 0 | E21: =SUM(B21:D21) -> 24
A22: 021.- Obras (edificio en construcción) | B22: 133 | C22: 2 | D22: 0 | E22: =SUM(B22:D22) -> 135
A23: 022.- Obras (edificio en demolición, renovación o mantenimiento) | B23: 42 | C23: 1 | D23: 0 | E23: =SUM(B23:D23) -> 43
A24: 023.- Cantera, mina a cielo abierto, excavación, zanja (incluidas las minas a cielo abierto y la canteras en explotación) | B24: 6 | C24: 0 | D24: 0 | E24: =SUM(B24:D24) -> 6
A25: 024.- Obras subterráneas | B25: 1 | C25: 0 | D25: 0 | E25: =SUM(B25:D25) -> 1
A26: 029.- Otros tipos de lugar conocidos del grupo 020, pero no mencionados anteriormente | B26: 10 | C26: 0 | D26: 0 | E26: =SUM(B26:D26) -> 10
A27: 031.- Lugares de cría de animales | B27: 14 | C27: 0 | D27: 0 | E27: =SUM(B27:D27) -> 14
A28: 032.- Lugares agrícolas (cultivo del suelo) | B28: 34 | C28: 1 | D28: 0 | E28: =SUM(B28:D28) -> 35
... A52: 999.- Otros Tipos de lugar no codificados en esta clasificación | B52: 2 | C52: 0 | D52: 0 | E52: =SUM(B52:D52) -> 2

Sheet ATR-A5_II
A1: ACCIDENTES DE TRABAJO | F1: Volver al índice
A3: ATR-A5_II. ACCIDENTES DE TRABAJO CON BAJA, IN ITINERE, SEGÚN GRAVEDAD,
A4: POR TIPO DE LUGAR DONDE SE ENCONTRABA EL TRABAJADOR ACCIDENTADO
A6: enero-junio 2021
B8: Leves | C8: Graves | D8: Mortales | E8: TOTAL
A9: TOTAL | B9: =SUM(B12:B30) -> 202 | C9: =SUM(C12:C30) -> 0 | D9: =SUM(D12:D30) -> 1 | E9: =SUM(E12:E30) -> 203
A11: TIPO DE LUGAR DETALLADO
A12: 011.- Lugar de producción, taller, fábrica | B12: 3 | C12: 0 | D12: 0 | E12: =SUM(B12:D12) -> 3
A13: 019.- Otros Tipos de lugar conocidos del grupo 010, pero no mencionados anteriormente | B13: 7 | C13: 0 | D13: 0 | E13: =SUM(B13:D13) -> 7
A14: 029.- Otros tipos de lugar conocidos del grupo 020, pero no mencionados anteriormente | B14: 1 | C14: 0 | D14: 0 | E14: =SUM(B14:D14) -> 1
A15: 043.- Lugares de venta, pequeños o grandes (incluida la venta ambulante) | B15: 5 | C15: 0 | D15: 0 | E15: =SUM(B15:D15) -> 5
A16: 051.- Centros sanitarios, clínicas, hospitales, guarderías | B16: 1 | C16: 0 | D16: 0 | E16: =SUM(B16:D16) -> 1
A17: 061.- Lugares abiertos permanentemente al público (vías de acceso, de circulación, zona de estacionamiento, sala de espera de estación aeropuerto, etc.) | B17: 114 | C17: 0 | D17: 0 | E17: =SUM(B17:D17) -> 114
A18: 062.- Medio de transporte. Terrestre, carretera o ferrocarril.Privado o público (sea cual fuere tren, autobús, automóvil, etc.) | B18: 50 | C18: 0 | D18: 0 | E18: =SUM(B18:D18) -> 50
A19: 063.- Zona aneja a lugares públicos con acceso reservado al personal autorizado (vía de ferrocarril, pavimento de aeródromo, arcén de autopista) | B19: 1 | C19: 0 | D19: 0 | E19: =SUM(B19:D19) -> 1
A20: 069.- Otros Tipos de lugar conocidos del grupo 060, pero no mencionados anteriormente | B20: 5 | C20: 0 | D20: 0 | E20: =SUM(B20:D20) -> 5
A21: 071.- Domicilio privado | B21: 5 | C21: 0 | D21: 0 | E21: =SUM(B21:D21) -> 5
A22: 072.- Partes comunes, anexos, jardines colindantes privados | B22: 4 | C22: 0 | D22: 1 | E22: =SUM(B22:D22) -> 5
A23: 079.- Otros Tipos de lugar conocidos del grupo 070, pero no mencionados anteriormente | B23: 1 | C23: 0 | D23: 0 | E23: =SUM(B23:D23) -> 1
... A26: 999.- Otros Tipos de lugar no codificados en esta clasificación | B26: 2 | C26: 0 | D26: 0 | E26: =SUM(B26:D26) -> 2

Sheet ATR-A6
A1: ACCIDENTES DE TRABAJO | F1: Volver al índice
A3: ATR-A6. ACCIDENTES DE TRABAJO CON BAJA, EN JORNADA, SEGÚN GRAVEDAD,
A4: POR ACTIVIDAD FÍSICA QUE REALIZABA EL TRABAJADOR ACCIDENTADO
A6: enero-junio 2021
B8: Leves | C8: Graves | D8: Mortales | E8: TOTAL
A9: TOTAL | B9: =SUM(B11:B59) -> 2005 | C9: =SUM(C11:C59) -> 18 | D9: =SUM(D11:D59) -> 3 | E9: =SUM(E11:E59) -> 2026
A11: 00.- Ninguna información | B11: 5 | C11: 0 | D11: 0 | E11: =SUM(B11:D11) -> 5
A12: 11.- Arrancar la máquina, parar la máquina | B12: 9 | C12: 0 | D12: 0 | E12: =SUM(B12:D12) -> 9
A13: 12.- Alimentar la máquina, vaciar la máquina | B13: 41 | C13: 0 | D13: 0 | E13: =SUM(B13:D13) -> 41
A14: 13.- Vigilar la máquina, hacer funcionar - conducir la máquina | B14: 40 | C14: 2 | D14: 0 | E14: =SUM(B14:D14) -> 42
A15: 19.- Otra actividad física específica conocida del grupo 10 pero no mencionada anteriormente | B15: 40 | C15: 0 | D15: 0 | E15: =SUM(B15:D15) -> 40
A16: 21.- Trabajar con herramientas manuales sin motor | B16: 219 | C16: 3 | D16: 1 | E16: =SUM(B16:D16) -> 223
A17: 22.- Trabajar con herramientas manuales con motor | B17: 69 | C17: 0 | D17: 0 | E17: =SUM(B17:D17) -> 69
A18: 29.- Otra actividad física específica conocida del grupo 20 pero no mencionada anteriormente | B18: 16 | C18: 0 | D18: 0 | E18: =SUM(B18:D18) -> 16
A19: 31.- Conducir un medio de transporte o un equipo de carga - móvil y con motor | B19: 48 | C19: 2 | D19: 1 | E19: =SUM(B19:D19) -> 51
A20: 32.- Conducir un medio de transporte o un equipo de carga - móvil y sin motor | B20: 9 | C20: 0 | D20: 0 | E20: =SUM(B20:D20) -> 9
A21: 33.- Ser pasajero a bordo de un medio de transporte | B21: 3 | C21: 0 | D21: 0 | E21: =SUM(B21:D21) -> 3
A22: 39.- Otra actividad física específica conocida del grupo 30 pero no mencionada anteriormente | B22: 3 | C22: 1 | D22: 0 | E22: =SUM(B22:D22) -> 4
... A43: 99.- Otra actividad física específica no codificada en esta clasificac | B43: 10 | C43: 1 | D43: 0 | E43: =SUM(B43:D43) -> 11

Sheet ATR-A6_II
A1: ACCIDENTES DE TRABAJO | F1: Volver al índice
A3: ATR-A6_II. ACCIDENTES DE TRABAJO CON BAJA, IN ITINERE, SEGÚN GRAVEDAD,
A4: POR ACTIVIDAD FÍSICA QUE REALIZABA EL TRABAJADOR ACCIDENTADO
A6: enero-junio 2021
B8: Leves | C8: Graves | D8: Mortales | E8: TOTAL
A9: TOTAL | B9: =SUM(B11:B26) -> 202 | C9: =SUM(C11:C26) -> 0 | D9: =SUM(D11:D26) -> 1 | E9: =SUM(E11:E26) -> 203
A11: 00.- Ninguna información | B11: 3 | C11: 0 | D11: 0 | E11: =SUM(B11:D11) -> 3
A12: 31.- Conducir un medio de transporte o un equipo de carga - móvil y con motor | B12: 82 | C12: 0 | D12: 0 | E12: =SUM(B12:D12) -> 82
A13: 32.- Conducir un medio de transporte o un equipo de carga - móvil y sin motor | B13: 15 | C13: 0 | D13: 0 | E13: =SUM(B13:D13) -> 15
A14: 33.- Ser pasajero a bordo de un medio de transporte | B14: 14 | C14: 0 | D14: 0 | E14: =SUM(B14:D14) -> 14
A15: 39.- Otra actividad física específica conocida del grupo 30 pero no mencionada anteriormente | B15: 1 | C15: 0 | D15: 0 | E15: =SUM(B15:D15) -> 1
A16: 41.- Coger con la mano, agarrar, asir, sujetar en la mano, poner - en un plano horizontal | B16: 1 | C16: 0 | D16: 0 | E16: =SUM(B16:D16) -> 1
A17: 45.- Abrir, cerrar (una caja, un embalaje, un paquete) | B17: 1 | C17: 0 | D17: 0 | E17: =SUM(B17:D17) -> 1
A18: 49.- Otra actividad física específica conocida del grupo 40 pero no mencionada anteriormente | B18: 1 | C18: 0 | D18: 0 | E18: =SUM(B18:D18) -> 1
A19: 59.- Otra actividad física específica conocida del grupo 50 pero no mencionada anteriormente | B19: 1 | C19: 0 | D19: 0 | E19: =SUM(B19:D19) -> 1
A20: 61.- Andar, correr, subir, bajar, etc | B20: 63 | C20: 0 | D20: 0 | E20: =SUM(B20:D20) -> 63
A21: 62.- Entrar, salir | B21: 8 | C21: 0 | D21: 0 | E21: =SUM(B21:D21) -> 8
A22: 65.- Levantarse, sentarse, etc | B22: 1 | C22: 0 | D22: 0 | E22: =SUM(B22:D22) -> 1
... A25: 99.- Otra actividad física específica no codificada en esta clasificac | B25: 1 | C25: 0 | D25: 0 | E25: =SUM(B25:D25) -> 1

Sheet ATR-A7
A1: ACCIDENTES DE TRABAJO | F1: Volver al índice
A3: ATR-A7. ACCIDENTES DE TRABAJO CON BAJA, EN JORNADA, SEGÚN GRAVEDAD,
A4: POR DESVIACIÓN QUE PRODUJO EL ACCIDENTE
A6: enero-junio 2021
B8: Leves | C8: Graves | D8: Mortales | E8: TOTAL
A9: TOTAL | B9: =SUM(B11:B56) -> 2005 | C9: =SUM(C11:C56) -> 18 | D9: =SUM(D11:D56) -> 3 | E9: =SUM(E11:E56) -> 2026
A11: 00.- Ninguna información | B11: 21 | C11: 1 | D11: 0 | E11: =SUM(B11:D11) -> 22
A12: 11.- Problema eléctrico causado por fallo en la instalación-que da lugar a un contacto indirecto | B12: 1 | C12: 0 | D12: 0 | E12: =SUM(B12:D12) -> 1
A13: 12.- Problema eléctrico-que da lugar a un contacto directo | B13: 1 | C13: 0 | D13: 0 | E13: =SUM(B13:D13) -> 1
A14: 13.- Explosión | B14: 2 | C14: 1 | D14: 0 | E14: =SUM(B14:D14) -> 3
A15: 14.- Incendio, fuego | B15: 2 | C15: 0 | D15: 0 | E15: =SUM(B15:D15) -> 2
A16: 19.- Otra desviación conocida del grupo 10 pero no mencionada anteriormente | B16: 19 | C16: 1 | D16: 0 | E16: =SUM(B16:D16) -> 20
A17: 21.- En estado de sólido-desbordamiento, vuelco | B17: 4 | C17: 0 | D17: 0 | E17: =SUM(B17:D17) -> 4
A18: 22.- En estado líquido-escape, rezumamiento, derrame, salpicadura, aspersión | B18: 19 | C18: 0 | D18: 0 | E18: =SUM(B18:D18) -> 19
A19: 23.- En estado gaseoso-vaporización, formación de aerosoles, formación de gases | B19: 1 | C19: 0 | D19: 0 | E19: =SUM(B19:D19) -> 1
A20: 24.- Pulverulento-emanación de humos, emisión de polvo, partículas | B20: 61 | C20: 1 | D20: 0 | E20: =SUM(B20:D20) -> 62
A21: 29.- Otra desviación conocida del grupo 20 pero no mencionada anteriormente | B21: 2 | C21: 0 | D21: 0 | E21: =SUM(B21:D21) -> 2
A22: 31.- Rotura de material, en las juntas, en las conexiones | B22: 8 | C22: 0 | D22: 0 | E22: =SUM(B22:D22) -> 8
... A52: 99.- Otra Desviación no codificada en esta clasificación | B52: 11 | C52: 0 | D52: 2 | E52: =SUM(B52:D52) -> 13

Sheet ATR-A7_II
A1: ACCIDENTES DE TRABAJO | F1: Volver al índice
A3: ATR-A7_II. ACCIDENTES DE TRABAJO CON BAJA,IN ITINERE, SEGÚN GRAVEDAD,
A4: POR DESVIACIÓN QUE PRODUJO EL ACCIDENTE
A6: enero-junio 2021
B8: Leves | C8: Graves | D8: Mortales | E8: TOTAL
A9: TOTAL | B9: =SUM(B11:B50) -> 202 | C9: =SUM(C11:C50) -> 0 | D9: =SUM(D11:D50) -> 1 | E9: =SUM(E11:E50) -> 203
A11: 00.- Ninguna información | B11: 3 | C11: 0 | D11: 0 | E11: =SUM(B11:D11) -> 3
A12: 31.- Rotura de material, en las juntas, en las conexiones | B12: 2 | C12: 0 | D12: 0 | E12: =SUM(B12:D12) -> 2
A13: 32.- Rotura, estallido, en fragmentos (madera, cristal, metal, piedra, plástico, otros) | B13: 2 | C13: 0 | D13: 0 | E13: =SUM(B13:D13) -> 2
A14: 34.- Resbalón, caída, derrumbamiento de agente material-inferior (que arrastra a la víctima) | B14: 4 | C14: 0 | D14: 0 | E14: =SUM(B14:D14) -> 4
A15: 35.- Resbalón, caída, derrumbamiento de agente material-al mismo nivel | B15: 3 | C15: 0 | D15: 0 | E15: =SUM(B15:D15) -> 3
A16: 41.- Pérdida (total o parcial) de control-de máquina (incluido el arranque intempestivo), así como de la materia sobre la que se trabaje con la máquina | B16: 2 | C16: 0 | D16: 0 | E16: =SUM(B16:D16) -> 2
A17: 42.- Pérdida (total o parcial) de control-de medio de transporte-de equipo de carga (con motor o sin él) | B17: 63 | C17: 0 | D17: 0 | E17: =SUM(B17:D17) -> 63
A18: 43.- Pérdida (total o parcial) de control-de herramienta manual (con motor o sin él), así como de la materia sobre la que se trabaje con la herramienta | B18: 2 | C18: 0 | D18: 0 | E18: =SUM(B18:D18) -> 2
A19: 44.- Pérdida (total o parcial) de control-de objeto (transportado, desplazado, manipulado, etc) | B19: 6 | C19: 0 | D19: 0 | E19: =SUM(B19:D19) -> 6
A20: 49.- Otra desviación conocida del grupo 40 pero no mencionada anteriormente | B20: 7 | C20: 0 | D20: 0 | E20: =SUM(B20:D20) -> 7
A21: 51.- Caída de una persona-desde una altura | B21: 2 | C21: 0 | D21: 0 | E21: =SUM(B21:D21) -> 2
A22: 52.- Resbalón o tropezón con caída-caída de una persona-al mismo nivel | B22: 58 | C22: 0 | D22: 0 | E22: =SUM(B22:D22) -> 58
... A35: 99.- Otra Desviación no codificada en esta clasificación | B35: 3 | C35: 0 | D35: 1 | E35: =SUM(B35:D35) -> 4

Sheet ATR-A8
A1: ACCIDENTES DE TRABAJO | F1: Volver al índice
A3: ATR-A8. ACCIDENTES DE TRABAJO CON BAJA, EN JORNADA, SEGÚN GRAVEDAD,
A4: POR FORMA O CONTACTO QUE PRODUJO LA LESIÓN
A6: enero-junio 2021
B8: Leves | C8: Graves | D8: Mortales | E8: TOTAL
A9: TOTAL | B9: =SUM(B11:B50) -> 2005 | C9: =SUM(C11:C50) -> 18 | D9: =SUM(D11:D50) -> 3 | E9: =SUM(E11:E50) -> 2026
A11: 00.- Ninguna información | B11: 4 | C11: 0 | D11: 0 | E11: =SUM(B11:D11) -> 4
A12: 12.- Contacto directo con la electricidad, recibir una descarga eléctrica en el cuerpo | B12: 3 | C12: 0 | D12: 0 | E12: =SUM(B12:D12) -> 3
A13: 13.- Contacto con llamas directas u objetos o entornos-con elevada temperatura o en llamas | B13: 11 | C13: 1 | D13: 0 | E13: =SUM(B13:D13) -> 12
A14: 15.- Contacto con sustancias peligrosas-a través de la nariz, la boca, por inhalación | B14: 59 | C14: 0 | D14: 0 | E14: =SUM(B14:D14) -> 59
A15: 16.- Contacto con sustancias peligrosas-sobre o a través de la piel y de los ojos | B15: 27 | C15: 0 | D15: 0 | E15: =SUM(B15:D15) -> 27
A16: 19.- Otro contacto-Tipo de lesión conocido del grupo 10 pero no mencionado anteriormente | B16: 7 | C16: 0 | D16: 0 | E16: =SUM(B16:D16) -> 7
A17: 23.- Envuelto por, rodeado de gases o de partículas en suspensión | B17: 1 | C17: 0 | D17: 0 | E17: =SUM(B17:D17) -> 1
A18: 31.- Aplastamiento sobre o contra, resultado de una caída | B18: 300 | C18: 4 | D18: 0 | E18: =SUM(B18:D18) -> 304
A19: 32.- Aplastamiento sobre o contra, resultado de un tropiezo o choque contra un objeto inmóvil | B19: 138 | C19: 0 | D19: 0 | E19: =SUM(B19:D19) -> 138
A20: 39.- Otro contacto-Tipo de lesión conocido del grupo 30 pero no mencionado anteriormente | B20: 52 | C20: 0 | D20: 0 | E20: =SUM(B20:D20) -> 52
A21: 41.- Choque o golpe contra un objeto-proyectado | B21: 34 | C21: 1 | D21: 0 | E21: =SUM(B21:D21) -> 35
A22: 42.- Choque o golpe contra un objeto-que cae | B22: 121 | C22: 0 | D22: 0 | E22: =SUM(B22:D22) -> 121
... A44: 99.- Otro contacto-Tipo de lesión no codificado en la presente clasificación | B44: 3 | C44: 0 | D44: 0 | E44: =SUM(B44:D44) -> 3

Sheet ATR-A8_II
A1: ACCIDENTES DE TRABAJO | F1: Volver al índice
A3: ATR-A8_II. ACCIDENTES DE TRABAJO CON BAJA, IN ITINERE, SEGÚN GRAVEDAD,
A4: POR FORMA O CONTACTO QUE PRODUJO LA LESIÓN
A6: enero-junio 2021
B8: Leves | C8: Graves | D8: Mortales | E8: TOTAL
A9: TOTAL | B9: =SUM(B11:B31) -> 202 | C9: =SUM(C11:C31) -> 0 | D9: =SUM(D11:D31) -> 1 | E9: =SUM(E11:E31) -> 203
A11: 00.- Ninguna información | B11: 1 | C11: 0 | D11: 0 | E11: =SUM(B11:D11) -> 1
A12: 31.- Aplastamiento sobre o contra, resultado de una caída | B12: 62 | C12: 0 | D12: 0 | E12: =SUM(B12:D12) -> 62
A13: 32.- Aplastamiento sobre o contra, resultado de un tropiezo o choque contra un objeto inmóvil | B13: 17 | C13: 0 | D13: 0 | E13: =SUM(B13:D13) -> 17
A14: 39.- Otro contacto-Tipo de lesión conocido del grupo 30 pero no mencionado anteriormente | B14: 3 | C14: 0 | D14: 0 | E14: =SUM(B14:D14) -> 3
A15: 41.- Choque o golpe contra un objeto-proyectado | B15: 2 | C15: 0 | D15: 0 | E15: =SUM(B15:D15) -> 2
A16: 42.- Choque o golpe contra un objeto-que cae | B16: 2 | C16: 0 | D16: 0 | E16: =SUM(B16:D16) -> 2
A17: 44.- Choque o golpe contra un objeto (incluidos los vehículos)-en movimiento | B17: 58 | C17: 0 | D17: 0 | E17: =SUM(B17:D17) -> 58
A18: 45.- Colisión con un objeto (incluidos los vehículos)-colisión con una persona (la víctima está en movimiento) | B18: 38 | C18: 0 | D18: 0 | E18: =SUM(B18:D18) -> 38
A19: 49.- Otro contacto-Tipo de lesión conocido del grupo 40 pero no mencionado anteriormente | B19: 5 | C19: 0 | D19: 0 | E19: =SUM(B19:D19) -> 5
A20: 59.- Otro contacto-Tipo de lesión conocido del grupo 50 pero no mencionado anteriormente | B20: 1 | C20: 0 | D20: 0 | E20: =SUM(B20:D20) -> 1
A21: 63.- Quedar atrapado, ser aplastado-entre | B21: 1 | C21: 0 | D21: 0 | E21: =SUM(B21:D21) -> 1
A22: 71.- Sobreesfuerzo físico-sobre el sistema musculoesquelético | B22: 10 | C22: 0 | D22: 0 | E22: =SUM(B22:D22) -> 10
... A25: 90.- Infartos, derrames cerebrales y otras patologías no traumáticas | B25: 0 | C25: 0 | D25: 1 | E25: =SUM(B25:D25) -> 1

Sheet ATR-A9
A1: ACCIDENTES DE TRABAJO | F1: Volver al índice
A3: ATR-A9. ACCIDENTES DE TRABAJO CON BAJA, EN JORNADA, SEGÚN GRAVEDAD,
A4: POR DESCRIPCIÓN DE LA LESIÓN
A6: enero-junio 2021
B7: EN JORNADA
B8: Leves | C8: Graves | D8: Mortales | E8: TOTAL
A9: TOTAL | B9: =SUM(B11:B42) -> 2005 | C9: =SUM(C11:C42) -> 18 | D9: =SUM(D11:D42) -> 3 | E9: =SUM(E11:E42) -> 2026
A11: 000.- Tipo de lesión desconocida o sin especificar | B11: 47 | C11: 0 | D11: 0 | E11: =SUM(B11:D11) -> 47
A12: 011.- Lesiones superficiales | B12: 235 | C12: 0 | D12: 0 | E12: =SUM(B12:D12) -> 235
A13: 012.- Heridas abiertas | B13: 212 | C13: 2 | D13: 0 | E13: =SUM(B13:D13) -> 214
A14: 019.- Otros tipos de heridas y lesiones superficiales | B14: 312 | C14: 0 | D14: 0 | E14: =SUM(B14:D14) -> 312
A15: 021.- Fracturas cerradas | B15: 93 | C15: 1 | D15: 0 | E15: =SUM(B15:D15) -> 94
A16: 022.- Fracturas abiertas | B16: 8 | C16: 1 | D16: 0 | E16: =SUM(B16:D16) -> 9
A17: 029.- Otros tipos de fracturas de huesos | B17: 18 | C17: 0 | D17: 0 | E17: =SUM(B17:D17) -> 18
A18: 031.- Dislocaciones y subluxaciones | B18: 128 | C18: 0 | D18: 0 | E18: =SUM(B18:D18) -> 128
A19: 032.- Esguinces y torceduras | B19: 376 | C19: 1 | D19: 0 | E19: =SUM(B19:D19) -> 377
A20: 039.- Otros tipos de dislocaciones, esguinces y torceduras | B20: 237 | C20: 0 | D20: 0 | E20: =SUM(B20:D20) -> 237
A21: 040.- Amputaciones traumáticas (pérdida de partes del cuerpo) | B21: 8 | C21: 4 | D21: 0 | E21: =SUM(B21:D21) -> 12
A22: 051.- Conmociones y lesiones intracraneales | B22: 2 | C22: 0 | D22: 0 | E22: =SUM(B22:D22) -> 2
... A39: 999.- Otras lesiones especificadas no incluidas en otros apartados | B39: 31 | C39: 0 | D39: 0 | E39: =SUM(B39:D39) -> 31

Sheet ATR-A9_II
A1: ACCIDENTES DE TRABAJO | F1: Volver al índice
A3: ATR-A9_II. ACCIDENTES DE TRABAJO CON BAJA, IN ITINERE, SEGÚN GRAVEDAD,
A4: POR DESCRIPCIÓN DE LA LESIÓN
A6: enero-junio 2021
B8: Leves | C8: Graves | D8: Mortales | E8: TOTAL
A9: TOTAL | B9: =SUM(B11:B28) -> 202 | C9: =SUM(C11:C28) -> 0 | D9: =SUM(D11:D28) -> 1 | E9: =SUM(E11:E28) -> 203
A11: 000.- Tipo de lesión desconocida o sin especificar | B11: 9 | C11: 0 | D11: 0 | E11: =SUM(B11:D11) -> 9
A12: 011.- Lesiones superficiales | B12: 18 | C12: 0 | D12: 0 | E12: =SUM(B12:D12) -> 18
A13: 012.- Heridas abiertas | B13: 4 | C13: 0 | D13: 0 | E13: =SUM(B13:D13) -> 4
A14: 019.- Otros tipos de heridas y lesiones superficiales | B14: 33 | C14: 0 | D14: 0 | E14: =SUM(B14:D14) -> 33
A15: 021.- Fracturas cerradas | B15: 15 | C15: 0 | D15: 0 | E15: =SUM(B15:D15) -> 15
A16: 022.- Fracturas abiertas | B16: 1 | C16: 0 | D16: 0 | E16: =SUM(B16:D16) -> 1
A17: 029.- Otros tipos de fracturas de huesos | B17: 4 | C17: 0 | D17: 0 | E17: =SUM(B17:D17) -> 4
A18: 031.- Dislocaciones y subluxaciones | B18: 10 | C18: 0 | D18: 0 | E18: =SUM(B18:D18) -> 10
A19: 032.- Esguinces y torceduras | B19: 47 | C19: 0 | D19: 0 | E19: =SUM(B19:D19) -> 47
A20: 039.- Otros tipos de dislocaciones, esguinces y torceduras | B20: 23 | C20: 0 | D20: 0 | E20: =SUM(B20:D20) -> 23
A21: 051.- Conmociones y lesiones intracraneales | B21: 1 | C21: 0 | D21: 0 | E21: =SUM(B21:D21) -> 1
A22: 052.- Lesiones internas | B22: 21 | C22: 0 | D22: 0 | E22: =SUM(B22:D22) -> 21
... A28: 999.- Otras lesiones especificadas no incluidas en otros apartados | B28: 3 | C28: 0 | D28: 0 | E28: =SUM(B28:D28) -> 3

Sheet ATR-A10
A1: ACCIDENTES DE TRABAJO | F1: Volver al índice
A3: ATR-A10. ACCIDENTES DE TRABAJO CON BAJA, EN JORNADA, SEGÚN GRAVEDAD,
A4: POR PARTE DEL CUERPO LESIONADA
A6: enero-junio 2021
B8: Leves | C8: Graves | D8: Mortales | E8: TOTAL
A9: TOTAL | B9: =SUM(B11:B45) -> 2005 | C9: =SUM(C11:C45) -> 18 | D9: =SUM(D11:D45) -> 3 | E9: =SUM(E11:E45) -> 2026
A11: 11.- Cabeza (Caput), cerebro, nervios craneanos y vasos cerebrales | B11: 9 | C11: 2 | D11: 0 | E11: =SUM(B11:D11) -> 11
A12: 12.- Zona facial | B12: 26 | C12: 0 | D12: 0 | E12: =SUM(B12:D12) -> 26
A13: 13.- Ojo(s) | B13: 49 | C13: 3 | D13: 0 | E13: =SUM(B13:D13) -> 52
A14: 14.- Oreja(s) | B14: 1 | C14: 0 | D14: 0 | E14: =SUM(B14:D14) -> 1
A15: 18.- Cabeza, múltiples partes afectadas | B15: 4 | C15: 0 | D15: 0 | E15: =SUM(B15:D15) -> 4
A16: 19.- Cabeza, otras partes no mencionadas anteriormente | B16: 22 | C16: 1 | D16: 0 | E16: =SUM(B16:D16) -> 23
A17: 21.- Cuello, incluida la columna y las vértebras del cuello | B17: 30 | C17: 0 | D17: 0 | E17: =SUM(B17:D17) -> 30
A18: 29.- Cuello, otras partes no mencionadas anteriormente | B18: 10 | C18: 0 | D18: 0 | E18: =SUM(B18:D18) -> 10
A19: 31.- Espalda, incluida la columna y las vértebras de la espalda | B19: 228 | C19: 1 | D19: 0 | E19: =SUM(B19:D19) -> 229
A20: 39.- Espalda, otras partes no mencionadas anteriormente | B20: 106 | C20: 0 | D20: 0 | E20: =SUM(B20:D20) -> 106
A21: 41.- Caja torácica, costillas, incluidos omoplatos y articulaciones acromioclaviculares | B21: 71 | C21: 0 | D21: 0 | E21: =SUM(B21:D21) -> 71
A22: 42.- Región torácica, incluidos sus órganos | B22: 8 | C22: 0 | D22: 2 | E22: =SUM(B22:D22) -> 10
... A42: 99.- Otras partes del cuerpo no mencionadas anteriormente | B42: 2 | C42: 0 | D42: 0 | E42: =SUM(B42:D42) -> 2

Sheet ATR-A10_II
A1: ACCIDENTES DE TRABAJO | F1: Volver al índice
A3: ATR-A10_II. ACCIDENTES DE TRABAJO CON BAJA, IN ITINERE, SEGÚN GRAVEDAD,
A4: POR PARTE DEL CUERPO LESIONADA
A6: enero-junio 2021
B8: Leves | C8: Graves | D8: Mortales | E8: TOTAL
A9: TOTAL | B9: =SUM(B11:B38) -> 202 | C9: =SUM(C11:C38) -> 0 | D9: =SUM(D11:D38) -> 1 | E9: =SUM(E11:E38) -> 203
A11: 11.- Cabeza (Caput), cerebro, nervios craneanos y vasos cerebrales | B11: 2 | C11: 0 | D11: 1 | E11: =SUM(B11:D11) -> 3
A12: 12.- Zona facial | B12: 3 | C12: 0 | D12: 0 | E12: =SUM(B12:D12) -> 3
A13: 18.- Cabeza, múltiples partes afectadas | B13: 3 | C13: 0 | D13: 0 | E13: =SUM(B13:D13) -> 3
A14: 21.- Cuello, incluida la columna y las vértebras del cuello | B14: 43 | C14: 0 | D14: 0 | E14: =SUM(B14:D14) -> 43
A15: 29.- Cuello, otras partes no mencionadas anteriormente | B15: 12 | C15: 0 | D15: 0 | E15: =SUM(B15:D15) -> 12
A16: 31.- Espalda, incluida la columna y las vértebras de la espalda | B16: 16 | C16: 0 | D16: 0 | E16: =SUM(B16:D16) -> 16
A17: 39.- Espalda, otras partes no mencionadas anteriormente | B17: 8 | C17: 0 | D17: 0 | E17: =SUM(B17:D17) -> 8
A18: 41.- Caja torácica, costillas, incluidos omoplatos y articulaciones acromioclaviculares | B18: 3 | C18: 0 | D18: 0 | E18: =SUM(B18:D18) -> 3
A19: 43.- Región pélvica y abdominal, incluidos sus órganos | B19: 1 | C19: 0 | D19: 0 | E19: =SUM(B19:D19) -> 1
A20: 49.- Tronco, otras partes no mencionadas anteriormente | B20: 1 | C20: 0 | D20: 0 | E20: =SUM(B20:D20) -> 1
A21: 51.- Hombro y articulaciones del húmero | B21: 7 | C21: 0 | D21: 0 | E21: =SUM(B21:D21) -> 7
A22: 52.- Brazo, incluida la articulación del cúbito | B22: 13 | C22: 0 | D22: 0 | E22: =SUM(B22:D22) -> 13
... A35: 78.- Múltiples partes del cuerpo afectadas | B35: 26 | C35: 0 | D35: 0 | E35: =SUM(B35:D35) -> 26

Sheet ATR-A11
A1: ACCIDENTES DE TRABAJO | F1: Volver al índice
A3: ATR-A11. ACCIDENTES DE TRABAJO CON BAJA, EN JORNADA, SEGÚN TIPO DE CONTRATO
A4: DEL ACCIDENTADO
A6: enero-junio 2021
B8: Leves | C8: Graves | D8: Mortales | E8: TOTAL
A9: TOTAL | B9: =SUM(B11:B41) -> 2005 | C9: =SUM(C11:C41) -> 18 | D9: =SUM(D11:D41) -> 3 | E9: =SUM(B9:D9) -> 2026
A11: 01.- Indefinido tiempo completo | B11: 1164 | C11: 12 | D11: 2 | E11: =SUM(B11:D11) -> 1178
A12: 02.- Indefinido tiempo parcial | B12: 97 | C12: 1 | D12: 0 | E12: =SUM(B12:D12) -> 98
A13: 03.- Temporal tiempo completo | B13: 515 | C13: 4 | D13: 0 | E13: =SUM(B13:D13) -> 519
A14: 04.- Temporal tiempo parcial | B14: 69 | C14: 0 | D14: 1 | E14: =SUM(B14:D14) -> 70
A15: 05.- Indefinido (fijo discontinuo) | B15: 36 | C15: 0 | D15: 0 | E15: =SUM(B15:D15) -> 36
A16: 06.- Otros | B16: 122 | C16: 1 | D16: 0 | E16: =SUM(B16:D16) -> 123
A17: 99.- No consta | B17: 2 | C17: 0 | D17: 0 | E17: =SUM(B17:D17) -> 2

Sheet ATR-A11_II
A1: ACCIDENTES DE TRABAJO | F1: Volver al índice
A3: ATR-A11. ACCIDENTES DE TRABAJO CON BAJA, IN ITINERE, SEGÚN TIPO DE CONTRATO
A4: DEL ACCIDENTADO
A6: enero-junio 2021
B8: Leves | C8: Graves | D8: Mortales | E8: TOTAL
A9: TOTAL | B9: =SUM(B11:B38) -> 202 | C9: =SUM(C11:C38) -> 0 | D9: =SUM(D11:D38) -> 1 | E9: =SUM(B9:D9) -> 203
A11: 01.- Indefinido tiempo completo | B11: 106 | C11: 0 | D11: 1 | E11: =SUM(B11:D11) -> 107
A12: 02.- Indefinido tiempo parcial | B12: 12 | C12: 0 | D12: 0 | E12: =SUM(B12:D12) -> 12
A13: 03.- Temporal tiempo completo | B13: 55 | C13: 0 | D13: 0 | E13: =SUM(B13:D13) -> 55
A14: 04.- Temporal tiempo parcial | B14: 12 | C14: 0 | D14: 0 | E14: =SUM(B14:D14) -> 12
A15: 05.- Indefinido (fijo discontinuo) | B15: 5 | C15: 0 | D15: 0 | E15: =SUM(B15:D15) -> 5
A16: 06.- Otros | B16: 11 | C16: 0 | D16: 0 | E16: =SUM(B16:D16) -> 11
A17: 99.- No consta | B17: 1 | C17: 0 | D17: 0 | E17: =SUM(B17:D17) -> 1

Sheet ATR-A12
A1: ACCIDENTES DE TRABAJO | F1: Volver al índice
A3: ATR-A12. ACCIDENTES DE TRABAJO CON BAJA, EN JORNADA, SEGÚN ANTIGÜEDAD
A4: DEL ACCIDENTADO EN LA EMPRESA
A6: enero-junio 2021
B8: Leves | C8: Graves | D8: Mortales | E8: TOTAL
A9: TOTAL | B9: =SUM(B11:B26) -> 2005 | C9: =SUM(C11:C26) -> 18 | D9: =SUM(D11:D26) -> 3 | E9: =SUM(B9:D9) -> 2026
A11: 01.- Menos de 1 mes | B11: 146 | C11: 1 | D11: 0 | E11: =SUM(B11:D11) -> 147
A12: 02.- De 1 a 3 meses | B12: 222 | C12: 3 | D12: 0 | E12: =SUM(B12:D12) -> 225
A13: 03.- De 4 a 6 meses | B13: 126 | C13: 0 | D13: 1 | E13: =SUM(B13:D13) -> 127
A14: 04.- De 7 a 12 meses | B14: 145 | C14: 1 | D14: 0 | E14: =SUM(B14:D14) -> 146
A15: 05.- De 13 meses a 2 años | B15: 264 | C15: 1 | D15: 1 | E15: =SUM(B15:D15) -> 266
A16: 06.- De 2 a 5 años | B16: 411 | C16: 7 | D16: 0 | E16: =SUM(B16:D16) -> 418
A17: 07.- De 5 a 10 años | B17: 212 | C17: 1 | D17: 1 | E17: =SUM(B17:D17) -> 214
A18: 08.- De 10 a 15 años | B18: 176 | C18: 1 | D18: 0 | E18: =SUM(B18:D18) -> 177
A19: 09.- De 15 a 20 años | B19: 145 | C19: 0 | D19: 0 | E19: =SUM(B19:D19) -> 145
A20: 10.- De 20 a 25 años | B20: 70 | C20: 1 | D20: 0 | E20: =SUM(B20:D20) -> 71
A21: 11.- Más de 25 años | B21: 88 | C21: 2 | D21: 0 | E21: =SUM(B21:D21) -> 90

Sheet ATR-A12_II
A1: ACCIDENTES DE TRABAJO | F1: Volver al índice
A3: ATR-A12. ACCIDENTES DE TRABAJO CON BAJA, IN ITINERE, SEGÚN ANTIGÜEDAD
A4: DEL ACCIDENTADO EN LA EMPRESA
A6: enero-junio 2021
B8: Leves | C8: Graves | D8: Mortales | E8: TOTAL
A9: TOTAL | B9: =SUM(B11:B28) -> 202 | C9: =SUM(C11:C28) -> 0 | D9: =SUM(D11:D28) -> 1 | E9: =SUM(B9:D9) -> 203
A11: 01.- Menos de 1 mes | B11: 18 | C11: 0 | D11: 0 | E11: =SUM(B11:D11) -> 18
A12: 02.- De 1 a 3 meses | B12: 27 | C12: 0 | D12: 0 | E12: =SUM(B12:D12) -> 27
A13: 03.- De 4 a 6 meses | B13: 15 | C13: 0 | D13: 0 | E13: =SUM(B13:D13) -> 15
A14: 04.- De 7 a 12 meses | B14: 12 | C14: 0 | D14: 0 | E14: =SUM(B14:D14) -> 12
A15: 05.- De 13 meses a 2 años | B15: 24 | C15: 0 | D15: 0 | E15: =SUM(B15:D15) -> 24
A16: 06.- De 2 a 5 años | B16: 36 | C16: 0 | D16: 0 | E16: =SUM(B16:D16) -> 36
A17: 07.- De 5 a 10 años | B17: 21 | C17: 0 | D17: 1 | E17: =SUM(B17:D17) -> 22
A18: 08.- De 10 a 15 años | B18: 14 | C18: 0 | D18: 0 | E18: =SUM(B18:D18) -> 14
A19: 09.- De 15 a 20 años | B19: 13 | C19: 0 | D19: 0 | E19: =SUM(B19:D19) -> 13
A20: 10.- De 20 a 25 años | B20: 11 | C20: 0 | D20: 0 | E20: =SUM(B20:D20) -> 11
A21: 11.- Más de 25 años | B21: 11 | C21: 0 | D21: 0 | E21: =SUM(B21:D21) -> 11

Sheet ATR-A13
A1: ACCIDENTES DE TRABAJO | F1: Volver al índice
A3: ATR-A13. ACCIDENTES DE TRABAJO CON BAJA, EN JORNADA, SEGÚN RELACIÓN LABORAL
A4: DEL ACCIDENTADO
A6: enero-junio 2021
B8: Leves | C8: Graves | D8: Mortales | E8: TOTAL
A9: TOTAL | B9: =SUM(B11:B34) -> 2005 | C9: =SUM(C11:C34) -> 18 | D9: =SUM(D11:D34) -> 3 | E9: =SUM(B9:D9) -> 2026
A11: Asalariado sector privado | B11: 1706 | C11: 17 | D11: 3 | E11: =SUM(B11:D11) -> 1726
A12: Asalariado sector público | B12: 177 | C12: 0 | D12: 0 | E12: =SUM(B12:D12) -> 177
A13: Autónomo con asalariados | B13: 33 | C13: 0 | D13: 0 | E13: =SUM(B13:D13) -> 33
A14: Autónomo sin asalariados | B14: 89 | C14: 1 | D14: 0 | E14: =SUM(B14:D14) -> 90

Sheet ATR-A13_II
A1: ACCIDENTES DE TRABAJO | F1: Volver al índice
A3: ATR-A13. ACCIDENTES DE TRABAJO CON BAJA, IN ITINERE, SEGÚN RELACIÓN LABORAL
A4: DEL ACCIDENTADO
A6: enero-junio 2021
B8: Leves | C8: Graves | D8: Mortales | E8: TOTAL
A9: TOTAL | B9: =SUM(B11:B36) -> 202 | C9: =SUM(C11:C36) -> 0 | D9: =SUM(D11:D36) -> 1 | E9: =SUM(B9:D9) -> 203
A11: Asalariado sector privado | B11: 161 | C11: 0 | D11: 1 | E11: =SUM(B11:D11) -> 162
A12: Asalariado sector público | B12: 30 | C12: 0 | D12: 0 | E12: =SUM(B12:D12) -> 30
A13: Autónomo con asalariados | B13: 1 | C13: 0 | D13: 0 | E13: =SUM(B13:D13) -> 1
A14: Autónomo sin asalariados | B14: 10 | C14: 0 | D14: 0 | E14: =SUM(B14:D14) -> 10

Sheet ATR-I2.1
A1: ACCIDENTES DE TRABAJO
A3: ATR-I2.1 ÍNDICES DE INCIDENCIA DE ACCIDENTES DE TRABAJO CON BAJA EN JORNADA
A4: POR SECTOR Y SECCIÓN DE ACTIVIDAD.TOTAL
A6: enero-junio 2021
D7: ACCIDENTES EN JORNADA (1) | G7: AFILIADOS EN MEDIA MENSUAL (2) | I7: ÍNDICES DE INCIDENCIA EN MEDIA MENSUAL (3)
D8: Total | E8: Mortales | I8: Total | J8: Mortales
B9: TOTAL | D9: ='ATR-A2.1'!F9 -> 2026 | E9: ='ATR-A2.1'!E9 -> 3 | G9: =SUM(G12:G15) -> 125067.67 | I9: =(D9*100000/G9)/6 -> 269.98718 | J9: =(E9*100000/G9)/6 -> 0.39978358
B11: SECTOR
B12: Agrario | D12: ='ATR-A2.1'!F12 -> 134 | E12: ='ATR-A2.1'!E12 -> 0 | G12: =G18 -> 7278.1667 | I12: =(D12*100000/G12)/6 -> 306.85383 | J12: =(E12*100000/G12)/6 -> 0
B13: Industria | D13: ='ATR-A2.1'!F13 -> 621 | E13: ='ATR-A2.1'!E13 -> 1 | G13: =SUM(G19:G22) -> 25988.167 | I13: =(D13*100000/G13)/6 -> 398.25818 | J13: =(E13*100000/G13)/6 -> 0.64131752
B14: Construcción | D14: ='ATR-A2.1'!F14 -> 304 | E14: ='ATR-A2.1'!E14 -> 0 | G14: =G23 -> 8505.1667 | I14: =(D14*100000/G14)/6 -> 595.71633 | J14: =(E14*100000/G14)/6 -> 0
B15: Servicios | D15: ='ATR-A2.1'!F15 -> 967 | E15: ='ATR-A2.1'!E15 -> 2 | G15: =SUM(G24:G38) -> 83296.167 | I15: =(D15*100000/G15)/6 -> 193.48629 | J15: =(E15*100000/G15)/6 -> 0.40017848
B17: SECCIÓN
A18: A | B18: Agricultura, ganadería, silvicultura y pesca | D18: =SUM('ATR-A2.1'!F18:F20) -> 134 | E18: =SUM('ATR-A2.1'!E18:E20) -> 0 | G18: 7278.1667 | I18: =(D18*100000/G18)/6 -> 306.85383 | J18: =(E18*100000/G18)/6 -> 0
A19: B | B19: Industrias extractivas | D19: =SUM('ATR-A2.1'!F21) -> 3 | E19: =SUM('ATR-A2.1'!E21) -> 0 | G19: 136.66667 | I19: =(D19*100000/G19)/6 -> 365.85366 | J19: =(E19*100000/G19)/6 -> 0
A20: C | B20: Industria manufacturera | D20: =SUM('ATR-A2.1'!F22:F39) -> 587 | E20: =SUM('ATR-A2.1'!E22:E39) -> 0 | G20: 24603.833 | I20: =(D20*100000/G20)/6 -> 397.63451 | J20: =(E20*100000/G20)/6 -> 0
A21: D | B21: Suministro de energía eléctrica, gas, vapor y aire acondicionado | D21: 0 | G21: 184.5 | I21: =(D21*100000/G21)/6 -> 0 | J21: =(E21*100000/G21)/6 -> 0
A22: E | B22: Suministro de agua, saneamiento, gestión residuos | D22: 31 | E22: 1 | G22: 1063.1667 | I22: =(D22*100000/G22)/6 -> 485.96959 | J22: =(E22*100000/G22)/6 -> 15.676438
A23: F | B23: Construcción | D23: =SUM('ATR-A2.1'!F43:F45) -> 304 | E23: =SUM('ATR-A2.1'!E43:E45) -> 0 | G23: 8505.1667 | I23: =(D23*100000/G23)/6 -> 595.71633 | J23: =(E23*100000/G23)/6 -> 0
A24: G | B24: Comercio al por mayor y por menor; reparación vehículos motor | D24: =SUM('ATR-A2.1'!F46:F48) -> 224 | E24: =SUM('ATR-A2.1'!E46:E48) -> 0 | G24: 18964.333 | I24: =(D24*100000/G24)/6 -> 196.86077 | J24: =(E24*100000/G24)/6 -> 0
A25: H | B25: Transporte y almacenamiento | D25: =SUM('ATR-A2.1'!F49:F51) -> 92 | E25: =SUM('ATR-A2.1'!E49:E51) -> 1 | G25: 4560.1667 | I25: =(D25*100000/G25)/6 -> 336.24502 | J25: =(E25*100000/G25)/6 -> 3.6548372
A26: I | B26: Hostelería | D26: =SUM('ATR-A2.1'!F52:F53) -> 79 | E26: =SUM('ATR-A2.1'!E52:E53) -> 1 | G26: 8261.8333 | I26: =(D26*100000/G26)/6 -> 159.36737 | J26: =(E26*100000/G26)/6 -> 2.0173085
A27: J | B27: Información y comunicaciones | D27: 0 | E27: 0 | G27: 1685.6667 | I27: =(D27*100000/G27)/6 -> 0 | J27: =(E27*100000/G27)/6 -> 0
A28: K | B28: Actividades financieras y de seguros | D28: 0 | E28: =SUM('ATR-A2.1'!E54:E55) -> 0 | G28: 1911 | I28: =(D28*100000/G28)/6 -> 0 | J28: =(E28*100000/G28)/6 -> 0
A29: L | B29: Actividades inmobiliarias | D29: 0 | E29: =SUM('ATR-A2.1'!E56:E56) -> 0 | G29: 486.66667 | I29: =(D29*100000/G29)/6 -> 0 | J29: =(E29*100000/G29)/6 -> 0
A30: M | B30: Actividades profesionales, científicas y técnicas | D30: 6 | E30: =SUM('ATR-A2.1'!E57:E59) -> 0 | G30: 4830 | I30: =(D30*100000/G30)/6 -> 20.703934 | J30: =(E30*100000/G30)/6 -> 0
A31: N | B31: Actividades administrativas y servicios auxiliares | D31: 186 | E31: =SUM('ATR-A2.1'!E60:E60) -> 0 | G31: 6929.6667 | I31: =(D31*100000/G31)/6 -> 447.35196 | J31: =(E31*100000/G31)/6 -> 0
A32: O | B32: Administración Pública y defensa; Seguridad social obligatoria | D32: 88 | E32: =SUM('ATR-A2.1'!E61:E61) -> 0 | G32: 6898.5 | I32: =(D32*100000/G32)/6 -> 212.60661 | J32: =(E32*100000/G32)/6 -> 0
