Workbook

Sheet Huella de Carbono
A2: 1 | B2: CÁLCULO DE EMISIONES | F2: =SUM(E7,E12,E15) -> 42.872042 | G2: tCO2/año
A4: 1.1 | B4: Cambio de uso del suelo de agrícola o forestal a urbano
B6: Superficie (ha) | C6: Uso de suelo | D6: (tCO2/ha/año) | E6: tCO2/año
B7: 2 | C7: Olivar de regadío | D7: =VLOOKUP(C7,'1.1. Usos suelo'!A2:B18,2,0) -> 20.12 | E7: =B7*D7 -> 40.24
A9: 1.2 | B9: Obras de urbanización
B11: Nº de viviendas | C11: tCO2/vivienda/año | E11: tCO2/año
B12: 1 | C12: 1.094 | E12: =B12*C12 -> 1.094
E14: tCO2/año
A15: 1.3 | B15: Funcionamiento y mantenimiento del desarrollo urbano | E15: =SUM(E18,E21,E24) -> 1.5380425
A17: 1.3.1 | B17: Nº de viviendas | C17: tCO2/vivienda/año | E17: tCO2/año
B18: 1 | C18: ='1.3. Funcionamiento'!D2 -> 0.65254246 | E18: =B18*C18 -> 0.65254246
A20: 1.3.2 | B20: Nº de viviendas | C20: tCO2/vivienda/año | E20: tCO2/año
B21: Ir a 1.3. Funcionamiento | E21: ='1.3. Funcionamiento'!D8 -> 0
A23: 1.3.3 | B23: Nº de viviendas | C23: tCO2/vivienda/año | E23: tCO2/año
B24: 1 | C24: ='1.3. Funcionamiento'!D24 -> 0.8855 | E24: =B24*C24 -> 0.8855
A28: 2 | B28: MEDIDAS PREVENTIVAS CORRECTORAS Y COMPENSATORIAS | F28: =F31+F43+F59+F67+F85+F97 -> -281.05341 | G28: tCO2/año
A31: 2.1 | B31: Compensación de la pérdida de reservas de carbono | F31: =E36+E41 -> -5.940882 | G31: tCO2/año
A33: 2.1.1 | B33: Zonas verdes
B35: Superficie (ha) | D35: (tCO2/ha/año) | E35: tCO2/año
B36: 1 | D36: -5.94 | E36: =B36*D36 -> -5.94
A38: 2.1.2 | B38: Cubierta vegetal
B40: Superficie (m2) | D40: (tCO2/m2/año) | E40: tCO2/año
B41: 1 | D41: -0.000882 | E41: =B41*D41 -> -0.000882
A43: 2.2 | B43: Responsabilidad del promotor y movilidad obligada | F43: =F49+E52+E57 -> -252.28001 | G43: tCO2/año
A46: 2.2.2 | B46: Mantenimiento de jardines
B48: Superficie zonas verdes (m2) | D48: Ahorro(m3/año) | E48: tCO2/m3 | F48: tCO2/año
B49: 1 | D49: =B49*'2.2.2 Parques y jardines'!G15/1000 -> 0.002488 | E49: -0.0033116883 | F49: =D49*E49 -> -8.2394805e-06
B51: Nº vehículos mantenimiento | D51: tCO2/vehículo*año | E51: tCO2/año
B52: 1 | D52: -2.28 | E52: =B52*D52 -> -2.28
A54: 2.2.3 | B54: Movilidad obligada
B56: Carril bici (Km) | D56: (tCO2/Km/año) | E56: tCO2/año
B57: 1 | D57: -250 | E57: =B57*D57 -> -250
A59: 2.3 | B59: Funcionamiento de las viviendas proyectadas | F59: =E65+E62 -> -22.072 | G59: tCO2/año
B61: Nº viviendas unifamiliar | D61: tCO2/vivienda/año | E61: tCO2/año
B62: 1 | D62: ='2.3 Viviendas'!E26 -> -17.19 | E62: =B62*D62 -> -17.19
B64: Nº viviendas multifamiliar | D64: tCO2/vivienda/año | E64: tCO2/año
B65: 1 | D65: ='2.3 Viviendas'!F26 -> -4.882 | E65: =B65*D65 -> -4.882
A67: 2.4 | B67: Consumo de electricidad de la urbanización | F67: =E77+E72+E82 -> -0.727934 | G67: tCO2/año
A69: 2.4.1 | B69: Alumbrado público
B71: Kwh ahorrados/año | D71: kgCO2/Kwh | E71: tCO2/año
...

Sheet 1.1. Usos suelo
B1: (tCO2/ha)
A2: Chopera | B2: 18.66
A3: Coníferas | B3: 19.24
A4: Cultivos herbáceos de regadío | B4: 36.75
A5: Cultivos herbáceos de secano | B5: 13.45
A6: Arbustos | B6: 4.5
A7: Olivar de secano | B7: 6.59
A8: Olivar de regadío | B8: 20.12
A9: Pradera | B9: 8.82
A10: Pradera con arbustos | B10: 5.94
A11: Viñedo de regadío | B11: 19.11
A12: Viñedo de secano | B12: 6.26
A13: Frutales de regadío | B13: 21.92
... A18: Pastos naturales | B18: 6.33

Sheet 1.3. Funcionamiento
B2: 1.3.1 Suministro y tratamiento de agua | D2: =SUM(H5:H6) -> 0.65254246
B4: habitantes | C4: viviendas | D4: m3/hab/año | E4: kWh/m3 | F4: kgCO2eq/kWh | G4: kgCO2eq/hab/año | H4: tCO2eq/vivienda/año
A5: Suministro | B5: =C5*3.5 -> 3.5 | C5: 1 | D5: =0.132*365 -> 48.18 | E5: 1.02 | F5: 0.27 | G5: =B5*D5*E5*F5 -> 46.440702 | H5: =G5*3.5/1000 -> 0.16254246
A6: Depuración | B6: =C6*3.5 -> 3.5 | C6: 1 | G6: =H6/3.5*1000 -> 140 | H6: =0.49*C6 -> 0.49
B8: 1.3.2 Consumo energético | D8: =F13+F14+F15+F19+F20+F21+J13+J14+J15+J19+J20+J21 -> 0
G9: kgCO2eq/kWh
G10: Gas natural | H10: Biomasa | I10: Gasoleo
A11: Demanda energética estándar (kWh/vivienda y año) | G11: 0.204 | H11: 0 | I11: 0.287
B12: Calefacción (55,3%) | C12: Refrigeración (0,7%) | D12: ACS (17,4%) | E12: Resto E. eléctrica (26,6%) | F12: Subtotal Electricidad | G12: Nº de viviendas | J12: Subtotal Calefacción
A13: Valle del Ebro y Sur-oriental. | B13: =47.4*102.4 -> 4853.76 | C13: =5.9*102.4 -> 604.16 | D13: =13.2*102.4 -> 1351.68 | E13: =13141*0.266 -> 3495.506 | F13: =(C13+D13+E13)*0.27*(G13+H13+I13)/1000 -> 0 | J13: =((B13*G13*$G$11)+(B13*I13*$I$11))/1000 -> 0
A14: Sotomonte | B14: =50.6*102.4 -> 5181.44 | C14: 0 | D14: =13.1*102.4 -> 1341.44 | E14: =13141*0.266 -> 3495.506 | F14: =(C14+D14+E14)*0.27*(G14+H14+I14)/1000 -> 0 | J14: =((B14*G14*$G$11)+(B14*I14*$I$11))/1000 -> 0
A15: Sierra | B15: =77.1*102.4 -> 7895.04 | C15: 0 | D15: =13.8*102.4 -> 1413.12 | E15: =13141*0.266 -> 3495.506 | F15: =(C15+D15+E15)*0.27*(G15+H15+I15)/1000 -> 0 | J15: =((B15*G15*$G$11)+(B15*I15*$I$11))/1000 -> 0
G16: kgCO2eq/kWh
A17: Demanda energética eficiente (kWh/vivienda y año) | G17: Gas natural | H17: Biomasa | I17: Gasoleo
B18: Calefacción (55,3%) | C18: Refrigeración (0,7%) | D18: ACS (17,4%) | E18: Resto E. eléctrica (26,6%) | F18: Subtotal Electricidad | G18: Nº de viviendas | J18: Subtotal Calefacción
A19: Valle del Ebro y Sur-oriental. | B19: =15*102.4 -> 1536 | C19: 0 | D19: =13.2*102.4 -> 1351.68 | E19: =13141*0.266 -> 3495.506 | F19: =(C19+D19+E19)*0.27*(G19+H19+I19)/1000 -> 0 | J19: =((B19*G19*$G$11)+(B19*I19*$I$11))/1000 -> 0
A20: Sotomonte | B20: =22*102.4 -> 2252.8 | C20: 0 | D20: =13.1*102.4 -> 1341.44 | E20: =13141*0.266 -> 3495.506 | F20: =(C20+D20+E20)*0.27*(G20+H20+I20)/1000 -> 0 | J20: =((B20*G20*$G$11)+(B20*I20*$I$11))/1000 -> 0
A21: Sierra | B21: =22*102.4 -> 2252.8 | C21: 0 | D21: =13.8*102.4 -> 1413.12 | E21: =13141*0.266 -> 3495.506 | F21: =(C21+D21+E21)*0.27*(G21+H21+I21)/1000 -> 0 | J21: =((B21*G21*$G$11)+(B21*I21*$I$11))/1000 -> 0
B24: 1.3.3 Residuos sólidos urbanos | D24: =H26 -> 0.8855
C25: viviendas | E25: kg CO2/hab/año | H25: tCO2eq/vivienda/año
C26: 1 | E26: 253 | H26: =C26*E26*3.5/1000 -> 0.8855

Sheet 2.2.2 Parques y jardines
A2: 2.2.2 | B2: Mantenimiento de jardines
C4: Elección de especies
D5: % | E5: Tipología | F5: litros/m2
D6: 0.1 | E6: Césped | F6: 7 | G6: =D6*F6 -> 0.7
D7: 0.2 | E7: Arbustos | F7: 4.3 | G7: =D7*F7 -> 0.86
D8: 0.6 | E8: Plantas autóctonas | F8: 1.8 | G8: =D8*F8 -> 1.08
D9: 0.1 | E9: Flores de temporada | F9: 4.7 | G9: =D9*F9 -> 0.47
F11: Total litros/m2 | G11: =SUM(G6:G9) -> 3.11
C13: Riego por goteo subsuperficial (ahorro del 80%) | G13: =G11*0.2 -> 0.622
F15: Ahorro (L/m2) | G15: =G11-G13 -> 2.488

Sheet 2.3 Viviendas
F1: Mejora respecto a clase F
C3: Emisiones totales(Kg CO2/m2/año) | G3: Emisiones totales(Kg CO2/m2/año)
B4: Clase | C4: Unifamiliar | D4: Bloque | F4: Clase | G4: Unifamiliar | H4: Bloque
B5: A | C5: 11.6 | D5: 7.9 | F5: A | G5: =C5-C10 -> -92.2 | H5: =D5-D10 -> -65.8
B6: B | C6: 18.8 | D6: 12.9 | F6: B | G6: =C6-C10 -> -85 | H6: =D6-D10 -> -60.8
B7: C | C7: 29.2 | D7: 20 | F7: C | G7: =C7-C10 -> -74.6 | H7: =D7-D10 -> -53.7
B8: D | C8: 44.8 | D8: 30.7 | F8: D | G8: =C8-C10 -> -59 | H8: =D8-D10 -> -43
B9: E | C9: 79.2 | D9: 63 | F9: E | G9: =C9-C10 -> -24.6 | H9: =D9-D10 -> -10.7
B10: F | C10: 103.8 | D10: 73.7
B12: Mejora según % proyectado
C14: % proyectado | E14: Emisiones totales(Kg CO2/m2/año)
B15: Clase | C15: Unifamiliar | D15: Bloque | E15: Unifamiliar | F15: Bloque
B16: A | C16: 0.1 | D16: 0.1 | E16: =C16*G5 -> -9.22 | F16: =D16*H5 -> -6.58
B17: B | C17: 0.2 | D17: 0.2 | E17: =C17*G6 -> -17 | F17: =D17*H6 -> -12.16
B18: C | C18: 0.3 | D18: 0.3 | E18: =C18*G7 -> -22.38 | F18: =D18*H7 -> -16.11
B19: D | C19: 0.3 | D19: 0.3 | E19: =C19*G8 -> -17.7 | F19: =D19*H8 -> -12.9
B20: E | C20: 0.1 | D20: 0.1 | E20: =C20*G9 -> -2.46 | F20: =D20*H9 -> -1.07
D22: media ponderada | E22: =SUM(E16:E20) -> -68.76 | F22: =SUM(F16:F20) -> -48.82
D24: superficie media | E24: 250 | F24: 100
D26: t CO2/vivienda/año | E26: =E24*E22/1000 -> -17.19 | F26: =F24*F22/1000 -> -4.882

Sheet 2.4.2 Residuos
A2: 2.4.2 | B2: Gestión de residuos
G3: kg CO2eq/kg
F4: Kg de fracción resto | G4: emisiones reducidas | H4: ponderación
C5: Vidrio | D5: 0.0305 | E5: kg CO2eq/kg | F5: 0.4 | G5: =D5-D9 -> -0.54247 | H5: =F5*G5 -> -0.216988
C6: Envases | D6: 0.12009 | E6: kg CO2eq/kg | F6: 0.3 | G6: =D6-D9 -> -0.45288 | H6: =F6*G6 -> -0.135864
C7: Papel/Cartón | D7: 0.05641 | E7: kg CO2eq/kg | F7: 0.1 | G7: =D7-D9 -> -0.51656 | H7: =F7*G7 -> -0.051656
C8: Materia orgánica | D8: 0.30719 | E8: kg CO2eq/kg | F8: 0.2 | G8: =D8-D9 -> -0.26578 | H8: =F8*G8 -> -0.053156
C9: Fracción resto | D9: 0.57297 | E9: kg CO2eq/kg
F10: kg CO2eq/kg que es reciclado totalmente | H10: =SUM(H5:H8) -> -0.457664
