Workbook

Sheet Índice Cap_9
B8: CAPÍTULO 9: POBLACIÓN
B10: 9.1: Estructura de la población
B11: 9.2: Movimiento natural de la población
B12: 9.3: Movimientos migratorios
B13: 9.4: Censo de Población y Viviendas 2021

Sheet 9.1.1
A1: 9. POBLACIÓN
A3: 9.1 ESTRUCTURA DE LA POBLACIÓN | F3: Volver al índice
A5: 9.1.1 EVOLUCIÓN DE LA POBLACIÓN
B7: Total | C7: Hombres | D7: Mujeres
A9: 1999 | B9: 272665 | C9: 135575 | D9: 137089
A10: 2000 | B10: 273828 | C10: 136239 | D10: 137589
A11: 2001 | B11: 275313 | C11: 137029 | D11: 138283
A12: 2002 | B12: 277993 | C12: 138548 | D12: 139445
A13: 2003 | B13: 284609 | C13: 142296 | D13: 142312
A14: 2004 | B14: 291082 | C14: 145705 | D14: 145377
A15: 2005 | B15: 298050 | C15: 149792 | D15: 148258
A16: 2006 | B16: 302697 | C16: 152320 | D16: 150377
A17: 2007 | B17: 308118 | C17: 155223 | D17: 152895
A18: 2008 | B18: 316192 | C18: 159651 | D18: 156541
A19: 2009 | B19: 319786 | C19: 161177 | D19: 158608
A20: 2010 | B20: 319939 | C20: 160628 | D20: 159311
... A35: 2025 | B35: 326803 | C35: 161177 | D35: 165626
A37: FUENTE: Censos Anuales de Población desde 2021. Estadística continua de población. INE.
A38: Nota: Datos a 1 de enero

Sheet G.9.1
A1: 9. POBLACIÓN
J2: Volver al índice
A4: G.9.1 Evolución de la población de La Rioja por sexo

Sheet G.9.2mapaPoblacLog
A1: 9. POBLACIÓN
I2: Volver al índice
J13: Mapa

Sheet 9.1.2-9.1.3
A1: 9. POBLACIÓN
A3: 9.1.2 EVOLUCIÓN ESTRUCTURA DE LA POBLACIÓN | N3: Volver al índice
B5: 2023 | F5: 2024 | J5: 2025
B6: TOTAL | C6: Hombres | D6: Mujeres | F6: TOTAL | G6: Hombres | H6: Mujeres | J6: TOTAL | K6: Hombres | L6: Mujeres
A8: TOTAL | B8: 322282 | C8: 159151 | D8: 163131 | F8: 324184 | G8: 159979 | H8: 164205 | J8: 326803 | K8: 161177 | L8: 165626
A9: De 0 a 4 años | B9: 11983 | C9: 6088 | D9: 5895 | F9: 11624 | G9: 5894 | H9: 5730 | J9: 11308 | K9: 5747 | L9: 5561
A10: De 5 a 9 años | B10: 14974 | C10: 7786 | D10: 7188 | F10: 14651 | G10: 7638 | H10: 7013 | J10: 14306 | K10: 7426 | L10: 6880
A11: De 10 a 14 años | B11: 17196 | C11: 8892 | D11: 8304 | F11: 16962 | G11: 8760 | H11: 8202 | J11: 16964 | K11: 8714 | L11: 8250
A12: De 15 a 19 años | B12: 16975 | C12: 8714 | D12: 8261 | F12: 17511 | G12: 9012 | H12: 8499 | J12: 17766 | K12: 9152 | L12: 8614
A13: De 20 a 24 años | B13: 15864 | C13: 8157 | D13: 7707 | F13: 16392 | G13: 8392 | H13: 8000 | J13: 17142 | K13: 8755 | L13: 8387
A14: De 25 a 29 años | B14: 15338 | C14: 7770 | D14: 7568 | F14: 15756 | G14: 8031 | H14: 7725 | J14: 16156 | K14: 8255 | L14: 7901
A15: De 30 a 34 años | B15: 16917 | C15: 8415 | D15: 8502 | F15: 16756 | G15: 8421 | H15: 8335 | J15: 16876 | K15: 8487 | L15: 8389
A16: De 35 a 39 años | B16: 19478 | C16: 9678 | D16: 9800 | F16: 19144 | G16: 9494 | H16: 9650 | J16: 18915 | K16: 9326 | L16: 9589
A17: De 40 a 44 años | B17: 24840 | C17: 12614 | D17: 12226 | F17: 23735 | G17: 11966 | H17: 11769 | J17: 22961 | K17: 11612 | L17: 11349
A18: De 45 a 49 años | B18: 27202 | C18: 13879 | D18: 13323 | F18: 27596 | G18: 13981 | H18: 13615 | J18: 27644 | K18: 13989 | L18: 13655
A19: De 50 a 54 años | B19: 25242 | C19: 12860 | D19: 12382 | F19: 25659 | G19: 13171 | H19: 12488 | J19: 26104 | K19: 13377 | L19: 12727
... A29: 100 y más años | B29: 143 | C29: 29 | D29: 114 | F29: 143 | G29: 27 | H29: 116 | J29: 151 | K29: 23 | L29: 128
A31: FUENTE: Censos Anuales de Población. INE.
A32: Nota: Datos a 1 de enero

Sheet 9.1.4-G.9.3
A1: 9. POBLACIÓN
J2: Volver al índice
A3: 9.1.3 ESTRUCTURA DE LA POBLACIÓN EXTRANJERA. Año 2025
B5: TOTAL | F5: Porcentaje de extranjeros
B6: TOTAL | C6: Hombres | D6: Mujeres | F6: TOTAL | G6: Hombres | H6: Mujeres
A8: TOTAL | B8: 48436 | C8: 24052 | D8: 24384 | F8: =B8*100/'9.1.2-9.1.3'!J8 -> 14.821161 | G8: =C8*100/'9.1.2-9.1.3'!K8 -> 14.922725 | H8: =D8*100/'9.1.2-9.1.3'!L8 -> 14.722326
A9: De 0 a 4 años | B9: 2320 | C9: 1166 | D9: 1154 | F9: =B9*100/'9.1.2-9.1.3'!J9 -> 20.516449 | G9: =C9*100/'9.1.2-9.1.3'!K9 -> 20.288846 | H9: =D9*100/'9.1.2-9.1.3'!L9 -> 20.751663
A10: De 5 a 9 años | B10: 2781 | C10: 1426 | D10: 1355 | F10: =B10*100/'9.1.2-9.1.3'!J10 -> 19.439396 | G10: =C10*100/'9.1.2-9.1.3'!K10 -> 19.202801 | H10: =D10*100/'9.1.2-9.1.3'!L10 -> 19.694767
A11: De 10 a 14 años | B11: 2950 | C11: 1538 | D11: 1412 | F11: =B11*100/'9.1.2-9.1.3'!J11 -> 17.389767 | G11: =C11*100/'9.1.2-9.1.3'!K11 -> 17.649759 | H11: =D11*100/'9.1.2-9.1.3'!L11 -> 17.115152
A12: De 15 a 19 años | B12: 2769 | C12: 1450 | D12: 1319 | F12: =B12*100/'9.1.2-9.1.3'!J12 -> 15.585951 | G12: =C12*100/'9.1.2-9.1.3'!K12 -> 15.843531 | H12: =D12*100/'9.1.2-9.1.3'!L12 -> 15.312282
A13: De 20 a 24 años | B13: 3330 | C13: 1723 | D13: 1607 | F13: =B13*100/'9.1.2-9.1.3'!J13 -> 19.425971 | G13: =C13*100/'9.1.2-9.1.3'!K13 -> 19.680183 | H13: =D13*100/'9.1.2-9.1.3'!L13 -> 19.160606
A14: De 25 a 29 años | B14: 4114 | C14: 2080 | D14: 2034 | F14: =B14*100/'9.1.2-9.1.3'!J14 -> 25.464224 | G14: =C14*100/'9.1.2-9.1.3'!K14 -> 25.19685 | H14: =D14*100/'9.1.2-9.1.3'!L14 -> 25.743577
A15: De 30 a 34 años | B15: 4592 | C15: 2270 | D15: 2322 | F15: =B15*100/'9.1.2-9.1.3'!J15 -> 27.210239 | G15: =C15*100/'9.1.2-9.1.3'!K15 -> 26.746789 | H15: =D15*100/'9.1.2-9.1.3'!L15 -> 27.679104
A16: De 35 a 39 años | B16: 5139 | C16: 2383 | D16: 2756 | F16: =B16*100/'9.1.2-9.1.3'!J16 -> 27.168914 | G16: =C16*100/'9.1.2-9.1.3'!K16 -> 25.55222 | H16: =D16*100/'9.1.2-9.1.3'!L16 -> 28.741266
A17: De 40 a 44 años | B17: 5284 | C17: 2601 | D17: 2683 | F17: =B17*100/'9.1.2-9.1.3'!J17 -> 23.012935 | G17: =C17*100/'9.1.2-9.1.3'!K17 -> 22.399242 | H17: =D17*100/'9.1.2-9.1.3'!L17 -> 23.640849
A18: De 45 a 49 años | B18: 4724 | C18: 2432 | D18: 2292 | F18: =B18*100/'9.1.2-9.1.3'!J18 -> 17.088699 | G18: =C18*100/'9.1.2-9.1.3'!K18 -> 17.385088 | H18: =D18*100/'9.1.2-9.1.3'!L18 -> 16.78506
A19: De 50 a 54 años | B19: 3705 | C19: 1916 | D19: 1789 | F19: =B19*100/'9.1.2-9.1.3'!J19 -> 14.193227 | G19: =C19*100/'9.1.2-9.1.3'!K19 -> 14.323092 | H19: =D19*100/'9.1.2-9.1.3'!L19 -> 14.05673
... A28: De 95 a 99 años | B28: 4 | C28: 1 | D28: 3 | F28: =B28*100/'9.1.2-9.1.3'!J28 -> 0.33500838 | G28: =C28*100/'9.1.2-9.1.3'!K28 -> 0.33898305 | H28: =D28*100/'9.1.2-9.1.3'!L28 -> 0.33370412
A29: 100 y más años | B29: 1 | C29: 0 | D29: 1 | F29: =B29*100/'9.1.2-9.1.3'!J29 -> 0.66225166 | G29: - | H29: =D29*100/'9.1.2-9.1.3'!L29 -> 0.78125
A31: FUENTE: Censos Anuales de Población. INE.
A32: Nota: Datos a 1 de enero
A34: G.9.3 Evolución del porcentaje de extranjeros

Sheet 9.1.5-9.1.6
A1: 9. POBLACIÓN
A3: 9.1.4 EVOLUCIÓN DE DENSIDADES DE POBLACIÓN (Hab./Km²) | I3: Volver al índice
C5: 2021 | D5: 2022 | E5: 2023 | F5: 2024 | G5: 2025
A7: TOTAL | C7: 63.38551 | D7: 63.38551 | E7: 63.88 | F7: 64.293098 | G7: 64.865277 | I7: 5045.6271 | J7: 327286
A8: Logroño | C8: 1897.8287 | D8: 1897.8287 | E8: 1905.7839 | F8: 1915.5148 | G8: 1928.0092 | I8: 78.9156 | J8: 152150
A9: Resto de municipios | C9: 33.997268 | D9: 33.997268 | E9: 34.040474 | F9: 34.879215 | G9: 35.261964 | I9: =I7-I8 -> 4966.7115 | J9: =J7-J8 -> 175136
A11: FUENTE: Para Logroño y Otros municipios, elaboración propia a partir de la Revisión del Padrón Municipal de Habitantes a 1 de enero. INE
A12: Para densidades totales, elaboración propia a partir de Cifras de Población a 1 de enero. INE
A18: 9.1.5 DISTRIBUCIÓN DE LA POBLACIÓN POR TAMAÑO DE MUNICIPIO
B20: 2023 | D20: 2024 | F20: 2025
B21: Nº de | C21: % de | D21: Nº de | E21: % de | F21: Nº de | G21: % de
B22: municipios | C22: población | D22: municipios | E22: población | F22: municipios | G22: población
A24: TOTAL | B24: 174 | C24: 100 | D24: 174 | E24: 100 | F24: 174 | G24: 100
J25: 327286
A26: Menos de 101 | B26: 64 | C26: 1.0689396 | D26: 63 | E26: 1.0006196 | F26: 64 | G26: 1.0128756 | J26: 3315
A27: 101 - 500 | B27: 70 | C27: 5.2168598 | D27: 71 | E27: 5.195762 | F27: 70 | G27: 5.1465691 | J27: 16844
A28: 501 - 1.000 | B28: 10 | C28: 2.1943515 | D28: 10 | E28: 2.1803396 | F28: 9 | G28: 1.8855069 | J28: 6171
A29: 1.001 - 2.000 | B29: 9 | C29: 3.6306713 | D29: 9 | E29: 3.6270149 | F29: 10 | G29: 3.9705334 | J29: 12995
A30: 2.001 - 5.000 | B30: 12 | C30: 11.354342 | D30: 12 | E30: 11.335423 | F30: 12 | G30: 11.339929 | J30: 37114
A31: 5.001 - 10.000 | B31: 4 | C31: 10.285713 | D31: 4 | E31: 10.35854 | F31: 4 | G31: 10.377162 | J31: 33963
A32: 10.001 - 20.000 | B32: 3 | C32: 11.877176 | D32: 3 | E32: 11.977842 | F32: 3 | G32: 12.028318 | J32: 39367
A33: 20.001 - 50.000 | B33: 1 | C33: 7.7649388 | D33: 1 | E33: 7.7262877 | F33: 1 | G33: 7.7507134 | J33: 25367
A34: Más de 50.000 | B34: 1 | C34: 46.607009 | D34: 1 | E34: 46.598171 | F34: 1 | G34: 46.488392 | J34: 152150
A36: FUENTE: Estadística del Padrón Continuo. INE.
A37: NOTA: Los datos del último año disponible son provisionales.

Sheet 9.2.1-9.2.2
A1: 9. POBLACIÓN
A3: 9.2 MOVIMIENTO NATURAL DE LA POBLACIÓN | H3: Volver al índice
A5: 9.2.1 EVOLUCIÓN MOVIMIENTO NATURAL DE POBLACIÓN
B7: 2020 | C7: 2021 | D7: 2022 | E7: 2023 | F7: 2024
A9: MATRIMONIOS | B9: 1117 | C9: 628 | D9: 972 | E9: 1214 | F9: 1214
A10: Tasa de nupcialidad | B10: 3.52 | C10: 1.95 | D10: 3.04 | E10: 3.78 | F10: 3.5
A12: NACIMIENTOS
A13: TOTAL | B13: 2408 | C13: 2318 | D13: 2192 | E13: 2191 | F13: 1999
A14: Hombres | B14: 1239 | C14: 1174 | D14: 1128 | E14: 1105 | F14: 990
A15: Mujeres | B15: 1169 | C15: 1144 | D15: 1064 | E15: 1086 | F15: 1009
A16: Tasa de natalidad | B16: 7.6 | C16: 7.26 | D16: 6.86 | E16: 6.83 | F16: 6.18
A18: DEFUNCIONES
A19: TOTAL | B19: 3147 | C19: 3700 | D19: 3411 | E19: 3464 | F19: 3236
A20: Hombres | B20: 1609 | C20: 1893 | D20: 1742 | E20: 1755 | F20: 1660
A21: Mujeres | B21: 1538 | C21: 1807 | D21: 1669 | E21: 1709 | F21: 1576
A22: Tasa de mortalidad | B22: 9.93 | C22: 11.59 | D22: 10.68 | E22: 10.79 | F22: 10.01
A24: Crecimiento vegetativo | B24: -739 | C24: -1382 | D24: =D13-D19 -> -1219 | E24: =E13-E19 -> -1273 | F24: =F13-F19 -> -1237
A25: por 1.000 habitantes | B25: -2.35 | C25: -4.3744421 | D25: -3.86 | E25: =E24*1000/E54 -> -3.9499569 | F25: =F24*1000/F54 -> -3.8157343
A27: FUENTE: Movimiento Natural de Población. INE.
A28: Indicadores Demográficos Básicos. INE.
A34: 9.2.2 NACIMIENTOS EN LA RIOJA SEGÚN EDAD DE LA MADRE
B36: 2020 | C36: 2021 | D36: 2022 | E36: 2023 | F36: 2024
A38: TOTAL | B38: 2318 | C38: 2192 | D38: 2191 | E38: 1999 | F38: 2049
A40: Menos de 20 años | B40: 28 | C40: 30 | D40: 32 | E40: 26 | F40: 29
A41: De 20 a 24 años | B41: 172 | C41: 145 | D41: 160 | E41: 147 | F41: 183
A42: De 25 a 29 años | B42: 400 | C42: 340 | D42: 391 | E42: 312 | F42: 341
A43: De 30 a 34 años | B43: 739 | C43: 751 | D43: 715 | E43: 662 | F43: 672
A44: De 35 a 39 años | B44: 739 | C44: 705 | D44: 660 | E44: 656 | F44: 631
A45: De 40 a 44 años | B45: 221 | C45: 205 | D45: 214 | E45: 176 | F45: 172
A46: 45 y más años | B46: 19 | C46: 16 | D46: 19 | E46: 20 | F46: 21
A48: FUENTE: Movimiento Natural de Población. INE.
A49: NOTA: Los datos del último año disponible son provisionales.
B54: 318703 | C54: 319444 | D54: 319617 | E54: 322282 | F54: 324184

Sheet 9.2.3
A1: 9. POBLACIÓN
A3: 9.2.3 DEFUNCIONES DE RESIDENTES EN LA RIOJA SEGÚN SEXO Y EDAD
O4: Volver al índice
C5: 2022 | G5: 2023 | K5: 2024
C6: TOTAL | D6: Hombres | E6: Mujeres | G6: TOTAL | H6: Hombres | I6: Mujeres | K6: TOTAL | L6: Hombres | M6: Mujeres
A8: TOTAL | C8: 3464 | D8: 1755 | E8: 1709 | G8: 3236 | H8: 1660 | I8: 1576 | K8: 3306 | L8: 1651 | M8: 1655
A10: Menores de 1 año | C10: 9 | D10: 7 | E10: 2 | G10: 4 | H10: 3 | I10: 1 | K10: 6 | L10: 4 | M10: 2
A11: De 1 a 5 años | C11: 1 | D11: 1 | E11: - | G11: 1 | H11: 1 | I11: - | K11: 4 | L11: 3 | M11: 1
A12: De 6 a 10 años | C12: 4 | D12: 1 | E12: 3 | G12: 2 | H12: - | I12: 2 | K12: 1 | L12: 1 | M12: 0
A13: De 11 a 15 años | C13: 4 | D13: 3 | E13: 1 | G13: - | H13: - | I13: - | K13: 2 | L13: 2 | M13: 0
A14: De 16 a 20 años | C14: 6 | D14: 2 | E14: 4 | G14: 1 | H14: 1 | I14: - | K14: 2 | L14: 1 | M14: 1
A15: De 21 a 25 años | C15: 3 | D15: 3 | E15: - | G15: 3 | H15: 3 | I15: - | K15: 0 | L15: 0 | M15: 0
A16: De 26 a 30 años | C16: 1 | D16: - | E16: 1 | G16: 4 | H16: 2 | I16: 2 | K16: 5 | L16: 4 | M16: 1
A17: De 31 a 35 años | C17: 6 | D17: 6 | E17: - | G17: 6 | H17: 4 | I17: 2 | K17: 14 | L17: 10 | M17: 4
A18: De 36 a 40 años | C18: 11 | D18: 7 | E18: 4 | G18: 11 | H18: 5 | I18: 6 | K18: 16 | L18: 9 | M18: 7
A19: De 41 a 45 años | C19: 22 | D19: 14 | E19: 8 | G19: 23 | H19: 14 | I19: 9 | K19: 29 | L19: 20 | M19: 9
A20: De 46 a 50 años | C20: 35 | D20: 23 | E20: 12 | G20: 39 | H20: 28 | I20: 11 | K20: 34 | L20: 23 | M20: 11
A21: De 51 a 55 años | C21: 74 | D21: 51 | E21: 23 | G21: 61 | H21: 37 | I21: 24 | K21: 53 | L21: 33 | M21: 20
A22: De 56 a 60 años | C22: 116 | D22: 81 | E22: 35 | G22: 115 | H22: 77 | I22: 38 | K22: 98 | L22: 62 | M22: 36
A23: De 61 a 65 años | C23: 142 | D23: 91 | E23: 51 | G23: 145 | H23: 101 | I23: 44 | K23: 146 | L23: 100 | M23: 46
A24: De 66 a 70 años | C24: 189 | D24: 127 | E24: 62 | G24: 183 | H24: 126 | I24: 57 | K24: 186 | L24: 116 | M24: 70
A25: De 71 a 75 años | C25: 283 | D25: 194 | E25: 89 | G25: 239 | H25: 165 | I25: 74 | K25: 260 | L25: 176 | M25: 84
A26: De 76 a 80 años | C26: 364 | D26: 218 | E26: 146 | G26: 359 | H26: 224 | I26: 135 | K26: 348 | L26: 216 | M26: 132
A27: De 81 a 85 años | C27: 442 | D27: 241 | E27: 201 | G27: 425 | H27: 244 | I27: 181 | K27: 443 | L27: 243 | M27: 200
A28: De 86 a 90 años | C28: 808 | D28: 364 | E28: 444 | G28: 692 | H28: 302 | I28: 390 | K28: 717 | L28: 306 | M28: 411
A29: De 91 a 95 años | C29: 642 | D29: 236 | E29: 406 | G29: 621 | H29: 240 | I29: 381 | K29: 654 | L29: 238 | M29: 416
A30: De más de 95 años | C30: 302 | D30: 85 | E30: 217 | G30: 302 | H30: 83 | I30: 219 | K30: 288 | L30: 84 | M30: 204
A32: FUENTE: Elaboración propia a partir del Movimiento Natural de la Población. INE.

Sheet 9.3.1
A1: 9. POBLACIÓN
A3: 9.3 MOVIMIENTOS MIGRATORIOS | R3: Volver al índice
A5: 9.3.1 MOVIMIENTOS MIGRATORIOS INTERIORES POR COMUNIDAD AUTÓNOMA DE PROCEDENCIA
A6: Y DESTINO
B8: Inmigración | J8: Emigración
B9: 2023 | F9: 2024 | J9: 2023 | N9: 2024
B10: TOTAL | C10: Hombres | D10: Mujeres | F10: TOTAL | G10: Hombres | H10: Mujeres | J10: TOTAL | K10: Hombres | L10: Mujeres | N10: TOTAL | O10: Hombres | P10: Mujeres
A12: TOTAL | B12: 5546 | C12: 2838 | D12: 2708 | F12: 5915 | G12: 3050 | H12: 2865 | J12: 5192 | K12: 2620 | L12: 2572 | N12: 5007 | O12: 2586 | P12: 2421 | R12: =B12-J12 -> 354 | S12: =F12-N12 -> 908
A14: Andalucía | B14: 483 | C14: 252 | D14: 231 | F14: 523 | G14: 279 | H14: 244 | J14: 364 | K14: 183 | L14: 181 | N14: 266 | O14: 145 | P14: 121
A15: Aragón | B15: 379 | C15: 190 | D15: 189 | F15: 372 | G15: 185 | H15: 187 | J15: 346 | K15: 178 | L15: 168 | N15: 323 | O15: 164 | P15: 159
A16: Asturias | B16: 104 | C16: 56 | D16: 48 | F16: 102 | G16: 47 | H16: 55 | J16: 121 | K16: 64 | L16: 57 | N16: 73 | O16: 42 | P16: 31
A17: Baleares | B17: 68 | C17: 36 | D17: 32 | F17: 107 | G17: 58 | H17: 49 | J17: 94 | K17: 53 | L17: 41 | N17: 84 | O17: 41 | P17: 43
A18: Canarias | B18: 126 | C18: 68 | D18: 58 | F18: 127 | G18: 58 | H18: 69 | J18: 160 | K18: 76 | L18: 84 | N18: 117 | O18: 66 | P18: 51
A19: Cantabria | B19: 117 | C19: 62 | D19: 55 | F19: 129 | G19: 71 | H19: 58 | J19: 122 | K19: 57 | L19: 65 | N19: 140 | O19: 65 | P19: 75
A20: Castilla y León | B20: 568 | C20: 296 | D20: 272 | F20: 625 | G20: 314 | H20: 311 | J20: 508 | K20: 271 | L20: 237 | N20: 523 | O20: 279 | P20: 244
A21: Castilla-La Mancha | B21: 161 | C21: 89 | D21: 72 | F21: 168 | G21: 88 | H21: 80 | J21: 157 | K21: 88 | L21: 69 | N21: 93 | O21: 50 | P21: 43
A22: Cataluña | B22: 443 | C22: 210 | D22: 233 | F22: 473 | G22: 255 | H22: 218 | J22: 426 | K22: 216 | L22: 210 | N22: 424 | O22: 222 | P22: 202
A23: C. Valenciana | B23: 308 | C23: 156 | D23: 152 | F23: 336 | G23: 173 | H23: 163 | J23: 372 | K23: 180 | L23: 192 | N23: 405 | O23: 212 | P23: 193
A24: Extremadura | B24: 97 | C24: 47 | D24: 50 | F24: 70 | G24: 31 | H24: 39 | J24: 39 | K24: 20 | L24: 19 | N24: 72 | O24: 34 | P24: 38
A25: Galicia | B25: 152 | C25: 80 | D25: 72 | F25: 164 | G25: 78 | H25: 86 | J25: 170 | K25: 85 | L25: 85 | N25: 145 | O25: 74 | P25: 71
... A30: Ceuta y Melilla | B30: 10 | C30: 5 | D30: 5 | F30: 20 | G30: 13 | H30: 7 | J30: 9 | K30: 4 | L30: 5 | N30: 22 | O30: 13 | P30: 9
A32: FUENTE: Estadística de Migraciones y Cambios de Residencia. INE.

Sheet G.9.4-G.9.5
A1: 9. POBLACIÓN

Sheet 9.3.2
A1: 9. POBLACIÓN
A3: 9.3.2 MOVIMIENTOS MIGRATORIOS EXTERIORES POR SEXO, EDAD Y NACIONALIDAD | R3: Volver al índice
B5: Inmigración | F5: 2020 | J5: Emigración
B6: 2023 | F6: 2024 | J6: 2023 | N6: 2024
B7: TOTAL | C7: Esp. | D7: Ext. | F7: TOTAL | G7: Esp. | H7: Ext. | J7: TOTAL | K7: Esp. | L7: Ext. | N7: TOTAL | O7: Esp. | P7: Ext.
A9: TOTAL | B9: 6537 | C9: 699 | D9: 5838 | E9: 654 | F9: 6568 | G9: 664 | H9: 5904 | J9: 3757 | K9: 981 | L9: 2776 | N9: 3570 | O9: 682 | P9: 2888
A11: Sexo
A12: Hombres | B12: 3267 | C12: 369 | D12: 2898 | E12: 332 | F12: 3345 | G12: 345 | H12: 3000 | J12: 1999 | K12: 548 | L12: 1451 | N12: 1927 | O12: 400 | P12: 1527
A13: Mujeres | B13: 3270 | C13: 330 | D13: 2940 | E13: 322 | F13: 3223 | G13: 319 | H13: 2904 | J13: 1758 | K13: 433 | L13: 1325 | N13: 1643 | O13: 282 | P13: 1361
A15: Grupos de edad
A16: Menores de 14 años | B16: 1135 | C16: 146 | D16: 989 | F16: 1118 | G16: 128 | H16: 990 | J16: 475 | K16: 190 | L16: 285 | N16: 409 | O16: 113 | P16: 296
A17: De 15 a 19 años | B17: 505 | C17: 59 | D17: 446 | F17: 486 | G17: 56 | H17: 430 | J17: 171 | K17: 70 | L17: 101 | N17: 199 | O17: 59 | P17: 140
A18: De 20 a 29 años | B18: 1455 | C18: 112 | D18: 1343 | F18: 1536 | G18: 97 | H18: 1439 | J18: 739 | K18: 175 | L18: 564 | N18: 686 | O18: 126 | P18: 560
A19: De 30 a 39 años | B19: 1374 | C19: 116 | D19: 1258 | F19: 1327 | G19: 106 | H19: 1221 | J19: 783 | K19: 142 | L19: 641 | N19: 749 | O19: 104 | P19: 645
A20: De 40 a 49 años | B20: 1005 | C20: 107 | D20: 898 | F20: 1056 | G20: 115 | H20: 941 | J20: 736 | K20: 199 | L20: 537 | N20: 689 | O20: 110 | P20: 579
A21: De 50 a 59 años | B21: 603 | C21: 88 | D21: 515 | F21: 594 | G21: 93 | H21: 501 | J21: 482 | K21: 114 | L21: 368 | N21: 484 | O21: 109 | P21: 375
A22: De 60 a 64 años | B22: 175 | C22: 23 | D22: 152 | F22: 155 | G22: 28 | H22: 127 | J22: 163 | K22: 37 | L22: 126 | N22: 130 | O22: 21 | P22: 109
A23: De 65 y más | B23: 285 | C23: 48 | D23: 237 | F23: 296 | G23: 41 | H23: 255 | J23: 208 | K23: 54 | L23: 154 | N23: 224 | O23: 40 | P23: 184
A25: FUENTE: Estadística de Migraciones y Cambios de Residencia. INE.

Sheet G.9.6
A1: 9. POBLACIÓN
J2: Volver al índice
A4: G.9.6 Evolución del flujo de inmigración y emigración exterior en La Rioja

Sheet 9.3.3
A1: 9. POBLACIÓN
A3: 9.3.3 NACIONALIDAD DEL FLUJO DE INMIGRACIÓN PROCEDENTE DEL EXTRANJERO
H4: Volver al índice
B5: 2022 | D5: 2023 | F5: 2024
A7: Total | B7: 6722 | D7: 6537 | F7: 6568
A9: España | B9: 654 | D9: 699 | F9: 664
A10: Total extranjero
A11: Unión Europea | B11: 1009 | D11: 914 | F11: 855
A12: Resto de Europa | B12: 745 | D12: 273 | F12: 278
A13: África | B13: 1188 | D13: 1394 | F13: 1494
A14: América del Norte | B14: 96 | D14: 91 | F14: 119
A15: Centro América y Caribe | B15: 298 | D15: 393 | F15: 416
A16: Sudamérica | B16: 2393 | D16: 2446 | F16: 2410
A17: Asia | B17: 331 | D17: 322 | F17: 328
A18: Oceanía | B18: 8 | D18: 4 | F18: 4
A19: Apátridas | B19: - | D19: 1 | F19: 0
A21: FUENTE: Estadística de Migraciones y Cambios de Residencia. INE.
