Workbook

Sheet Índice Cap_17
B8: CAPÍTULO 17: INDICADORES SOCIOECONÓMICOS REGIONALES
B10: 17.1: Población
B11: 17.2: Mercado de trabajo
B12: 17.3: Macromagnitudes
B13: 17.4: Consumo
B14: 17.5: Sector agrario
B15: 17.6: Industria
B16: 17.7: Construcción y vivienda
B17: 17.8: Catastro
B18: 17.9: Servicios
B19: 17.10: Transporte
B20: 17.11: Turismo
... B23: 17.14: Sociedad de la información

Sheet 17.1.1_G.17.1
A1: 17. INDICADORES SOCIOECONÓMICOS REGIONALES
H2: Volver al índice
A3: 17.1 POBLACIÓN
A5: 17.1.1 POBLACIÓN. AÑO 2021
A7: Unidades: Número de personas
B9: Población | F9: Variación de la población
B10: Total | C10: Hombres | D10: Mujeres | F10: por 1.000 habitantes
A12: ESPAÑA | B12: 47331545 | C12: 23191350 | D12: 24140195 | F12: -0.51001927
A13: Andalucía | B13: 8502529 | C13: 4193881 | D13: 4308648 | F13: 2.2064024
A14: Aragón | B14: 1313105 | C14: 647205 | D14: 665900 | F14: -13.715583
A15: Asturias | B15: 1008898 | C15: 482178 | D15: 526720 | F15: -6.4981792
A16: I. Baleares | B16: 1219392 | C16: 609563 | D16: 609828 | F16: 3.5173267
A17: Canarias | B17: 2246261 | C17: 1111515 | D17: 1134746 | F17: 0.76482653
A18: Cantabria | B18: 583494 | C18: 284344 | D18: 299150 | F18: 2.0017344
A19: Castilla y León | B19: 2379192 | C19: 1173663 | D19: 1205530 | F19: -5.132835
A20: Castilla - La Mancha | B20: 2047212 | C20: 1027836 | D20: 1019376 | F20: 2.0266587
A21: Cataluña | B21: 7662023 | C21: 3748167 | D21: 3913856 | F21: 0.67632269
A22: C. Valenciana | B22: 5052089 | C22: 2486547 | D22: 2565542 | F22: 2.9767884
A23: Extremadura | B23: 1054797 | C23: 523204 | D23: 531593 | F23: -4.233042
... A31: Melilla | B31: 83526 | C31: 41815 | D31: 41710 | F31: -9.3264373
A33: FUENTE: Cifras de población a 1 de julio. INE.
A40: 17. INDICADORES SOCIOECONÓMICOS REGIONALES
A44: G.17.1 Variación de la población por 1.000 habitantes. Año 2021
I47: G,17,1 | J47: Variación de la población
I48: Aragón | J48: -13.715583
I49: Ceuta | J49: -13.397868
I50: Melilla | J50: -9.3264373
I51: Asturias | J51: -6.4981792
I52: País Vasco | J52: -5.289154
I53: Castilla y León | J53: -5.132835
I54: Extremadura | J54: -4.233042
I55: Galicia | J55: -2.8865354
I56: Madrid | J56: -2.7727823
I57: LA RIOJA | J57: -1.1147248
I58: ESPAÑA | J58: -0.51001927
I59: Navarra | J59: -0.49324002
... I67: Murcia | J67: 4.8359891

Sheet 17.1.2
A1: 17. INDICADORES SOCIOECONÓMICOS REGIONALES
N2: Volver al índice
A3: 17.1.2 VARIACIONES RESIDENCIALES. AÑO 2021
A5: Unidades: Número de personas
B7: A la misma comunidad | H7: A otras comunidades
B8: Hombres | E8: Mujeres | H8: Hombres | K8: Mujeres
B9: Españoles | C9: Extranjeros | E9: Españoles | F9: Extranjeros | H9: Españoles | I9: Extranjeros | K9: Españoles | L9: Extranjeros
A11: ESPAÑA | B11: 442082 | C11: 142009 | E11: 444972 | F11: 141889 | H11: 188383 | I11: 74839 | K11: 177585 | L11: 66890
A12: Andalucía | B12: 72795 | C12: 17653 | E12: 73358 | F12: 17658 | H12: 22460 | I12: 9393 | K12: 20725 | L12: 7686
A13: Aragón | B13: 8704 | C13: 2732 | E13: 8348 | F13: 2636 | H13: 5813 | I13: 2971 | K13: 5149 | L13: 2304
A14: Asturias | B14: 7046 | C14: 778 | E14: 7285 | F14: 1075 | H14: 4006 | I14: 893 | K14: 3889 | L14: 924
A15: I, Baleares | B15: 10872 | C15: 5184 | E15: 11115 | F15: 5187 | H15: 8027 | I15: 2878 | K15: 7373 | L15: 2397
A16: Canarias | B16: 24346 | C16: 7582 | E16: 24546 | F16: 7756 | H16: 9126 | I16: 3504 | K16: 7878 | L16: 3074
A17: Cantabria | B17: 6331 | C17: 906 | E17: 6580 | F17: 1111 | H17: 3365 | I17: 836 | K17: 3091 | L17: 888
A18: Castilla y León | B18: 19970 | C18: 3543 | E18: 20115 | F18: 3859 | H18: 12888 | I18: 3574 | K18: 12361 | L18: 3603
A19: Castilla - La Mancha | B19: 13664 | C19: 3932 | E19: 13478 | F19: 3746 | H19: 15832 | I19: 6154 | K19: 15150 | L19: 5720
A20: Cataluña | B20: 99952 | C20: 42384 | E20: 100320 | F20: 38021 | H20: 18993 | I20: 10112 | K20: 18641 | L20: 8150
A21: C, Valenciana | B21: 50107 | C21: 18842 | E21: 49922 | F21: 19075 | H21: 14486 | I21: 8570 | K21: 13847 | L21: 6986
A22: Extremadura | B22: 5979 | C22: 587 | E22: 6087 | F22: 783 | H22: 5141 | I22: 954 | K22: 4868 | L22: 998
... A28: La Rioja | B28: 2036 | C28: 720 | E28: 2006 | F28: 717 | H28: 1788 | I28: 865 | K28: 1730 | L28: 740
A29: Ceuta | B29: - | C29: - | E29: - | F29: - | H29: 1463 | I29: 270 | K29: 1118 | L29: 220
A30: Melilla | B30: - | C30: - | E30: - | F30: - | H30: 1377 | I30: 500 | K30: 1091 | L30: 419
A32: FUENTE: Estadística de Variaciones Residenciales. INE.

Sheet 17.1.3
A1: 17. INDICADORES SOCIOECONÓMICOS REGIONALES
G2: Volver al índice
A3: 17.1.3 MOVIMIENTO NATURAL DE LA POBLACIÓN. AÑO 2021
A5: Unidades: Número de personas (excepto saldo vegetativo)
E7: Saldo vegetativo
B8: Matrimonios | C8: Nacimientos | D8: Defunciones | E8: por 1.000 habitantes
A10: ESPAÑA | B10: 147823 | C10: 336811 | D10: 450687 | E10: =((C10-D10)*1000/'17.1.1_G.17.1'!B12) -> -2.4059219
A11: Andalucía | B11: 28032 | C11: 65460 | D11: 79498 | E11: =((C11-D11)*1000/'17.1.1_G.17.1'!B13) -> -1.6510382
A12: Aragón | B12: 4260 | C12: 9454 | D12: 14485 | E12: =((C12-D12)*1000/'17.1.1_G.17.1'!B14) -> -3.8313768
A13: Asturias | B13: 3198 | C13: 4780 | D13: 13366 | E13: =((C13-D13)*1000/'17.1.1_G.17.1'!B15) -> -8.5102756
A14: I. Baleares | B14: 4293 | C14: 9516 | D14: 8828 | E14: =((C14-D14)*1000/'17.1.1_G.17.1'!B16) -> 0.56421561
A15: Canarias | B15: 6705 | C15: 12703 | D15: 17178 | E15: =((C15-D15)*1000/'17.1.1_G.17.1'!B17) -> -1.9921995
A16: Cantabria | B16: 2057 | C16: 3283 | D16: 6051 | E16: =((C16-D16)*1000/'17.1.1_G.17.1'!B18) -> -4.7438363
A17: Castilla y León | B17: 7208 | C17: 13078 | D17: 29289 | E17: =((C17-D17)*1000/'17.1.1_G.17.1'!B19) -> -6.8136577
A18: Castilla - La Mancha | B18: 7072 | C18: 14498 | D18: 20418 | E18: =((C18-D18)*1000/'17.1.1_G.17.1'!B20) -> -2.8917376
A19: Cataluña | B19: 23158 | C19: 57554 | D19: 69366 | E19: =((C19-D19)*1000/'17.1.1_G.17.1'!B21) -> -1.5416294
A20: C. Valenciana | B20: 16605 | C20: 35627 | D20: 49733 | E20: =((C20-D20)*1000/'17.1.1_G.17.1'!B22) -> -2.7921123
A21: Extremadura | B21: 3254 | C21: 7238 | D21: 12333 | E21: =((C21-D21)*1000/'17.1.1_G.17.1'!B23) -> -4.8303133
... A29: Melilla | B29: 279 | C29: 930 | D29: 574 | E29: =((C29-D29)*1000/'17.1.1_G.17.1'!B31) -> 4.2621459
A30: Extranjero | B30: - | C30: 564 | D30: 1417 | E30: -
A32: FUENTE: Movimiento Natural de la Población. INE.
A33: NOTA: Datos provisionales.

Sheet 17.2.1_G.17.2
A1: 17. INDICADORES SOCIOECONÓMICOS REGIONALES
I2: Volver al índice
A3: 17.2 MERCADO DE TRABAJO
A5: 17.2.1 ENCUESTA DE POBLACIÓN ACTIVA. 4º TRIMESTRE DE 2021
A7: Unidades: Miles de personas (excepto tasas actividad y paro)
B9: Población de | C9: Población | D9: Población | E9: Población | F9: Tasa de | G9: Tasa
B10: 16 y más años | C10: Activa | D10: Ocupada | E10: Parada | F10: actividad | G10: de paro
A12: ESPAÑA | B12: 39707 | C12: 23288.8 | D12: 20184.9 | E12: 3103.8 | F12: 58.65 | G12: 13.33
A13: Andalucía | B13: 7075 | C13: 4071.6 | D13: 3249.8 | E13: 821.8 | F13: 57.55 | G13: 20.18
A14: Aragón | B14: 1100.2 | C14: 647.4 | D14: 589 | E14: 58.4 | F14: 58.84 | G14: 9.02
A15: Asturias | B15: 881 | C15: 440.6 | D15: 396.5 | E15: 44.1 | F15: 50.01 | G15: 10.01
A16: I. Baleares | B16: 1027.5 | C16: 630.9 | D16: 536.9 | E16: 94 | F16: 61.41 | G16: 14.9
A17: Canarias | B17: 1938.6 | C17: 1157.1 | D17: 938 | E17: 219.1 | F17: 59.69 | G17: 18.94
A18: Cantabria | B18: 498.1 | C18: 273.8 | D18: 242.2 | E18: 31.5 | F18: 54.96 | G18: 11.52
A19: Castilla y León | B19: 2029.9 | C19: 1102.5 | D19: 988.6 | E19: 113.9 | F19: 54.31 | G19: 10.33
A20: Castilla - La Mancha | B20: 1697.9 | C20: 1003.3 | D20: 869.7 | E20: 133.6 | F20: 59.09 | G20: 13.31
A21: Cataluña | B21: 6354.7 | C21: 3893.6 | D21: 3498.1 | E21: 395.4 | F21: 61.27 | G21: 10.16
A22: C. Valenciana | B22: 4247.8 | C22: 2471.6 | D22: 2115.8 | E22: 355.8 | F22: 58.19 | G22: 14.39
A23: Extremadura | B23: 891.6 | C23: 489.3 | D23: 396.6 | E23: 92.7 | F23: 54.88 | G23: 18.94
... A31: Melilla | B31: 63 | C31: 40.2 | D31: 32 | E31: 8.1 | F31: 63.8 | G31: 20.24
A33: FUENTE: Encuesta de Población Activa. INE.
A34: NOTA: Los resultados de Ceuta y Melilla deben tomarse con precaución porque pueden estar afectados por grandes errores de muestreo
I36: Datos del gráfico
A37: G.17.2 Tasas de Actividad y Paro de la EPA. 4º trimestre 2021 | J37: Tasa actividad
J38: Tasa paro
J39: Tasa activ. España | K39: Tasa paro España
I41: Andalucía | J41: =$F$12 -> 58.65 | K41: =$G$12 -> 13.33
I42: Aragón | J42: =$J$41 -> 58.65 | K42: =K41 -> 13.33
I43: Asturias | J43: =$J$41 -> 58.65 | K43: =K42 -> 13.33
I44: Baleares | J44: =$J$41 -> 58.65 | K44: =K43 -> 13.33
I45: Canarias | J45: =$J$41 -> 58.65 | K45: =K44 -> 13.33
I46: Cantabria | J46: =$J$41 -> 58.65 | K46: =K45 -> 13.33
I47: Cast. y León | J47: =$J$41 -> 58.65 | K47: =K46 -> 13.33
I48: Cast.-La Mancha | J48: =$J$41 -> 58.65 | K48: =K47 -> 13.33
I49: Cataluña | J49: =$J$41 -> 58.65 | K49: =K48 -> 13.33
I50: C. Valenciana | J50: =$J$41 -> 58.65 | K50: =K49 -> 13.33
I51: Extremadura | J51: =$J$41 -> 58.65 | K51: =K50 -> 13.33
I52: Galicia | J52: =$J$41 -> 58.65 | K52: =K51 -> 13.33
I53: Madrid | J53: =$J$41 -> 58.65 | K53: =K52 -> 13.33
... I59: Melilla | J59: =$J$41 -> 58.65 | K59: =K58 -> 13.33

Sheet 17.2.2
A1: 17. INDICADORES SOCIOECONÓMICOS REGIONALES
S2: Volver al índice
A3: 17.2.2 POBLACIÓN ACTIVA, OCUPADA Y PARADA POR SECTORES ECONÓMICOS. DISTRIBUCIÓN
A4: PORCENTUAL. 4º TRIMESTRE DE 2021
B7: Activa | H7: Ocupada | M7: Parada
B8: Agric. | C8: Indus. | D8: Const. | E8: Serv. | F8: Otros(1) | H8: Agric. | I8: Indus. | J8: Const. | K8: Serv. | M8: Agric. | N8: Indus. | O8: Const. | P8: Serv. | Q8: Otros(1)
A10: ESPAÑA | B10: 4.3 | C10: 12.5 | D10: 6 | E10: 70 | F10: 7.2 | H10: 4.2 | I10: 13.7 | J10: 6.4 | K10: 75.8 | M10: 5.1904118 | N10: 4.5299311 | O10: 3.6729171 | P10: 32.466654 | Q10: 54.140086
A11: Andalucía | B11: 9.4 | C11: 7.9 | D11: 6.4 | E11: 66.2 | F11: 10.2 | H11: 9.1 | I11: 9.2 | J11: 6.9 | K11: 74.8 | M11: 10.477002 | N11: 2.5797031 | O11: 4.6970066 | P11: 31.905573 | Q11: 50.328547
A12: Aragón | B12: 5.2 | C12: 18.6 | D12: 7.3 | E12: 64.5 | F12: 4.4 | H12: 5.4 | I12: 19 | J12: 7.6 | K12: 67.9 | M12: 3.2534247 | N12: 14.212329 | O12: 4.2808219 | P12: 29.452055 | Q12: 48.80137
A13: Asturias | B13: 3.3 | C13: 12.5 | D13: 6 | E13: 71.8 | F13: 6.3 | H13: 3.6 | I13: 13.7 | J13: 6.3 | K13: 76.4 | M13: - | N13: 2.2675737 | O13: 3.1746032 | P13: 31.292517 | Q13: 63.265306
A14: I. Baleares | B14: 1.6 | C14: 7.5 | D14: 10.3 | E14: 74.9 | F14: 5.7 | H14: 1.3 | I14: 7.8 | J14: 10.6 | K14: 80.3 | M14: 3.4042553 | N14: 5.8510638 | O14: 8.5106383 | P14: 44.148936 | Q14: 38.085106
A15: Canarias | B15: 2.8 | C15: 4.8 | D15: 5.6 | E15: 73.7 | F15: 13.1 | H15: 2.8 | I15: 5.6 | J15: 6.1 | K15: 85.5 | M15: 2.4189868 | N15: 1.5974441 | O15: 3.696942 | P15: 23.18576 | Q15: 69.146508
A16: Cantabria | B16: 1.9 | C16: 16.3 | D16: 6.6 | E16: 70.1 | F16: 5.1 | H16: 2 | I16: 17.1 | J16: 7 | K16: 73.9 | M16: 1.2698413 | N16: 10.15873 | O16: 3.4920635 | P16: 40.634921 | Q16: 44.444444
A17: Castilla y León | B17: 6.2 | C17: 15.2 | D17: 6.4 | E17: 66.9 | F17: 5.3 | H17: 6.6 | I17: 16 | J17: 6.7 | K17: 70.7 | M17: 3.0728709 | N17: 7.8138718 | O17: 3.8630378 | P17: 33.80158 | Q17: 51.360843
A18: Castilla - La Mancha | B18: 7.3 | C18: 14.1 | D18: 6.6 | E18: 64.1 | F18: 7.8 | H18: 7.6 | I18: 15.6 | J18: 7.4 | K18: 69.3 | M18: 5.3892216 | N18: 4.5658683 | O18: 1.2724551 | P18: 30.389222 | Q18: 58.383234
A19: Cataluña | B19: 1.7 | C19: 15.6 | D19: 5.5 | E19: 71.6 | F19: 5.7 | H19: 1.7 | I19: 16.8 | J19: 5.8 | K19: 75.7 | M19: 1.8968134 | N19: 4.400607 | O19: 2.9084471 | P19: 34.825493 | Q19: 55.99393
A20: C. Valenciana | B20: 2.8 | C20: 15.7 | D20: 5.8 | E20: 67.9 | F20: 7.7 | H20: 2.6 | I20: 17.3 | J20: 6.3 | K20: 73.8 | M20: 4.5250141 | N20: 6.1270377 | O20: 2.8105677 | P20: 33.220911 | Q20: 53.288364
A21: Extremadura | B21: 10.7 | C21: 9.4 | D21: 6.7 | E21: 64.2 | F21: 9 | H21: 10.6 | I21: 10.6 | J21: 7.7 | K21: 71.1 | M21: 11.111111 | N21: 3.99137 | O21: 2.6968716 | P21: 34.951456 | Q21: 47.249191
A22: Galicia | B22: 5.7 | C22: 14.9 | D22: 6.1 | E22: 67.3 | F22: 6 | H22: 6 | I22: 15.9 | J22: 6.5 | K22: 71.5 | M22: 2.5906736 | N22: 6.957809 | O22: 2.2945966 | P22: 33.678756 | Q22: 54.478164
A23: Madrid | B23: 0.3 | C23: 8.7 | D23: 5.5 | E23: 79.9 | F23: 5.6 | H23: 0.2 | I23: 9.3 | J23: 5.7 | K23: 84.8 | M23: 0.75524476 | N23: 3.3846154 | O23: 3.7762238 | P23: 36.503497 | Q23: 55.552448
A24: Murcia | B24: 11.2 | C24: 12 | D24: 6 | E24: 63.9 | F24: 6.8 | H24: 11.2 | I24: 13 | J24: 6.3 | K24: 69.5 | M24: 11.271975 | N24: 5.377456 | O24: 4.4467425 | P24: 26.163392 | Q24: 52.740434
A25: Navarra | B25: 3.2 | C25: 25.3 | D25: 6.2 | E25: 60 | F25: 5.3 | H25: 3.5 | I25: 26.7 | J25: 6.4 | K25: 63.5 | M25: 0.94339623 | N25: 12.893082 | O25: 4.4025157 | P25: 27.987421 | Q25: 53.459119
... A27: La Rioja | B27: 5.5 | C27: 26.4 | D27: 4.8 | E27: 57.9 | F27: 5.3 | H27: 5.9 | I27: 28.2 | J27: 5.2 | K27: 60.6 | M27: 2.4242424 | N27: 10.909091 | O27: 1.2121212 | P27: 34.545455 | Q27: 50.909091
A28: Ceuta | B28: - | C28: 3.1 | D28: 4.5 | E28: 72.3 | F28: 20.1 | H28: - | I28: 4.3 | J28: 6.1 | K28: 89.6 | M28: - | N28: - | O28: - | P28: 25.510204 | Q28: 75.510204
A29: Melilla | B29: - | C29: 2.4 | D29: 1.7 | E29: 80.5 | F29: 15.4 | H29: - | I29: 3 | J29: 2.1 | K29: 94.9 | M29: - | N29: - | O29: - | P29: 23.45679 | Q29: 76.54321
A31: FUENTE: Encuesta de Población Activa. INE.
A32: NOTAS: Los parados que han dejado su último empleo hace 12 meses o menos, se clasifican por el sector económico correspondiente a
A33: dicho empleo.
A34: (1): Parados que buscan su primer empleo o han dejado su último empleo hace más de un año.

Sheet G.17.3-G.17.4
A1: 17. INDICADORES SOCIOECONÓMICOS REGIONALES
I2: Volver al índice
A5: G.17.3 Distribución porcentual de la población activa. 4º trimestre 2021 | I5: DATOS DE LOS
I6: GRÁFICOS
I7: ESPAÑA
I8: Andalucía
I9: Aragón
I10: Asturias
I11: Baleares
I12: Canarias
I13: Cantabria
I14: Cast. y León
I15: Cast.-La Mancha
I16: Cataluña
I17: C. Valenciana
... I26: Melilla
A28: (1): Parados que buscan su primer empleo o han dejado su último empleo hace más de un año.
A31: G.17.4 Distribución porcentual de la población parada. 4º trimestre 2021
A52: (1): Parados que buscan su primer empleo o han dejado su último empleo hace más de un año.

Sheet 17.2.3
A1: 17. INDICADORES SOCIOECONÓMICOS REGIONALES
K2: Volver al índice
A3: 17.2.3 OFERTAS, DEMANDAS, CONTRATOS Y PARO REGISTRADO. AÑO 2021
A5: Unidades: Número de personas
B7: Ofertas | E7: Demandas | H7: Contratos | I7: Paro
B8: Pendientes | C8: Registradas | E8: Pendientes | F8: Altas | I8: registrado
A10: ESPAÑA | B10: 134817 | C10: 536242 | E10: 2635553.7 | F10: 7891677 | H10: 19384359 | I10: 3565239.5
A11: Andalucía | B11: 17568 | C11: 150827 | E11: 605274.34 | F11: 2332213 | H11: 4588352 | I11: 886171.33
A12: Aragón | B12: 2786 | C12: 18396 | E12: 41443.42 | F12: 191518 | H12: 565512 | I12: 73623.583
A13: Asturias | B13: 1785 | C13: 10300 | E13: 27838.08 | F13: 128210 | H13: 302643 | I13: 73252.75
A14: I. Baleares | B14: 1724 | C14: 10288 | E14: 77511 | F14: 223082 | H14: 357365 | I14: 65618.25
A15: Canarias | B15: 4422 | C15: 20123 | E15: 164270 | F15: 374799 | H15: 607495 | I15: 249771.17
A16: Cantabria | B16: 1199 | C16: 6601 | E16: 15090.17 | F16: 77266 | H16: 242467 | I16: 40104.417
A17: Castilla y León | B17: 7310 | C17: 28636 | E17: 50120.84 | F17: 308789 | H17: 920947 | I17: 172305.33
A18: Castilla - La Mancha | B18: 14047 | C18: 34067 | E18: 65393.16 | F18: 328730 | H18: 840551 | I18: 152468.08
A19: Cataluña | B19: 33301 | C19: 40782 | E19: 506314.66 | F19: 781244 | H19: 2772553 | I19: 437165.58
A20: C. Valenciana | B20: 13550 | C20: 35189 | E20: 440727.83 | F20: 677843 | H20: 1897819 | I20: 426472.83
A21: Extremadura | B21: 5829 | C21: 60354 | E21: 54410 | F21: 314562 | H21: 587773 | I21: 101392.83
... A29: Melilla | B29: 1688 | C29: 3319 | E29: 2523.83 | F29: 11926 | H29: 20438 | I29: 8179.25
A30: Extranjero (1) | B30: 28 | C30: 36 | E30: - | F30: - | H30: 7749 | I30: -
A32: FUENTE: Movimiento laboral registrado. Ministerio de Trabajo y Economía Social.
A33: NOTAS: Los datos de "Ofertas pendientes" se refieren a 31 de diciembre.
A34: Los datos de "demandas de empleo pendientes" y "paro registrado" son medias anuales.
A35: El resto de datos son acumulados anuales.
A36: (1): Datos referidos a centros de trabajo fuera del territorio nacional.

Sheet 17.3.1 
A1: 17. INDICADORES SOCIOECONÓMICOS REGIONALES
K2: Volver al índice
A3: 17.3 MACROMAGNITUDES
A5: 17.3.1 PRODUCTO INTERIOR BRUTO
A7: Unidades: Miles de euros
B9: PIBpm (precios corrientes) | G9: % Variac. volumen / año ant.
B10: 2017 | C10: 2018 | D10: 2019(P) | E10: 2020(A) | G10: 2018 | H10: 2019(P) | I10: 2020(A)
A12: ESPAÑA | B12: 1161867000 | C12: 1203259000 | D12: 1244375000 | E12: 1121948000 | G12: 2.2887301 | H12: 2.0852535 | I12: -10.822943
A13: Andalucía | B13: 155371755 | C13: 160580547 | D13: 165000524 | E13: 150556999 | G13: 2.5662766 | H13: 1.9643376 | I13: -10.007625
A14: Aragón | B14: 35638352 | C14: 36868560 | D14: 38084387 | E14: 35289952 | G14: 2.646862 | H14: 1.0715553 | I14: -8.544961
A15: Asturias | B15: 22592548 | C15: 23224857 | D15: 23705903 | E15: 21474791 | G15: 1.4820196 | H15: 1.3658469 | I15: -10.248228
A16: I. Baleares | B16: 31383376 | C16: 32740955 | D16: 34172158 | E16: 26789155 | G16: 2.7533335 | H16: 2.9208555 | I16: -21.7039
A17: Canarias | B17: 44205400 | C17: 45830435 | D17: 47483461 | E17: 39162597 | G17: 2.1405688 | H17: 2.5328322 | I17: -18.069742
A18: Cantabria | B18: 13226038 | C18: 13743179 | D18: 14168880 | E18: 12866634 | G18: 2.0834282 | H18: 1.473531 | I18: -9.758139
A19: Castilla y León | B19: 56051831 | C19: 58544593 | D19: 59852213 | E19: 55401268 | G19: 2.8911081 | H19: 0.80032156 | I19: -8.6642026
A20: Castilla - La Mancha | B20: 39891219 | C20: 41479349 | D20: 42489519 | E20: 39572837 | G20: 3.1334465 | H20: 0.90027208 | I20: -7.8901011
A21: Cataluña | B21: 221476488 | C21: 229098023 | D21: 237504612 | E21: 212931347 | G21: 2.0567398 | H21: 2.0807578 | I21: -11.539372
A22: C. Valenciana | B22: 107785815 | C22: 111741700 | D22: 115407021 | E22: 104724101 | G22: 2.0800205 | H22: 1.98628 | I22: -10.115065
A23: Extremadura | B23: 19534814 | C23: 20090192 | D23: 20516661 | E23: 19385729 | G23: 1.8153795 | H23: 1.8525308 | I23: -7.406171
... A32: Extrarregio | B32: 1086809 | C32: 1091676 | D32: 1124158 | E32: 1117446 | G32: 2.2887301 | H32: 2.0852535 | I32: -10.822943
A34: FUENTE: Contabilidad Regional. Revisión Estadística 2019. INE.
A35: NOTAS: (P) = Datos Provisionales. (A) = Avance

Sheet 17.3.2_G.17.5 
A1: 17. INDICADORES SOCIOECONÓMICOS REGIONALES
K2: Volver al índice
A3: 17.3.2 PIB PER CÁPITA
A5: Unidades: Euros
B7: PIB per cápita (precios corrientes) | G7: % Variación sobre año anterior
B8: 2017 | C8: 2018 | D8: 2019(P) | E8: 2020(A) | G8: 2018 | H8: 2019(P) | I8: 2020(A)
A10: ESPAÑA | B10: 24969 | C10: 25750 | D10: 26417 | E10: 23693 | G10: =((C10/B10)-1)*100 -> 3.1278786 | H10: =((D10/C10)-1)*100 -> 2.5902913 | I10: =((E10/D10)-1)*100 -> -10.311542
A11: Andalucía | B11: 18490 | C11: 19103 | D11: 19530 | E11: 17747 | G11: =((C11/B11)-1)*100 -> 3.3153056 | H11: =((D11/C11)-1)*100 -> 2.235251 | I11: =((E11/D11)-1)*100 -> -9.1295443
A12: Aragón | B12: 27087 | C12: 28021 | D12: 28759 | E12: 26512 | G12: =((C12/B12)-1)*100 -> 3.4481486 | H12: =((D12/C12)-1)*100 -> 2.633739 | I12: =((E12/D12)-1)*100 -> -7.8132063
A13: Asturias | B13: 21936 | C13: 22676 | D13: 23240 | E13: 21149 | G13: =((C13/B13)-1)*100 -> 3.37345 | H13: =((D13/C13)-1)*100 -> 2.4872111 | I13: =((E13/D13)-1)*100 -> -8.9974182
A14: I. Baleares | B14: 27102 | C14: 27847 | D14: 28522 | E14: 22048 | G14: =((C14/B14)-1)*100 -> 2.7488746 | H14: =((D14/C14)-1)*100 -> 2.4239595 | I14: =((E14/D14)-1)*100 -> -22.698268
A15: Canarias | B15: 20436 | C15: 20943 | D15: 21387 | E15: 17448 | G15: =((C15/B15)-1)*100 -> 2.480916 | H15: =((D15/C15)-1)*100 -> 2.1200401 | I15: =((E15/D15)-1)*100 -> -18.41773
A16: Cantabria | B16: 22767 | C16: 23656 | D16: 24350 | E16: 22096 | G16: =((C16/B16)-1)*100 -> 3.9047745 | H16: =((D16/C16)-1)*100 -> 2.9337166 | I16: =((E16/D16)-1)*100 -> -9.2566735
A17: Castilla y León | B17: 23130 | C17: 24289 | D17: 24910 | E17: 23167 | G17: =((C17/B17)-1)*100 -> 5.0108085 | H17: =((D17/C17)-1)*100 -> 2.5567129 | I17: =((E17/D17)-1)*100 -> -6.9971899
A18: Castilla - La Mancha | B18: 19621 | C18: 20431 | D18: 20841 | E18: 19369 | G18: =((C18/B18)-1)*100 -> 4.12823 | H18: =((D18/C18)-1)*100 -> 2.0067544 | I18: =((E18/D18)-1)*100 -> -7.0630008
A19: Cataluña | B19: 29727 | C19: 30481 | D19: 31209 | E19: 27812 | G19: =((C19/B19)-1)*100 -> 2.5364147 | H19: =((D19/C19)-1)*100 -> 2.3883731 | I19: =((E19/D19)-1)*100 -> -10.884681
A20: C. Valenciana | B20: 21864 | C20: 22581 | D20: 23083 | E20: 20792 | G20: =((C20/B20)-1)*100 -> 3.2793633 | H20: =((D20/C20)-1)*100 -> 2.2231079 | I20: =((E20/D20)-1)*100 -> -9.9250531
A21: Extremadura | B21: 18203 | C21: 18828 | D21: 19304 | E21: 18301 | G21: =((C21/B21)-1)*100 -> 3.4335 | H21: =((D21/C21)-1)*100 -> 2.5281496 | I21: =((E21/D21)-1)*100 -> -5.1958143
... A29: Melilla | B29: 17921 | C29: 18644 | D29: 19224 | E29: 17900 | G29: =((C29/B29)-1)*100 -> 4.0343731 | H29: =((D29/C29)-1)*100 -> 3.1109204 | I29: =((E29/D29)-1)*100 -> -6.8872243
A31: FUENTE: Contabilidad Regional. Revisión Estadística 2019. INE.
A32: NOTAS: (P) = Datos Provisionales. (A) = Avance
J33: PIB per cápita España | K33: Datos del gráfico
A34: G.17.5 PIB per cápita (precios corrientes). Año 2020(A)
K35: CCAA | L35: PIB
J36: =$E$10 -> 23693 | K36: Madrid | L36: 32048
J37: =$E$10 -> 23693 | K37: País Vasco | L37: 30401
J38: =$E$10 -> 23693 | K38: Navarra | L38: 29314
J39: =$E$10 -> 23693 | K39: Cataluña | L39: 27812
J40: =$E$10 -> 23693 | K40: Aragón | L40: 26512
J41: =$E$10 -> 23693 | K41: LA RIOJA | L41: 25714
J42: =$E$10 -> 23693 | K42: Castilla y León | L42: 23167
J43: =$E$10 -> 23693 | K43: Cantabria | L43: 22096
J44: =$E$10 -> 23693 | K44: I. Baleares | L44: 22048
J45: =$E$10 -> 23693 | K45: Galicia | L45: 21903
J46: =$E$10 -> 23693 | K46: Asturias | L46: 21149
J47: =$E$10 -> 23693 | K47: C. Valenciana | L47: 20792
... J54: =$E$10 -> 23693 | K54: Canarias | L54: 17448

Sheet G.17.6
A1: 17. INDICADORES SOCIOECONÓMICOS REGIONALES
I2: Volver al índice

Sheet 17.3.3_G.17.7
A1: 17. INDICADORES SOCIOECONÓMICOS REGIONALES
L2: Volver al índice
A3: 17.3.3 VALOR AÑADIDO BRUTO Y PARTICIPACIÓN POR RAMAS DE ACTIVIDAD. AÑO 2020
A5: Unidades: Valores absolutos en miles de euros
B7: VAB | D7: % Participación / VAB | H7: Imp. netos sobre | I7: PIBpm | J7: Distribución
D8: Agricult. | E8: Industria | F8: Construc. | G8: Servicios | H8: los productos | J8: PIBpm (%)
A10: ESPAÑA | B10: 1024121000 | D10: 3.4487136 | E10: 16.092141 | F10: 6.2240692 | G10: 74.235076 | H10: 97827000 | I10: 115762000 | J10: 100
A11: Andalucía | B11: 137429350 | D11: 7.7495564 | E11: 11.357808 | F11: 6.9297454 | G11: 73.96289 | H11: 13127649 | I11: 15425253 | J11: =I11*100/$I$10 -> 13.324971
A12: Aragón | B12: 32212884 | D12: 7.5658143 | E12: 21.663254 | F12: 6.1880768 | G12: 64.582854 | H12: 3077068 | I12: 3537997 | J12: =I12*100/$I$10 -> 3.056268
A13: Asturias | B13: 19602321 | D13: 1.8687022 | E13: 18.844289 | F13: 7.0207656 | G13: 72.266243 | H13: 1872470 | I13: 2210134 | J13: =I13*100/$I$10 -> 1.9092051
A14: I. Baleares | B14: 24453305 | D14: 0.7878526 | E14: 6.4316868 | F14: 8.8604874 | G14: 83.919973 | H14: 2335850 | I14: 3143330 | J14: =I14*100/$I$10 -> 2.7153384
A15: Canarias | B15: 35747858 | D15: 2.2688324 | E15: 6.8458647 | F15: 6.5846295 | G15: 84.300673 | H15: 3414739 | I15: 4386199 | J15: =I15*100/$I$10 -> 3.78898
A16: Cantabria | B16: 11744742 | D16: 1.510097 | E16: 20.832216 | F16: 6.9711791 | G16: 70.686508 | H16: 1121892 | I16: 1319409 | J16: =I16*100/$I$10 -> 1.13976
A17: Castilla y León | B17: 50570616 | D17: 5.770954 | E17: 19.715692 | F17: 6.5322281 | G17: 67.981126 | H17: 4830652 | I17: 5560842 | J17: =I17*100/$I$10 -> 4.8036851
A18: Castilla - La Mancha | B18: 36122328 | D18: 10.296737 | E18: 18.936579 | F18: 6.6342651 | G18: 64.13242 | H18: 3450509 | I18: 3982208 | J18: =I18*100/$I$10 -> 3.4399959
A19: Cataluña | B19: 194365037 | D19: 1.3942528 | E19: 19.31049 | F19: 5.5461374 | G19: 73.749119 | H19: 18566310 | I19: 22023353 | J19: =I19*100/$I$10 -> 19.024683
A20: C. Valenciana | B20: 95592800 | D20: 2.5246357 | E20: 19.175734 | F20: 6.854283 | G20: 71.445347 | H20: 9131301 | I20: 10789259 | J20: =I20*100/$I$10 -> 9.3202078
A21: Extremadura | B21: 17695412 | D21: 9.6249355 | E21: 13.441219 | F21: 7.3503177 | G21: 69.583528 | H21: 1690317 | I21: 1922932 | J21: =I21*100/$I$10 -> 1.6611081
A22: Galicia | B22: 53951612 | D22: 6.2930983 | E22: 17.715578 | F22: 6.9706221 | G22: 69.020701 | H22: 5153614 | I22: 5991886 | J22: =I22*100/$I$10 -> 5.1760388
... A29: Melilla | B29: 1376986 | D29: 0.059986086 | E29: 4.3737554 | F29: 5.69236 | G29: 89.873899 | H29: 131534 | I29: 150791 | J29: =I29*100/$I$10 -> 0.1302595
A31: FUENTE: Contabilidad Regional. Revisión Estadística 2019. INE.
A32: NOTAS: Datos Avance
A33: En la información de "ESPAÑA" está incluido el territorio extrarregional por lo que las cifras no coinciden con las sumas de las CCAA.
L34: Datos del gráfico
A35: G.17.7 Distribución porcentual del VAB por ramas de actividad. Año 2020 (A) | L35: ESPAÑA
L36: Andalucía
L37: Aragón
L38: Asturias
L39: Baleares
L40: Canarias
L41: Cantabria
L42: Castilla y León
L43: Castilla - La Mancha
L44: Cataluña
L45: C. Valenciana
L46: Extremadura
L47: Galicia
... L54: Melilla

Sheet 17.3.4
A1: 17. INDICADORES SOCIOECONÓMICOS REGIONALES
F2: Volver al índice
A3: 17.3.4 OTRAS MACROMAGNITUDES DE LA CONTABILIDAD REGIONAL DE ESPAÑA. AÑO 2020 (A)
A5: Unidades: Miles de euros / Miles de personas
B7: Remuneración de | C7: Empleo total | D7: Empleo asalariado
B8: los asalariados
A10: ESPAÑA | B10: 543856000 | C10: 19526.3 | D10: 16792
A11: Andalucía | B11: 71317930 | C11: 2942 | D11: 2469.5
A12: Aragón | B12: 16176077 | C12: 592.7 | D12: 504.2
A13: Asturias | B13: 10319452 | C13: 383.1 | D13: 316.8
A14: I. Baleares | B14: 12402418 | C14: 495.3 | D14: 420
A15: Canarias | B15: 18969260 | C15: 806.3 | D15: 692
A16: Cantabria | B16: 5932490 | C16: 223.3 | D16: 188.4
A17: Castilla y León | B17: 24869315 | C17: 965.9 | D17: 806.2
A18: Castilla - La Mancha | B18: 17495690 | C18: 712.7 | D18: 586.2
A19: Cataluña | B19: 104582680 | C19: 3492.8 | D19: 3057.2
A20: C. Valenciana | B20: 48477375 | C20: 1917.6 | D20: 1630.7
A21: Extremadura | B21: 8567150 | C21: 369.5 | D21: 300.2
... A29: Melilla | B29: 884212 | C29: 29.3 | D29: 26.3
A31: FUENTE: Contabilidad Regional. Revisión Estadística 2019. INE.
A32: NOTAS: Datos Avance
A33: En la información de "ESPAÑA" está incluido el territorio extrarregional, por lo que sus cifras no coinciden con las sumas de las CCAA.

Sheet 17.4.1
A1: 17. INDICADORES SOCIOECONÓMICOS REGIONALES
P2: Volver al índice
A3: 17.4 CONSUMO
A5: 17.4.1 VARIACIÓN INTERANUAL DE LAS MEDIAS ANUALES DEL IPC POR GRUPOS Y POR REGIONES.
A6: AÑO 2021 | V6: 1
B8: Ind.Gral. | C8: G1 | D8: G2 | E8: G3 | F8: G4 | G8: G5 | H8: G6 | I8: G7 | J8: G8 | K8: G9 | L8: G10 | M8: G11 | N8: G12
A10: ESPAÑA | B10: 3.1 | C10: 1.8 | D10: 0.3 | E10: 1 | F10: 11.1 | G10: 0.9 | H10: 0.7 | I10: 7.3 | J10: -3 | K10: 0.2 | L10: 0.2 | M10: 0.9 | N10: 1
A11: Andalucía | B11: 3.1 | C11: 1.6 | D11: -0.1 | E11: 1 | F11: 12.9 | G11: 0.7 | H11: 0.7 | I11: 7.6 | J11: -3 | K11: -0.1 | L11: 0.9 | M11: 0.9 | N11: 0.6
A12: Aragón | B12: 3.4 | C12: 2.4 | D12: 0.1 | E12: 1.1 | F12: 11.9 | G12: 1.5 | H12: 0.3 | I12: 7.2 | J12: -3 | K12: -0.1 | L12: 1.6 | M12: 1 | N12: 1.6
A13: Asturias | B13: 3 | C13: 2.1 | D13: 0.1 | E13: 1 | F13: 11.8 | G13: 0.6 | H13: -0.9 | I13: 6.5 | J13: -3.1 | K13: -0.2 | L13: 1.3 | M13: 1.4 | N13: 0.8
A14: I. Baleares | B14: 3.3 | C14: 2.2 | D14: 0.8 | E14: 1 | F14: 10.6 | G14: 2.2 | H14: 1.6 | I14: 6.5 | J14: -2.9 | K14: 0.3 | L14: 0.8 | M14: 1.4 | N14: 1
A15: Canarias | B15: 2.2 | C15: 1.2 | D15: 1.2 | E15: 0.9 | F15: 10 | G15: 0.2 | H15: 0.3 | I15: 4.6 | J15: -3 | K15: -0.6 | L15: 0.7 | M15: 0.9 | N15: 1.1
A16: Cantabria | B16: 3.3 | C16: 1.9 | D16: 0.7 | E16: 1.1 | F16: 10.7 | G16: 0.7 | H16: 1.3 | I16: 7.2 | J16: -2.8 | K16: 0.1 | L16: 0.6 | M16: 1.1 | N16: 1.6
A17: Castilla y León | B17: 3.5 | C17: 1.9 | D17: -0.1 | E17: 1 | F17: 13 | G17: 1.2 | H17: 1.3 | I17: 7.7 | J17: -3 | K17: -0.2 | L17: 0.8 | M17: 1 | N17: 0.9
A18: Castilla - La Mancha | B18: 3.7 | C18: 1.6 | D18: 0.6 | E18: 1 | F18: 14.6 | G18: 1.1 | H18: 0.9 | I18: 7.6 | J18: -2.9 | K18: -0.1 | L18: 1.2 | M18: 1.1 | N18: 1.2
A19: Cataluña | B19: 2.9 | C19: 1.9 | D19: 0.2 | E19: 1.1 | F19: 9.6 | G19: 0.8 | H19: 0.8 | I19: 7.5 | J19: -3 | K19: 0.4 | L19: -2.7 | M19: 0.4 | N19: 1.3
A20: C. Valenciana | B20: 3.3 | C20: 1.7 | D20: 0.5 | E20: 1 | F20: 13.2 | G20: 1.3 | H20: 0.8 | I20: 7.5 | J20: -3.1 | K20: 0.5 | L20: 0.9 | M20: 0.8 | N20: 1.1
A21: Extremadura | B21: 3.4 | C21: 1.6 | D21: 0.5 | E21: 1 | F21: 13.9 | G21: 0.7 | H21: 0.5 | I21: 8.2 | J21: -3.1 | K21: -0.1 | L21: 1.4 | M21: 0.9 | N21: 1.2
... A29: Melilla | B29: 3.9 | C29: 2.5 | D29: 1.3 | E29: 1 | F29: 11.4 | G29: 0.5 | H29: 1.7 | I29: 13.6 | J29: -3 | K29: -0.1 | L29: 0.8 | M29: 1.2 | N29: 0.7
A31: FUENTE: Índice de Precios al Consumo. INE.
A32: NOTA:
A33: G1= Alimentos y bebidas no alcohólicas
A34: G2= Bebidas alcohólicas y tabaco
A35: G3= Vestido y calzado
A36: G4= Vivienda, agua, electricidad, gas y otros combustibles
A37: G5= Muebles, artículos del hogar y artículos para el mantenimiento corriente del hogar
A38: G6= Sanidad
A39: G7= Transporte
A40: G8= Comunicaciones
A41: G9= Ocio y cultura
A42: G10= Enseñanza
... A44: G12= Otros bienes y servicios

Sheet 17.4.2_G.17.8
A1: 17.4 INDICADORES SOCIOECONÓMICOS REGIONALES. CONSUMO
O2: Volver al índice
A3: 17.4.2 VARIACIÓN ANUAL DEL ÍNDICE GENERAL DE PRECIOS DE CONSUMO. AÑO 2021
B5: Enero | C5: Feb. | D5: Mar. | E5: Abr. | F5: Mayo | G5: Jun. | H5: Jul. | I5: Ago. | J5: Sep. | K5: Oct. | L5: Nov. | M5: Dic.
A7: ESPAÑA | B7: 0.5 | C7: 0 | D7: 1.3 | E7: 2.2 | F7: 2.7 | G7: 2.7 | H7: 2.9 | I7: 3.3 | J7: 4 | K7: 5.4 | L7: 5.5 | M7: 6.5
A8: Andalucía | B8: 0.6 | C8: 0 | D8: 1.4 | E8: 2.3 | F8: 2.7 | G8: 2.7 | H8: 2.9 | I8: 3.3 | J8: 4.1 | K8: 5.3 | L8: 5.4 | M8: 6.7
A9: Aragón | B9: 0.5 | C9: -0.1 | D9: 1.6 | E9: 2.6 | F9: 3.2 | G9: 3.2 | H9: 3.2 | I9: 3.7 | J9: 4.4 | K9: 5.8 | L9: 6.1 | M9: 7.2
A10: Asturias | B10: 0.4 | C10: -0.1 | D10: 1.5 | E10: 2.5 | F10: 2.7 | G10: 2.9 | H10: 2.7 | I10: 3.2 | J10: 3.9 | K10: 5.3 | L10: 5.2 | M10: 6.2
A11: I. Baleares | B11: 0.7 | C11: 0.2 | D11: 1.6 | E11: 2.6 | F11: 3.1 | G11: 3.2 | H11: 3 | I11: 3.4 | J11: 4.2 | K11: 5.6 | L11: 5.7 | M11: 6.5
A12: Canarias | B12: 0.2 | C12: -0.4 | D12: 0.4 | E12: 1.2 | F12: 1.6 | G12: 1.6 | H12: 1.8 | I12: 2.4 | J12: 3.2 | K12: 4.2 | L12: 4.6 | M12: 5.8
A13: Cantabria | B13: 0.5 | C13: -0.1 | D13: 1.5 | E13: 2.3 | F13: 2.7 | G13: 3.1 | H13: 3 | I13: 3.5 | J13: 4.5 | K13: 5.5 | L13: 5.7 | M13: 6.8
A14: Castilla y León | B14: 0.4 | C14: -0.1 | D14: 1.5 | E14: 2.5 | F14: 3.2 | G14: 3.3 | H14: 3.5 | I14: 3.8 | J14: 4.5 | K14: 6.1 | L14: 6.2 | M14: 7.3
A15: Castilla - La Mancha | B15: 0.2 | C15: -0.2 | D15: 1.6 | E15: 2.8 | F15: 3.5 | G15: 3.4 | H15: 3.6 | I15: 4 | J15: 4.8 | K15: 6.5 | L15: 6.6 | M15: 7.6
A16: Cataluña | B16: 0.4 | C16: -0.1 | D16: 1.3 | E16: 2 | F16: 2.6 | G16: 2.6 | H16: 2.8 | I16: 3.1 | J16: 3.7 | K16: 5.2 | L16: 5.3 | M16: 6.1
A17: C. Valenciana | B17: 0.5 | C17: 0.2 | D17: 1.7 | E17: 2.5 | F17: 3 | G17: 3 | H17: 2.9 | I17: 3.4 | J17: 4.2 | K17: 5.6 | L17: 5.6 | M17: 6.8
A18: Extremadura | B18: 0.6 | C18: 0.1 | D18: 1.6 | E18: 2.4 | F18: 2.9 | G18: 3 | H18: 3.1 | I18: 3.6 | J18: 4.3 | K18: 5.6 | L18: 5.9 | M18: 7.1
... A26: Melilla | B26: 1.6 | C26: 1.3 | D26: 3 | E26: 3 | F26: 3.4 | G26: 3.5 | H26: 3.4 | I26: 3.9 | J26: 4.8 | K26: 5.9 | L26: 5.9 | M26: 6.9
A28: FUENTE: Índice de Precios de Consumo. INE.
A32: G.17.8 Variación interanual del IPC. Año 2021 | O32: Datos del gráfico | R32: Canarias | S32: 2.2
O33: Ceuta | P33: 0.3 | R33: Ceuta | S33: 2.6
O34: Asturias | P34: 0.4 | R34: Madrid | S34: 2.7
O35: Canarias | P35: 0.4 | R35: Cataluña | S35: 2.9
O36: Andalucía | P36: 0.5 | R36: Asturias | S36: 3
O37: Melilla | P37: 0.5 | R37: Murcia | S37: 3
O38: C. Valenciana | P38: 0.7 | R38: ESPAÑA | S38: 3.1
O39: Extremadura | P39: 0.7 | R39: Andalucía | S39: 3.1
O40: Galicia | P40: 0.7 | R40: País Vasco | S40: 3.1
O41: Murcia | P41: 0.7 | R41: La Rioja | S41: 3.2
O42: ESPAÑA | P42: 0.8 | R42: I. Baleares | S42: 3.3
O43: Aragón | P43: 0.8 | R43: Cantabria | S43: 3.3
O44: Cantabria | P44: 0.9 | R44: C. Valenciana | S44: 3.3
... O51: País Vasco | P51: 1.2 | R51: Melilla | S51: 3.9
O52: Navarra | P52: 1.3

Sheet 17.5.1_G.17.9
A1: 17. INDICADORES SOCIOECONÓMICOS REGIONALES
H2: Volver al índice
A3: 17.5 SECTOR AGRARIO
A5: 17.5.1 DISTRIBUCIÓN GENERAL DEL SUELO POR USO Y APROVECHAMIENTO. AÑO 2021
A7: Unidades: Hectáreas
B9: Superficie | C9: Tierras de | D9: Prados y | E9: Superficie | F9: Otras
B10: geográfica | C10: cultivo | D10: pastizales | E10: forestal | F10: superficies
B11: total | D11: permanentes | E11: arbolada (1)
A13: ESPAÑA | B13: 50597566 | C13: 16902513 | D13: 8406374.4 | E13: 19430368 | F13: 5858311.2
A14: Andalucía | B14: 8759857.1 | C14: 3528543.7 | D14: 1459657.1 | E14: 2645520.1 | F14: 1126136.2
A15: Aragón | B15: 4772208 | C15: 1789152.9 | D15: 310870.28 | E15: 2096252.9 | F15: 575931.91
A16: Asturias | B16: 1060568.3 | C16: 25176.923 | D16: 433811.46 | E16: 535226.09 | F16: 66353.78
A17: I. Baleares | B17: 499169.92 | C17: 160658.69 | D17: 30591.485 | E17: 196873.56 | F17: 111046.18
A18: Canarias | B18: 744509.92 | C18: 43807.175 | D18: 158944.95 | E18: 282819.24 | F18: 258938.56
A19: Cantabria | B19: 533017.81 | C19: 6617.1526 | D19: 261838.1 | E19: 216837.88 | F19: 47724.68
A20: Castilla y León | B20: 9422206 | C20: 3550749.1 | D20: 1966376.3 | E20: 3000889.6 | F20: 904190.92
A21: Castilla - La Mancha | B21: 7945932.2 | C21: 3686340.2 | D21: 532698.06 | E21: 3041439.3 | F21: 685454.63
A22: Cataluña | B22: 3211132.7 | C22: 819352.23 | D22: 219713.98 | E22: 1815206.3 | F22: 356860.23
A23: C. Valenciana | B23: 2326341.4 | C23: 635126.37 | D23: 110481.84 | E23: 1102756.6 | F23: 477976.59
A24: Extremadura | B24: 4163543.1 | C24: 1052867.1 | D24: 2007417.1 | E24: 826128.75 | F24: 277130.04
... A30: La Rioja | B30: 504558.89 | C30: 158759.09 | D30: 61366.497 | E30: 233095.25 | F30: 51338.053
A32: FUENTE: Encuesta sobre Superficies y Rendimientos de Cultivo (ESYRCE). Mº de Agricultura, Pesca y Alimentación.
A33: NOTA: (1) Las dehesas de labor con arbolado y de pasto con arbolado están incluidas en Tierras de cultivo y Prados y pastizales permantes, respectivamente. El matorral se incluye en Otras superficies.
A35: G.17.9 Distribución porcentual del suelo por uso y aprovechamiento. Año 2021
H36: Datos del gráfico
H37: CCAA | I37: Tierras cultivo | J37: Prados y pastiz. perm. | K37: Superficie forestal | L37: Otras superficies
H39: ESPAÑA | I39: =C13*100/$B$13 -> 33.405783 | J39: =D13*100/$B$13 -> 16.614187 | K39: =E13*100/$B$13 -> 38.401783 | L39: =F13*100/$B$13 -> 11.578247
H40: Andalucía | I40: =C14*100/$B$14 -> 40.280836 | J40: =D14*100/$B$14 -> 16.663024 | K40: =E14*100/$B$14 -> 30.200494 | L40: =F14*100/$B$14 -> 12.855645
H41: Aragón | I41: =C15*100/$B$15 -> 37.491091 | J41: =D15*100/$B$15 -> 6.5141813 | K41: =E15*100/$B$15 -> 43.926269 | L41: =F15*100/$B$15 -> 12.068458
H42: Asturias | I42: =C16*100/$B$16 -> 2.3739088 | J42: =D16*100/$B$16 -> 40.903682 | K42: =E16*100/$B$16 -> 50.465973 | L42: =F16*100/$B$16 -> 6.2564366
H43: Baleares | I43: =C17*100/$B$17 -> 32.185171 | J43: =D17*100/$B$17 -> 6.1284712 | K43: =E17*100/$B$17 -> 39.440189 | L43: =F17*100/$B$17 -> 22.246169
H44: Canarias | I44: =C18*100/$B$18 -> 5.8840284 | J44: =D18*100/$B$18 -> 21.348937 | K44: =E18*100/$B$18 -> 37.987303 | L44: =F18*100/$B$18 -> 34.779732
H45: Cantabria | I45: =C19*100/$B$19 -> 1.2414506 | J45: =D19*100/$B$19 -> 49.123705 | K45: =E19*100/$B$19 -> 40.68117 | L45: =F19*100/$B$19 -> 8.9536745
H46: Castilla y León | I46: =C20*100/$B$20 -> 37.684902 | J46: =D20*100/$B$20 -> 20.869596 | K46: =E20*100/$B$20 -> 31.849119 | L46: =F20*100/$B$20 -> 9.5963824
H47: Castilla - La Mancha | I47: =C21*100/$B$21 -> 46.392797 | J47: =D21*100/$B$21 -> 6.7040348 | K47: =E21*100/$B$21 -> 38.276683 | L47: =F21*100/$B$21 -> 8.6264848
H48: Cataluña | I48: =C22*100/$B$22 -> 25.515988 | J48: =D22*100/$B$22 -> 6.8422579 | K48: =E22*100/$B$22 -> 56.528535 | L48: =F22*100/$B$22 -> 11.11322
H49: C. Valenciana | I49: =C23*100/$B$23 -> 27.301511 | J49: =D23*100/$B$23 -> 4.749167 | K49: =E23*100/$B$23 -> 47.403043 | L49: =F23*100/$B$23 -> 20.546279
H50: Extremadura | I50: =C24*100/$B$24 -> 25.287768 | J50: =D24*100/$B$24 -> 48.214156 | K50: =E24*100/$B$24 -> 19.841965 | L50: =F24*100/$B$24 -> 6.6561108
H51: Galicia | I51: =C25*100/$B$25 -> 12.112149 | J51: =D25*100/$B$25 -> 16.164608 | K51: =E25*100/$B$25 -> 60.822022 | L51: =F25*100/$B$25 -> 10.901222
H52: Madrid | I52: =C26*100/$B$26 -> 26.004391 | J52: =D26*100/$B$26 -> 15.761557 | K52: =E26*100/$B$26 -> 33.55484 | L52: =F26*100/$B$26 -> 24.679213
...

Sheet 17.6.1
A1: 17. INDICADORES SOCIOECONÓMICOS REGIONALES
L2: Volver al índice
A3: 17.6 INDUSTRIA
A5: 17.6.1 ESTADÍSTICA ESTRUCTURAL DE EMPRESAS: SECTOR INDUSTRIAL. MAGNITUDES AÑO 2020
A7: Unidades: Miles de euros / Personas
B9: Total sector industrial | G9: C Industria manufacturera
B10: Cifra de | C10: Sueldos y | D10: Inv. activos | E10: Personal | G10: Cifra de | H10: Sueldos y | I10: Inv. activos | J10: Personal
B11: negocios | C11: salarios | D11: materiales | E11: ocupado | G11: negocios | H11: salarios | I11: materiales | J11: ocupado
A13: ESPAÑA | B13: =SUM(B14:B32) -> 593362657 | C13: =SUM(C14:C32) -> 63523342 | D13: =SUM(D14:D32) -> 25243359 | E13: =SUM(E14:E32) -> 2255973 | G13: =SUM(G14:G32) -> 485329636 | H13: =SUM(H14:H32) -> 55639628 | I13: =SUM(I14:I32) -> 19305631 | J13: =SUM(J14:J32) -> 2007778
A14: Andalucía | B14: 65381300 | C14: 5781156 | D14: 3820410 | E14: 237982 | G14: 50792938 | H14: 4568841 | I14: 2863777 | J14: 198264
A15: Aragón | B15: 30676106 | C15: 2801077 | D15: 1179141 | E15: 103610 | G15: 27129350 | H15: 2586532 | I15: 843399 | J15: 95823
A16: Asturias | B16: 11945548 | C16: 1463773 | D16: 489383 | E16: 48574 | G16: 8590303 | H16: 1255076 | I16: 342992 | J16: 42769
A17: I. Baleares | B17: 4306345 | C17: 563894 | D17: 152730 | E17: 25759 | G17: 1858265 | H17: 367111 | I17: 59270 | J17: 20093
A18: Canarias | B18: 6441590 | C18: 805491 | D18: 337278 | E18: 37929 | G18: 2879532 | H18: 498323 | I18: 145841 | J18: 26867
A19: Cantabria | B19: 8055346 | C19: 939846 | D19: 257209 | E19: 31583 | G19: 6833939 | H19: 816185 | I19: 209087 | J19: 27549
A20: Castilla y León | B20: 35919234 | C20: 3523623 | D20: 1715110 | E20: 132179 | G20: 31598819 | H20: 3222606 | I20: 1490926 | J20: 121512
A21: Castilla - La Mancha | B21: 25879520 | C21: 2502980 | D21: 1151735 | E21: 101548 | G21: 22141140 | H21: 2246569 | I21: 894381 | J21: 93702
A22: Cataluña | B22: 130916839 | C22: 15292287 | D22: 4723234 | E22: 483470 | G22: 114293471 | H22: 13953134 | I22: 3994395 | J22: 442286
A23: C. Valenciana | B23: 64321742 | C23: 6869022 | D23: 3310466 | E23: 278224 | G23: 55006006 | H23: 6075044 | I23: 2814070 | J23: 249770
A24: Extremadura | B24: 7793197 | C24: 615126 | D24: 381940 | E24: 29391 | G24: 5523363 | H24: 459962 | I24: 138883 | J24: 24571
A25: Galicia | B25: 39405437 | C25: 3615237 | D25: 1537113 | E25: 144969 | G25: 33950829 | H25: 3224872 | I25: 1148623 | J25: 132783
... A32: Melilla | B32: 96975 | C32: 9690 | D32: 7263 | E32: 494 | G32: 15948 | H32: 4366 | I32: 366 | J32: 348
A34: FUENTE: Estadística Estructural de Empresas: Sector industrial. INE.
A35: NOTA: Los resultados de España se han obtenido por agregación de CC.AA

Sheet 17.6.2
A1: 17. INDICADORES SOCIOECONÓMICOS REGIONALES
P2: Volver al índice
A3: 17.6.2 DIRCE: EMPRESAS SEGÚN ESTRATO DE ASALARIADOS. AÑO 2021
A5: Unidades: Número de empresas
B7: TOTAL | C7: Sin | D7: 1 a 2 | E7: 3 a 5 | F7: 6 a 9 | G7: 10 a 19 | H7: 20 a | I7: 50 a | J7: 100 a | K7: 200 a | L7: 500 a | M7: 1000 a | N7: 5000
C8: asalar | D8: asal | E8: asal | F8: asal | G8: asal | H8: 49 | I8: 99 | J8: 199 | K8: 499 | L8: 999 | M8: 4999 | N8: o más
A10: ESPAÑA | B10: 3366570 | C10: 1879126 | D10: 920321 | E10: 304095 | F10: 120828 | G10: 75522 | H10: 42012 | I10: 11959 | J10: 6655 | K10: 1380 | L10: 3634 | M10: 867 | N10: 171
A11: Andalucía | B11: 531160 | C11: 289289 | D11: 151047 | E11: 51523 | F11: 19344 | G11: 11239 | H11: 5915 | I11: 1426 | J11: 779 | K11: 157 | L11: 365 | M11: 69 | N11: 7
A12: Aragón | B12: 88602 | C12: 47282 | D12: 25380 | E12: 8388 | F12: 3428 | G12: 2142 | H12: 1275 | I12: 367 | J12: 194 | K12: 29 | L12: 92 | M12: 23 | N12: 2
A13: Asturias | B13: 67573 | C13: 37457 | D13: 19519 | E13: 6036 | F13: 2143 | G13: 1350 | H13: 700 | I13: 182 | J13: 96 | K13: 26 | L13: 51 | M13: 10 | N13: 3
A14: I. Baleares | B14: 98120 | C14: 54017 | D14: 27160 | E14: 9226 | F14: 3685 | G14: 2273 | H14: 1181 | I14: 248 | J14: 200 | K14: 38 | L14: 73 | M14: 17 | N14: 2
A15: Canarias | B15: 147999 | C15: 83714 | D15: 38343 | E15: 14479 | F15: 5626 | G15: 3158 | H15: 1714 | I15: 477 | J15: 292 | K15: 48 | L15: 132 | M15: 13 | N15: 3
A16: Cantabria | B16: 38636 | C16: 20628 | D16: 11492 | E16: 3649 | F16: 1332 | G16: 813 | H16: 486 | I16: 123 | J16: 64 | K16: 7 | L16: 33 | M16: 6 | N16: 3
A17: Castilla y León | B17: 157131 | C17: 86003 | D17: 45574 | E17: 14373 | F17: 5321 | G17: 3217 | H17: 1821 | I17: 448 | J17: 215 | K17: 33 | L17: 96 | M17: 27 | N17: 3
A18: Castilla - La Mancha | B18: 127673 | C18: 68052 | D18: 37374 | E18: 12447 | F18: 4710 | G18: 2925 | H18: 1540 | I18: 338 | J18: 171 | K18: 36 | L18: 67 | M18: 12 | N18: 1
A19: Cataluña | B19: 622967 | C19: 359216 | D19: 161162 | E19: 53018 | F19: 21946 | G19: 14269 | H19: 8089 | I19: 2525 | J19: 1399 | K19: 317 | L19: 833 | M19: 169 | N19: 24
A20: C. Valenciana | B20: 368044 | C20: 200474 | D20: 103782 | E20: 34532 | F20: 13639 | G20: 8471 | H20: 4639 | I20: 1279 | J20: 679 | K20: 143 | L20: 331 | M20: 66 | N20: 9
A21: Extremadura | B21: 66386 | C21: 35843 | D21: 19514 | E21: 6304 | F21: 2351 | G21: 1321 | H21: 715 | I21: 208 | J21: 86 | K21: 9 | L21: 29 | M21: 4 | N21: 2
... A26: País Vasco | B26: 139824 | C26: 71178 | D26: 41961 | E26: 13455 | F26: 5567 | G26: 3940 | H26: 2308 | I26: 711 | J26: 366 | K26: 86 | L26: 204 | M26: 42 | N26: 6
A27: La Rioja | B27: 22357 | C27: 11811 | D27: 6412 | E27: 2159 | F27: 832 | G27: 610 | H27: 369 | I27: 96 | J27: 40 | K27: 10 | L27: 16 | M27: 2 | N27: -
A28: Ceuta | B28: 3749 | C28: 1906 | D28: 1154 | E28: 407 | F28: 134 | G28: 79 | H28: 47 | I28: 10 | J28: 7 | K28: 2 | L28: 3 | M28: - | N28: -
A29: Melilla | B29: 5024 | C29: 2957 | D29: 1298 | E29: 463 | F29: 157 | G29: 87 | H29: 47 | I29: 10 | J29: 3 | K29: 1 | L29: - | M29: 1 | N29: -
A31: FUENTE: Directorio Central de Empresas (DIRCE). INE.
A32: NOTA: Datos a 1 de enero.

Sheet 17.6.3
A1: 17. INDICADORES SOCIOECONÓMICOS REGIONALES
N2: Volver al índice
A3: 17.6.3 DIRCE: LOCALES SEGÚN ESTRATO DE ASALARIADOS. AÑO 2021
A5: Unidades: Número de locales
B7: TOTAL | C7: Sin | D7: 1 a 2 | E7: 3 a 5 | F7: 6 a 9 | G7: 10 a 19 | H7: 20 a | I7: 50 a | J7: 100 a | K7: 200 a | L7: 500 o
C8: asalar. | D8: asal. | E8: asal. | F8: asal. | G8: asal. | H8: 49 | I8: 99 | J8: 199 | K8: 499 | L8: más
A10: ESPAÑA | B10: 3871933 | C10: 2185506 | D10: 993777 | E10: 352343 | F10: 148667 | G10: 101059 | H10: 58084 | I10: 17311 | J10: 8813 | K10: 4723 | L10: 1650
A11: Andalucía | B11: 611408 | C11: 341038 | D11: 161951 | E11: 58663 | F11: 23479 | G11: 14722 | H11: 7858 | I11: 2003 | J11: 1033 | K11: 512 | L11: 149
A12: Aragón | B12: 104397 | C12: 56263 | D12: 28189 | E12: 9906 | F12: 4325 | G12: 3020 | H12: 1764 | I12: 506 | J12: 238 | K12: 142 | L12: 44
A13: Asturias | B13: 77760 | C13: 43322 | D13: 21298 | E13: 7006 | F13: 2697 | G13: 1834 | H13: 1111 | I13: 262 | J13: 132 | K13: 67 | L13: 31
A14: I. Baleares | B14: 114345 | C14: 63575 | D14: 30091 | E14: 10965 | F14: 4577 | G14: 2912 | H14: 1520 | I14: 378 | J14: 223 | K14: 88 | L14: 16
A15: Canarias | B15: 175625 | C15: 99589 | D15: 42302 | E15: 17975 | F15: 7587 | G15: 4610 | H15: 2357 | I15: 693 | J15: 324 | K15: 156 | L15: 32
A16: Cantabria | B16: 44340 | C16: 24126 | D16: 12329 | E16: 4140 | F16: 1691 | G16: 1054 | H16: 668 | I16: 168 | J16: 89 | K16: 54 | L16: 21
A17: Castilla y León | B17: 184471 | C17: 102322 | D17: 50363 | E17: 17015 | F17: 6745 | G17: 4321 | H17: 2521 | I17: 631 | J17: 306 | K17: 184 | L17: 63
A18: Castilla - La Mancha | B18: 148073 | C18: 81364 | D18: 40463 | E18: 14124 | F18: 5603 | G18: 3614 | H18: 2026 | I18: 503 | J18: 233 | K18: 106 | L18: 37
A19: Cataluña | B19: 717719 | C19: 413885 | D19: 174308 | E19: 62699 | F19: 28019 | G19: 19945 | H19: 11697 | I19: 3920 | J19: 1901 | K19: 1037 | L19: 308
A20: C. Valenciana | B20: 423092 | C20: 234517 | D20: 111720 | E20: 39601 | F20: 16261 | G20: 11259 | H20: 6319 | I20: 1829 | J20: 920 | K20: 535 | L20: 131
A21: Extremadura | B21: 77125 | C21: 42955 | D21: 21412 | E21: 7171 | F21: 2750 | G21: 1591 | H21: 856 | I21: 251 | J21: 94 | K21: 34 | L21: 11
... A29: Melilla | B29: 5603 | C29: 3328 | D29: 1383 | E29: 522 | F29: 189 | G29: 109 | H29: 54 | I29: 10 | J29: 4 | K29: 2 | L29: 2
A31: FUENTE: Directorio Central de Empresas (DIRCE). INE.
A32: NOTA: Datos a 1 de enero.

Sheet 17.7.1-G.17.10
A1: 17. INDICADORES SOCIOECONÓMICOS REGIONALES
J2: Volver al índice
A3: 17.7 CONSTRUCCIÓN Y VIVIENDA
A5: 17.7.1 LICITACIÓN OFICIAL POR AGENTE CONTRATANTE SEGÚN TIPO DE OBRA. AÑO 2021
A7: Unidades: Miles de euros
B9: Todas las administraciones públicas | F9: Entes territoriales (*)
B10: Total | C10: Edificación | D10: Ingeniería civil | F10: Total | G10: Edificación | H10: Ingeniería civil
A12: ESPAÑA | B12: 19550184 | C12: 6373858.2 | D12: 13176326 | F12: 13199213 | G12: 5721888.1 | H12: 7477325.3
A13: Andalucía | B13: 2601359.7 | C13: 833152.9 | D13: 1768206.9 | F13: 2035094.1 | G13: 748600.41 | H13: 1286493.7
A14: Aragón | B14: 475547.38 | C14: 149487.45 | D14: 326059.93 | F14: 336757.84 | G14: 141736.78 | H14: 195021.06
A15: Asturias | B15: 467809.55 | C15: 125186.9 | D15: 342622.65 | F15: 246584.54 | G15: 110624.82 | H15: 135959.72
A16: I. Baleares | B16: 510800.08 | C16: 228043.72 | D16: 282756.36 | F16: 450895.82 | G16: 192901.25 | H16: 257994.57
A17: Canarias | B17: 715959.7 | C17: 275626.05 | D17: 440333.65 | F17: 615662.34 | G17: 240853.8 | H17: 374808.54
A18: Cantabria | B18: 354772.17 | C18: 50839.918 | D18: 303932.25 | F18: 163565.72 | G18: 47284.936 | H18: 116280.79
A19: Castilla - La Mancha | B19: 831917.2 | C19: 313128.91 | D19: 518788.29 | F19: 571265.46 | G19: 307052.81 | H19: 264212.64
A20: Castilla y León | B20: 971567.66 | C20: 245161.47 | D20: 726406.19 | F20: 678737.29 | G20: 227064.57 | H20: 451672.73
A21: Cataluña | B21: 2313445.9 | C21: 835934.31 | D21: 1477511.6 | F21: 1725492.8 | G21: 782954.62 | H21: 942538.16
A22: C. Valenciana | B22: 1962680.2 | C22: 780337.09 | D22: 1182343.2 | F22: 1523232.1 | G22: 751639.76 | H22: 771592.29
A23: Extremadura | B23: 777698.58 | C23: 172150.61 | D23: 605547.97 | F23: 418253.04 | G23: 168382.38 | H23: 249870.66
... A31: Melilla | B31: 24548.396 | C31: 5447.7524 | D31: 19100.644 | F31: 21499.416 | G31: 3621.6159 | H31: 17877.8
A32: No regional | B32: 1155337.8 | C32: 17535.253 | D32: 1137802.6 | F32: - | G32: - | H32: -
A34: FUENTE: Licitación oficial en construcción. Ministerio de Transportes, Movilidad y Agenda Urbana. | J34: Datos del gráfico
A35: NOTA: (*) Entes territoriales incluye: Comunidades Autónomas, Diputaciones, Cabildos, Consejos Insulares y Ayuntamientos. | J35: CCAA
J36: Melilla | K36: 24548.396
A37: G.17.10 Licitación pública total. Año 2021 | J37: Ceuta | K37: 36649.723
J38: LA RIOJA | K38: 101265.48
J39: Murcia | K39: 347058.15
J40: Cantabria | K40: 354838.86
J41: Navarra | K41: 389873.22
J42: Asturias | K42: 468039.55
J43: Aragón | K43: 479067.88
J44: I. Baleares | K44: 513057.6
J45: Canarias | K45: 715959.7
J46: Extremadura | K46: 777867.56
J47: Castilla - La Mancha | K47: 832185.44
J48: Castilla y León | K48: 971567.66
J49: País Vasco | K49: 1213084.8
... J54: Madrid | K54: 2923246.4

Sheet 17.7.2-G.17.11
A1: 17. INDICADORES SOCIOECONÓMICOS REGIONALES
A3: 17.7.2 PRECIO MEDIO DEL METRO CUADRADO DE LA VIVIENDA. AÑO 2021 | H3: Volver al índice
A5: Unidades: Euros
B7: VIVIENDAS LIBRES | F7: VIVIENDAS PROTEGIDAS
B8: Total | C8: Hasta 5 años | D8: Más de 5 años
C9: de antigüedad | D9: de antigüedad
A11: ESPAÑA | B11: 1657.575 | C11: 1927.15 | D11: 1649.275 | F11: 1142.05
A12: Andalucía | B12: 1337.5 | C12: 1583.425 | D12: 1331.15 | F12: 1126.375
A13: Aragón | B13: 1206.4 | C13: 1495.775 | D13: 1195.3 | F13: 1068.15
A14: Asturias | B14: 1285.825 | C14: 1549 | D14: 1281.6 | F14: 1074.125
A15: I. Baleares | B15: 2462.275 | C15: 2815.925 | D15: 2452.4 | F15: 1065.25
A16: Canarias | B16: 1533.3 | C16: 1695.95 | D16: 1529.2 | F16: 1010.575
A17: Cantabria | B17: 1464.4 | C17: 1573.9 | D17: 1462.425 | F17: 1069.875
A18: Castilla y León | B18: 1022.85 | C18: 1189.4 | D18: 1018.7 | F18: 1005.275
A19: Castilla - La Mancha | B19: 884.25 | C19: 1026.95 | D19: 879.275 | F19: 988.475
A20: Cataluña | B20: 2046.45 | C20: 2391.35 | D20: 2039.95 | F20: 1202.65
A21: C. Valenciana | B21: 1253.775 | C21: 1548.9 | D21: 1245.5 | F21: 1100.7
A22: Extremadura | B22: 849.35 | C22: 964 | D22: 847.025 | F22: 766.825
... A28: La Rioja | B28: 1094.65 | C28: 1475.125 | D28: 1070.125 | F28: 1065.125
A29: Ceuta y Melilla | B29: 1719.075 | C29: 1966.775 | D29: 1701.95 | F29: -
A31: FUENTE: Estadística de Valor Tasado de la Vivienda. Ministerio de Transportes, Movilidad y Agenda Urbana.
H33: Datos del gráfico
A34: G.17.11 Precio del metro cuadrado de la vivienda. Año 2021 | H34: CCAA | L34: España
I35: Libre | J35: Protegida | L35: Libre | M35: Protegida
H36: Andalucía | I36: 1337.5 | J36: 1126.375 | L36: =$B$11 -> 1657.575 | M36: =$F$11 -> 1142.05
H37: Aragón | I37: 1206.4 | J37: 1068.15 | L37: =$B$11 -> 1657.575 | M37: =$F$11 -> 1142.05
H38: Asturias | I38: 1285.825 | J38: 1074.125 | L38: =$B$11 -> 1657.575 | M38: =$F$11 -> 1142.05
H39: Baleares | I39: 2462.275 | J39: 1065.25 | L39: =$B$11 -> 1657.575 | M39: =$F$11 -> 1142.05
H40: Canarias | I40: 1533.3 | J40: 1010.575 | L40: =$B$11 -> 1657.575 | M40: =$F$11 -> 1142.05
H41: Cantabria | I41: 1464.4 | J41: 1069.875 | L41: =$B$11 -> 1657.575 | M41: =$F$11 -> 1142.05
H42: Castilla y León | I42: 1022.85 | J42: 1005.275 | L42: =$B$11 -> 1657.575 | M42: =$F$11 -> 1142.05
H43: Castilla - La Mancha | I43: 884.25 | J43: 988.475 | L43: =$B$11 -> 1657.575 | M43: =$F$11 -> 1142.05
H44: Cataluña | I44: 2046.45 | J44: 1202.65 | L44: =$B$11 -> 1657.575 | M44: =$F$11 -> 1142.05
H45: C. Valenciana | I45: 1253.775 | J45: 1100.7 | L45: =$B$11 -> 1657.575 | M45: =$F$11 -> 1142.05
H46: Extremadura | I46: 849.35 | J46: 766.825 | L46: =$B$11 -> 1657.575 | M46: =$F$11 -> 1142.05
H47: Galicia | I47: 1213.4 | J47: 968.825 | L47: =$B$11 -> 1657.575 | M47: =$F$11 -> 1142.05
... H52: LA RIOJA | I52: 1094.65 | J52: 1065.125 | L52: =$B$11 -> 1657.575 | M52: =$F$11 -> 1142.05

Sheet 17.8.1
A1: 17. INDICADORES SOCIOECONÓMICOS REGIONALES
K2: Volver al índice
A3: 17.8 CATASTRO
A5: 17.8.1 CATASTRO INMOBILIARIO URBANO Y RÚSTICO. AÑO 2022
A7: Unidades: Número / Hectáreas / Miles de euros
B9: Catastro Inmobiliario Urbano | F9: Catastro Inmobiliario Rústico
B10: Nº de | C10: Superficie | D10: Valor | F10: Superficie | G10: Nº de | H10: Nº de | I10: Valor
B11: parcelas | C11: total | D11: catastral | F11: rústica | G11: parcelas | H11: subparcelas | I11: catastral
A13: ESPAÑA | B13: =SUM(B14:B30) -> 13952287 | C13: =SUM(C14:C30) -> 1036635 | D13: =SUM(D14:D30) -> 2.3690596e+09 | F13: =SUM(F14:F30) -> 47390063 | G13: =SUM(G14:G27)+SUM(G28:G30) -> 38993848 | H13: =SUM(H14:H27)+SUM(H28:H30) -> 49613282 | I13: =SUM(I14:I27)+SUM(I28:I30) -> 76388158
A14: Andalucía | B14: 2524648 | C14: 169393 | D14: 3.8811299e+08 | F14: 8479318.3 | G14: 2853205 | H14: 4324378 | I14: 17667295
A15: Aragón | B15: 479568 | C15: 35548 | D15: 69415076 | F15: 4722983.3 | G15: 2462045 | H15: 3382640 | I15: 5215941.8
A16: Asturias | B16: 356918 | C16: 29578 | D16: 50019285 | F16: 1027508.4 | G16: 1480004 | H16: 1840105 | I16: 1294570.1
A17: I. Baleares | B17: 285582 | C17: 23476 | D17: 78156278 | F17: 467066.95 | G17: 274512 | H17: 444649 | I17: 4692699.2
A18: Canarias | B18: 558835 | C18: 37779 | D18: 97744260 | F18: 691920.21 | G18: 785054 | H18: 1057614 | I18: 2007160.6
A19: Cantabria | B19: 162821 | C19: 17759 | D19: 38092646 | F19: 498862.14 | G19: 499517 | H19: 591754 | I19: 1277958.4
A20: Castilla y León | B20: 1828710 | C20: 104958 | D20: 1.2482757e+08 | F20: 9261731.6 | G20: 8841280 | H20: 10260187 | I20: 8598049.1
A21: Castilla - La Mancha | B21: 1281361 | C21: 85563 | D21: 1.0366105e+08 | F21: 7833632 | G21: 4306781 | H21: 5429022 | I21: 6737388.4
A22: Cataluña | B22: 1539950 | C22: 130928 | D22: 4.2945749e+08 | F22: 3029069.9 | G22: 1388659 | H22: 2783325 | I22: 5809034
A23: C. Valenciana | B23: 1320183 | C23: 105663 | D23: 2.4679502e+08 | F23: 2183426.5 | G23: 2246368 | H23: 2993020 | I23: 6735874.8
A24: Extremadura | B24: 626991 | C24: 30822 | D24: 37278102 | F24: 4133855.2 | G24: 1249716 | H24: 1794301 | I24: 3255413.2
A25: Galicia | B25: 1747884 | C25: 118961 | D25: 1.0731118e+08 | F25: 2822672 | G25: 10960442 | H25: 12639331 | I25: 5110235.1
... A30: Melilla | B30: 10185 | C30: 511 | D30: 2632353 | F30: 571.04 | G30: 387 | H30: 477 | I30: 22657.84
A32: FUENTE: Dirección General del Catastro. Ministerio de Hacienda y Función Pública.
A33: NOTAS: Los resultados de España se han obtenido por agregación de CCAA
A34: Los resultados de urbana son a 1 de septiembre del año actual
A35: Los resultados de rústica son a 31 de diciembre del año anterior

Sheet 17.9.1
A1: 17. INDICADORES SOCIOECONÓMICOS REGIONALES
H2: Volver al índice
A3: 17.9 SERVICIOS
A5: 17.9.1 ESTADÍSTICA ESTRUCTURAL DE EMPRESAS: SECTOR SERVICIOS. AÑO 2020
A7: Unidades: Datos económicos en miles de euros
C9: Cifra de | E9: Inversión en
B10: Número de locales | C10: negocios | D10: Sueldos y salarios | E10: activos materiales | F10: Personal ocupado
A12: ESPAÑA | B12: 1530098 | C12: 430768542 | D12: 107053740 | E12: 31658975 | F12: 5895704
A13: Andalucía | B13: 230456 | C13: 39498275 | D13: 11066670 | E13: 2553855 | F13: 798481
A14: Aragón | B14: 39677 | C14: 8515831 | D14: 2351878 | E14: 570966 | F14: 144055
A15: Asturias | B15: 30931 | C15: 5152997 | D15: 1479055 | E15: 219677 | F15: 100283
A16: I. Baleares | B16: 51179 | C16: 10846297 | D16: 2521957 | E16: 983603 | F16: 171053
A17: Canarias | B17: 73809 | C17: 14692188 | D17: 3790833 | E17: 977602 | F17: 292933
A18: Cantabria | B18: 17315 | C18: 3078292 | D18: 896937 | E18: 145764 | F18: 58859
A19: Castilla y León | B19: 63281 | C19: 10950064 | D19: 3170907 | E19: 877404 | F19: 218814
A20: Castilla - La Mancha | B20: 48849 | C20: 8795575 | D20: 2163986 | E20: 600483 | F20: 159541
A21: Cataluña | B21: 298610 | C21: 85524062 | D21: 22601666 | E21: 6141087 | F21: 1137291
A22: C. Valenciana | B22: 160452 | C22: 33214292 | D22: 8196481 | E22: 2165735 | F22: 549589
A23: Extremadura | B23: 24464 | C23: 3627264 | D23: 917841 | E23: 312395 | F23: 76607
... A31: Melilla | B31: 1964 | C31: 228723 | D31: 78387 | E31: 7691 | F31: 6558
A33: FUENTE: Estadística Estructural de Empresas: Sector Servicios. INE.

Sheet 17.9.2
A1: 17. INDICADORES SOCIOECONÓMICOS REGIONALES
H2: Volver al índice
A3: 17.9.2 ESTADÍSTICA ESTRUCTURAL DE EMPRESAS: SECTOR COMERCIO. AÑO 2020
A5: Unidades: Datos económicos en miles de euros
C7: Cifra de | E7: Inversión en
B8: Número de locales | C8: negocios | D8: Sueldos y salarios | E8: activos materiales | F8: Personal ocupado
A10: ESPAÑA | B10: 858222 | C10: 764711691 | D10: 56498728 | E10: 10397084 | F10: 3118428
A11: Andalucía | B11: 157542 | C11: 96924310 | D11: 7090812 | E11: 1555274 | F11: 500877
A12: Aragón | B12: 22009 | C12: 19895133 | D12: 1484896 | E12: 321475 | F12: 82793
A13: Asturias | B13: 16970 | C13: 10660507 | D13: 928809 | E13: 192351 | F13: 59312
A14: I. Baleares | B14: 20110 | C14: 12629959 | D14: 1161189 | E14: 216962 | F14: 73337
A15: Canarias | B15: 39725 | C15: 24553658 | D15: 2084537 | E15: 470906 | F15: 149841
A16: Cantabria | B16: 9615 | C16: 6704417 | D16: 517475 | E16: 85985 | F16: 32625
A17: Castilla y León | B17: 42080 | C17: 29032676 | D17: 1997020 | E17: 443152 | F17: 131603
A18: Castilla - La Mancha | B18: 36642 | C18: 23528054 | D18: 1570477 | E18: 337974 | F18: 106405
A19: Cataluña | B19: 145107 | C19: 149190252 | D19: 12453473 | E19: 1800890 | F19: 573633
A20: C. Valenciana | B20: 98280 | C20: 73906179 | D20: 6129611 | E20: 1267549 | F20: 371437
A21: Extremadura | B21: 21640 | C21: 10593792 | D21: 695896 | E21: 169448 | F21: 57669
... A29: Melilla | B29: 2893 | C29: 854906 | D29: 49750 | E29: 17820 | F29: 4994
A31: FUENTE: Estadística Estructural de Empresas: Sector Comercio. INE.

Sheet 17.10.1_G.17.12
A1: 17. INDICADORES SOCIOECONÓMICOS REGIONALES
G2: Volver al índice
A3: 17.10 TRANSPORTE
A5: 17.10.1 PARQUE NACIONAL DE VEHÍCULOS Y MATRICULACIONES. AÑO 2021
A7: Unidades: Número de vehículos
B9: Matriculaciones | C9: Bajas (según domicilio | D9: Total vehículos | E9: Vehículos por
C10: del vehículo) | D10: del Parque | E10: 1.000 habit.
A12: ESPAÑA | B12: 1325693 | C12: 980399 | D12: 35178808 | E12: 742.18938
A13: Andalucía | B13: 162318 | C13: 160215 | D13: 6124904 | E13: 720.38905
A14: Aragón | B14: 26386 | C14: 28616 | D14: 914832 | E14: 687.25815
A15: Asturias | B15: 18307 | C15: 19579 | D15: 710577 | E15: 701.53492
A16: I. Baleares | B16: 33300 | C16: 28235 | D16: 1067897 | E16: 875.48687
A17: Canarias | B17: 55235 | C17: 35740 | D17: 1767342 | E17: 787.45607
A18: Cantabria | B18: 13452 | C18: 10955 | D18: 441253 | E18: 756.01683
A19: Castilla y León | B19: 45613 | C19: 47447 | D19: 1873210 | E19: 784.87033
A20: Castilla - La Mancha | B20: 36830 | C20: 50004 | D20: 1627312 | E20: 794.3315
A21: Cataluña | B21: 196493 | C21: 179608 | D21: 5366768 | E21: 699.59471
A22: C. Valenciana | B22: 123289 | C22: 111338 | D22: 3682022 | E22: 729.54016
A23: Extremadura | B23: 14221 | C23: 22976 | D23: 862468 | E23: 815.18792
... A30: Ceuta y Melilla | B30: 3734 | C30: 3315 | D30: 133573 | E30: 797.26511
A32: FUENTE: Dirección General de Tráfico (DGT). Ministerio del Interior.
A33: NOTA: En el total de bajas se incluyen las realizadas a través de Internet
A34: Cifras de población a 1 de enero de 2021
H35: Datos del gráfico
A37: G.17.12 Vehículos por 1.000 habitantes. Año 2021 | H37: I. Baleares | I37: 875.48687
H38: Extremadura | I38: 815.18792
H39: Ceuta y Melilla | I39: 797.26511
H40: Castilla - La Mancha | I40: 794.3315
H41: Galicia | I41: 787.58645
H42: Canarias | I42: 787.45607
H43: Castilla y León | I43: 784.87033
H44: Madrid | I44: 773.25252
H45: Cantabria | I45: 756.01683
H46: Murcia | I46: 754.50936
H47: ESPAÑA | I47: 741.9784
H48: Navarra | I48: 733.65782
H49: C. Valenciana | I49: 729.54016
... H55: País Vasco | I55: 642.02382

Sheet 17.11.1
A1: 17. INDICADORES SOCIOECONÓMICOS REGIONALES
L2: Volver al índice
A3: 17.11 TURISMO
A5: 17.11.1 VIAJEROS, PERNOCTACIONES, ESTANCIA MEDIA Y GRADO DE OCUPACIÓN. AÑO 2021
A7: Unidades: Número de personas
B9: Viajeros | E9: Pernoctaciones | H9: Estancia | I9: Grado de | J9: Personal
B10: Residentes | C10: Residentes en | E10: Residentes | F10: Residentes en | H10: media | I10: ocupación | J10: empleado
B11: en España | C11: el extranjero | E11: en España | F11: el extranjero | I11: (1) | J11: (2)
A13: ESPAÑA | B13: 40272683 | C13: 20451448 | E13: 90699916 | F13: 82106778 | H13: 2.85 | I13: 43.23 | J13: 127994.69
