Workbook

Sheet Índice Cap_11
B8: CAPÍTULO 11: SALUD Y SERVICIOS SOCIALES
B10: 11.1: Recursos sanitarios
B11: 11.2: Morbilidad
B12: 11.3: Mortalidad
B13: 11.4: Estado de salud, limitaciones a la actividad y utilización de servicios sanitarios
B14: 11.5: Discapacidad
B15: 11.6: Familias numerosas
B16: 11.7: Mayores y personas sin hogar
B17: 11.8: Adopciones

Sheet 11.1.1
A1: 11. SALUD Y SERVICIOS SOCIALES
J2: Volver al índice
A3: 11.1 RECURSOS SANITARIOS
A5: 11.1.1 HOSPITALES Y DOTACIÓN INSTALADA Y EN FUNCIONAMIENTO SEGÚN PERTENENCIA
B7: 2019 | F7: 2020
B8: Total | C8: Público-SNS | D8: Privado | F8: Total | G8: Público-SNS | H8: Privado
A10: Hospitales | B10: 8 | C10: 6 | D10: =B10-C10 -> 2 | F10: 8 | G10: 6 | H10: =F10-G10 -> 2
A11: Camas instaladas | B11: 1052 | C11: 998 | D11: =B11-C11 -> 54 | F11: 1052 | G11: 998 | H11: =F11-G11 -> 54
A12: Dotación por 1.000 habitantes | B12: 3.35 | C12: 3.17 | D12: =B12-C12 -> 0.18 | F12: 3.3276186 | G12: 3.1568093 | H12: =F12-G12 -> 0.17080932
A13: Camas en funcionamiento | B13: 1018 | C13: 964 | D13: =B13-C13 -> 54 | F13: 1045 | G13: 991 | H13: =F13-G13 -> 54
A14: Dotación por 1.000 habitantes | B14: 3.24 | C14: 3.07 | D14: =B14-C14 -> 0.17 | F14: 3.3054767 | G14: 3.1346673 | H14: 0.1709234
A15: Quirófanos | B15: 27 | C15: 23 | D15: =B15-C15 -> 4 | F15: 22 | G15: 18 | H15: =F15-G15 -> 4
A16: Dotación por 100.000 habitantes | B16: 8.6104901 | C16: 7.334862 | D16: 1.2756282 | F16: 6.9635458 | G16: 5.6974466 | H16: 1.2660992
A17: Plazas hospital de día | B17: 103 | C17: 103 | D17: - | F17: 103 | G17: 103 | H17: -
A18: Dotación por 100.000 habitantes | B18: 32.76 | C18: 32.76 | D18: - | F18: 32.580296 | G18: 32.580296 | H18: -
A20: FUENTE: Estadística de Centros Sanitarios de Atención Especializada. Ministerio de Sanidad.

Sheet 11.1.2
A1: 11.1.2 NÚMERO DE HOSPITALES Y CAMAS INSTALADAS SEGÚN DEPENDENCIA PATRIMONIAL,
A2: FUNCIONAL Y FINALIDAD ASISTENCIAL | K2: Volver al índice
B4: 2019 | E4: 2020 | H4: 2021
B5: Hospitales | C5: Camas instaladas | E5: Hospitales | F5: Camas instaladas | H5: Hospitales | I5: Camas instaladas
A7: TOTAL | B7: 7 | C7: 1050 | E7: 8 | F7: 1050 | H7: 8 | I7: 1050
A9: HOSPITALES POR DEPENDENCIA PATRIMONIAL
A10: Seguridad Social | B10: 1 | C10: 80 | E10: 1 | F10: 80 | H10: 1 | I10: 80
A11: CCAA | B11: 4 | C11: 831 | E11: 4 | F11: 831 | H11: 4 | I11: 831
A12: Privado no benéfico | B12: 2 | C12: =C7-C10-C11 -> 139 | E12: 3 | F12: =F7-F10-F11 -> 139 | H12: 3 | I12: =I7-I10-I11 -> 139
A13: Otros | B13: - | C13: - | E13: - | F13: - | H13: - | I13: -
A15: HOSPITALES POR DEPENDENCIA FUNCIONAL
A16: Sistema Nacional de Salud | B16: 3 | C16: 810 | E16: 4 | F16: 810 | H16: 4 | I16: 810
A17: CCAA | B17: - | C17: - | E17: 1 | F17: 75 | H17: 1 | I17: 75
A18: Otros públicos | B18: - | C18: - | E18: - | F18: - | H18: - | I18: -
A19: Privado no benéfico | B19: 4 | C19: 240 | E19: 3 | F19: 165 | H19: 3 | I19: 165
A20: Otros | B20: - | E20: - | F20: - | H20: - | I20: -
A22: HOSPITALES POR FINALIDAD ASISTENCIAL
A23: General | B23: 3 | C23: =590+87+80 -> 757 | E23: 3 | F23: 670 | H23: 3 | I23: 670
A24: Psiquiátrico | B24: 1 | C24: 140 | E24: 1 | F24: 140 | H24: 1 | I24: 140
A25: Otros | B25: 3 | C25: =75+26+52 -> 153 | E25: 4 | F25: =F7-F23-F24 -> 240 | H25: 4 | I25: =I7-I23-I24 -> 240
A27: FUENTE: Catálago Nacional de Hospitales. Ministerio de Sanidad.
A28: NOTA: Datos a 31 de Diciembre.

Sheet 11.1.3 
A1: 11. SALUD Y SERVICIOS SOCIALES
H2: Volver al índice
A3: 11.1.3 INDICADORES DE FRECUENTACIÓN
B5: 2016 | C5: 2017 | D5: 2018 | E5: 2019 | F5: 2020
A7: Pacientes ingresados
A8: Número | B8: 33945 | C8: 34757 | D8: 35878 | E8: 35298 | F8: 32251
A9: Frecuentación por 1.000 habitantes | B9: 108.57 | C9: 111.27 | D9: 114.73 | E9: 112.26 | F9: 102.01
A10: %SNS | B10: 88.557961 | C10: 88.105993 | D10: 87.856068 | E10: 87.72735 | F10: 84.301262
A12: Estancias causadas
A13: Número | B13: 298065 | C13: 299968 | D13: 298480 | E13: 298561 | F13: 290973
A14: Frecuentación por 1.000 habitantes | B14: 953.37 | C14: 960.28 | D14: 954.45 | E14: 949.5 | F14: 920
A15: %SNS | B15: 95.776089 | C15: 96.30994 | D15: 96.026199 | E15: 96.244654 | F15: 96
A17: Consultas totales
A18: Número | B18: 666196 | C18: 654410 | D18: 666066 | E18: 704886 | F18: 598255
A19: Frecuentación por 1.000 habitantes | B19: 2130.86 | C19: 2094.96 | D19: 2129.88 | E19: 2241.71 | F19: 1892.36
A20: %SNS | B20: 87.285874 | C20: 86.605034 | D20: 86.434528 | E20: 82.258124 | F20: 82
A22: Urgencias totales
A23: Número | B23: 156479 | C23: 157466 | D23: 160762 | E23: 162094 | F23: 114923
A24: Frecuentación por 1.000 habitantes | B24: 500.51 | C24: 504.09 | D24: 514.07 | E24: 515.5 | F24: 364
A25: %SNS | B25: 80.992338 | C25: 80.390052 | D25: 79.592814 | E25: 79.285476 | F25: 80
A27: FUENTE: Estadística de Centros Sanitarios de Atención Especializada.Ministerio de Sanidad.

Sheet 11.1.4
A1: 11.1.4 INDICADORES DE HOSPITALIZACIÓN SEGÚN DEPENDENCIA
K2: Volver al índice
B3: 2018 | E3: 2019 | H3: 2020
B4: SNS | C4: Privados | E4: SNS | F4: Privados | H4: SNS | I4: Privados
A6: Total
A7: Estancia media | B7: 9.09 | C7: 2.72 | E7: 9.28 | F7: 2.59 | H7: 10.24 | I7: 2.48
A8: Índice de ocupación | B8: 83.01 | C8: 62.49 | E8: 81.67 | F8: 56.88 | H8: 76.97 | I8: 63.82
A9: Mortalidad intrahospitalaria | B9: 5.05 | C9: 0.6 | E9: 5.11 | F9: 0.72 | H9: 6.62 | I9: 0.99
A11: Hospitales de agudos
A12: Estancia media | B12: 6.03 | C12: 2.72 | E12: 6.16 | F12: 2.59 | H12: 6.7 | I12: 2.48
A13: Índice de ocupación | B13: 81.07 | C13: 62.49 | E13: 78.85 | F13: 56.88 | H13: 72.53 | I13: 63.82
A14: Mortalidad intrahospitalaria | B14: 4.53 | C14: 0.6 | E14: 4.57 | F14: 0.72 | H14: 6.21 | I14: 0.99
A16: FUENTE: Estadística de Centros Sanitarios de Atención Especializada. Ministerio de Sanidad.
A17: NOTA: Mortalidad intrahospitalaria es el % de altas por fallecimiento respecto al total de altas.

Sheet 11.1.5 Y 11.1.6 
A1: 11. SALUD Y SERVICIOS SOCIALES
K2: Volver al índice
A3: 11.1.5 INDICADORES DE DOTACIÓN TECNOLÓGICA EN FUNCIONAMIENTO
B5: 2018 | E5: 2019 | H5: 2020
B6: Número | C6: %SNS | E6: Número | F6: %SNS | H6: Número | I6: %SNS
A8: Equipos de Angiografía Digital | B8: 2 | C8: 100 | E8: 2 | F8: 100 | H8: - | I8: - | L8: - | M8: - | Z8: Columnas :
A9: Densitómetros óseos | B9: 3 | C9: 66.666667 | E9: 4 | F9: 50 | H9: 4 | I9: 0.5
A10: Equipos de Gammacámara | B10: 1 | C10: 100 | E10: 1 | F10: 100 | H10: 1 | I10: 1 | AA10: Medidas
A11: Mamógrafos | B11: 4 | C11: 100 | E11: 5 | F11: 80 | H11: 5 | I11: 0.8
A12: Equipos de PET/PET-TC | B12: 1 | C12: 100 | E12: 1 | F12: 100 | H12: 1 | I12: 1 | Z12: Columnas :
A13: Equipos de Resonancia Nuclear Magnética | B13: 4 | C13: 75 | E13: 4 | F13: 75 | H13: 4 | I13: 0.75
A14: Equipos SPECT | B14: 1 | C14: 100 | E14: 1 | F14: 100 | H14: 1 | I14: 1 | AA14: Medidas
A15: Equipos de TAC | B15: 5 | C15: 80 | E15: 5 | F15: 80 | H15: 5 | I15: 0.8
A16: Aceleradores lineales | B16: 2 | C16: 100 | E16: 2 | F16: 100 | H16: 3 | I16: 1
A17: Bombas de telecobaltoterapia | B17: - | C17: - | E17: - | F17: - | H17: - | I17: -
A18: Salas de Hemodinámica | B18: 2 | C18: 50 | E18: 2 | F18: 50 | H18: 2 | I18: 0.5
A19: Equipos de Litotricia Renal | B19: 1 | C19: 100 | E19: 1 | F19: 100 | H19: 1 | I19: 1
A20: Equipos de Hemodiálisis | B20: 37 | C20: 100 | E20: 38 | F20: 100 | H20: 39 | I20: 1
A22: FUENTE: Estadística de Centros Sanitarios de Atención Especializada. Ministerio de Sanidad.
A29: 11.1.6 PERSONAL SEGÚN TIPO DE VINCULACIÓN
A31: Unidades: Número de personas y porcentaje
B33: 2018 | E33: 2019 | H33: 2020
B34: Número | C34: Porcentaje | E34: Número | F34: Porcentaje | H34: Número | I34: Porcentaje
A36: TOTAL | B36: =B38+B39 -> 3804 | C36: 100 | E36: =E38+E39 -> 3930 | F36: 100 | H36: =H38+H39 -> 4280 | I36: 100
A38: Personal Total Vinculado | B38: 3697 | C38: =B38*100/B36 -> 97.187171 | E38: 3817 | F38: =E38*100/E36 -> 97.124682 | H38: 4169 | I38: =H38*100/H36 -> 97.406542
A39: Personal Total Colaborador | B39: 107 | C39: =B39*100/B36 -> 2.8128286 | E39: 113 | F39: =E39*100/E36 -> 2.8753181 | H39: 111 | I39: =H39*100/H36 -> 2.5934579
A41: Personal vinculado por 1.000 habitantes | B41: 11.82 | C41: - | E41: 12.14 | F41: - | H41: 13.187112 | I41: -
A43: FUENTE: Estadística de Centros Sanitarios de Atención Especializada. Ministerio de Sanidad.

Sheet 11.1.7
A1: 11. SALUD Y SERVICIOS SOCIALES
N2: Volver al índice
A3: 11.1.7 INDICADORES DE PERSONAL VINCULADO
B5: 2018 | F5: 2019 | J5: 2020
B6: Número | C6: Personal por | D6: %SNS | F6: Número | G6: Personal por | H6: %SNS | J6: Número | K6: Personal por | L6: %SNS
C7: 1.000 hab | G7: 1.000 hab | K7: 1.000 hab
A9: Médicos | B9: 572 | C9: 1.83 | D9: 97.902098 | F9: 582 | G9: 1.85 | H9: 98.281787 | J9: 585 | K9: 1.85 | L9: 98.5
A10: MIR | B10: 91 | C10: 0.29 | D10: 100 | F10: 98 | G10: 0.31 | H10: 100 | J10: 113 | K10: 0.36 | L10: 99.99
A11: Personal de Enfermería | B11: 1068 | C11: 3.42 | D11: 96.254682 | F11: 1080 | G11: 3.43 | H11: 95.925926 | J11: 1175 | K11: 3.81 | L11: 96.3
A12: Técnicos Sanitarios | B12: 1008 | C12: 3.22 | D12: 95.238095 | F12: 1072 | G12: 3.41 | H12: 95.242537 | J12: 1177 | K12: 3.72 | L12: 95.412065
A13: Personal No Sanitario | B13: 932 | C13: 2.98 | D13: 95.815451 | F13: 949 | G13: 3.02 | H13: 94.942044 | J13: 1071 | K13: 3.29 | L13: 100
A15: FUENTE: Estadística de Centros Sanitarios de Atención Especializada.Ministerio de Sanidad.
A16: MIR: Médico Interno Residente

Sheet 11.1.8
L2: Volver al índice
A3: 11.1.8 FINANCIACIÓN DE ACTIVIDAD ASISTENCIAL
C5: 2018 | F5: 2019 | I5: 2020
C6: Número | D6: Financiación pública (%) | F6: Número | G6: Financiación pública (%) | I6: Número | J6: Financiación pública (%)
A8: Estancias totales | C8: 298480 | D8: 96.026199 | F8: 298561 | G8: 97.104444 | I8: 290973 | J8: 97.073955
A9: Consultas totales | C9: 666066 | D9: 86.434528 | F9: 704886 | G9: 83.359862 | I9: 598255 | J9: 83.940126
A10: Urgencias totales | C10: 160762 | D10: 79.592814 | F10: 162094 | G10: 79.432305 | I10: 114923 | J10: 80.31
A12: FUENTE: Estadística de Centros Sanitarios de Atención Especializada. Ministerio de Sanidad.

Sheet 11.1.9
A1: 11.1.9 INDICADORES DE GASTO
H2: Volver al índice
A3: Unidades: Euros
B5: 2016 | C5: 2017 | D5: 2018 | E5: 2019 | F5: 2020
A7: TOTAL GASTO | B7: 296516194 | C7: 296072654 | D7: 307039885 | E7: 325432484 | F7: 349653604 | H7: 349653604
A8: Gastos de Personal | B8: 160002007 | C8: 161117752 | D8: 168034482 | E8: 179277305 | F8: 185362492
A9: Resto de Gastos | B9: 20836466 | C9: 20618938 | D9: 19081441 | E9: 21064451 | F9: 11958092
A10: Compras Farmacia | B10: 49060897 | C10: 48102166 | D10: 51721913 | E10: 54199706 | F10: 56108004
A11: Resto Compras | B11: 66616824 | C11: 66233798 | D11: 68202049 | E11: 70891022 | F11: 96225016
A12: Gasto total por habitante | B12: 948.42 | C12: 947.81 | D12: 981.82 | E12: 1034.96 | F12: 1106.0017
A14: FUENTE: Estadística de Centros Sanitarios de Atención Especializada. Ministerio de Sanidad.

Sheet 11.1.10 y 11.1.11
A1: 11. SALUD Y SERVICIOS SOCIALES
H2: Volver al índice
A3: 11.1.10 PROFESIONALES SANITARIOS COLEGIADOS
B5: 2017 | C5: 2018 | D5: 2019 | E5: 2020 | F5: 2021
A7: Profesionales por especialidad sanitaria
A8: Medicina | B8: 1648 | C8: 1702 | D8: 1755 | E8: 1788 | F8: 1832
A9: Odontología | B9: 232 | C9: 237 | D9: 249 | E9: 279 | F9: 279
A10: Óptica-Optometría | B10: 113 | C10: 119 | D10: 121 | E10: 124 | F10: 117
A11: Podología | B11: 45 | C11: 45 | D11: 47 | E11: 49 | F11: 52
A12: Farmacia | B12: 453 | C12: 461 | D12: 464 | E12: 476 | F12: 477
A13: Veterinaria | B13: 205 | C13: 214 | D13: 206 | E13: 203 | F13: 212
A14: ATS / Grado en Enfermería | B14: 2017 | C14: 2012 | D14: 2047 | E14: 2029 | F14: 2012
A15: Especialidad en Matronería | B15: 52 | C15: 53 | D15: 59 | E15: 56 | F15: 56
A16: Fisioterapia | B16: 315 | C16: 333 | D16: 347 | E16: 375 | F16: 395
A17: Psicología | B17: 275 | C17: 253 | D17: 266 | E17: 277 | F17: 307
A18: Protésis dentales | B18: 26 | C18: 27 | D18: 29 | E18: 27 | F18: 27
A19: Terapeutas ocupacionales | B19: 36 | C19: 46 | D19: 47 | E19: 65 | F19: 71
A20: Dietética y nutrición | B20: - | C20: - | D20: 18 | E20: 23
A21: Logopedia | B21: 40 | C21: 70 | D21: 92 | E21: 78 | F21: 79
A22: Física | B22: - | C22: - | D22: - | E22: 1 | F22: 1
A23: Biología | B23: - | C23: 6 | D23: 7 | E23: 7 | F23: 6
A25: FUENTE: Profesionales Sanitarios Colegiados. INE.
A26: NOTA: Datos a 31 de diciembre.
A27: (*): Los datos de Diplomados en Enfermería con título de Matrona pueden estar infraestimados, al no ser legalmente obligatorio estar
A28: colegiado en una determinada titulación de Diplomado de Enfermería para poder ejercerla.
A34: 11.1.11 NÚMERO DE RECURSOS EN ATENCIÓN PRIMARIA POR TIPO DE PROFESIONAL
B36: 2017 | C36: 2018 | D36: 2019 | E36: 2020 | F36: 2021
A38: Medicina de familia | B38: 217 | C38: 216 | D38: 215 | E38: 211 | F38: 213
A39: Pediatría | B39: 44 | C39: 44 | D39: 43 | E39: 43 | F39: 43
A40: Enfermería | B40: 261 | C40: 290 | D40: 290 | E40: 286 | F40: 305
A41: Auxiliar administrativo | B41: 77 | C41: 61 | D41: 62 | E41: 61 | F41: 62
A42: Auxiliar de enfermería | B42: 44 | C42: 35 | D42: 35 | E42: 36 | F42: 41
A44: FUENTE: Sistema de Información de Atención Primaria del Sistema Nacional de Salud. Ministerio de Sanidad.

Sheet 11.2.1
A1: 11. SALUD Y SERVICIOS SOCIALES
L2: Volver al índice
A3: 11.2 MORBILIDAD
A5: 11.2.1 ESTANCIAS CAUSADAS SEGÚN DIAGNÓSTICO PRINCIPAL
B7: 2019 | G7: 2020
B8: Nº de estancias | D8: Estancia media | G8: Nº de estancias | I8: Estancia media
B9: Hombres | C9: Mujeres | D9: Hombres | E9: Mujeres | G9: Hombres | H9: Mujeres | I9: Hombres | J9: Mujeres
A11: TODAS LAS CAUSAS | B11: 158414 | C11: 154023 | D11: 9.29 | E11: 8.85 | G11: 143419 | H11: 133772 | I11: 9.39 | J11: 8.67
A13: Enfermedades Infecciosas y parasitarias | B13: 6095 | C13: 4591 | D13: 10.24 | E13: 10.75 | G13: 11928 | H13: 10014 | I13: 10.66 | J13: 10.44
A14: COVID-19 | B14: - | C14: - | D14: - | E14: - | G14: 7420 | H14: 5755 | I14: 10.91 | J14: 9.96
A15: Neoplasias | B15: 15529 | C15: 11239 | D15: 9.49 | E15: 8.1 | G15: 13084 | H15: 9313 | I15: 8.7 | J15: 7.52
A16: Enfermedades de la sangre y de los órganos hematopoyéticos | B16: 1508 | C16: 1501 | D16: 8.42 | E16: 7.7 | G16: 1253 | H16: 1429 | I16: 6.14 | J16: 5.65
A17: Enfermedades endocrinas, de la nutrición y metabólicas y trastornos de la inmunidad | B17: 3665 | C17: 2582 | D17: 11.82 | E17: 7.53 | G17: 2683 | H17: 1805 | I17: 11.18 | J17: 7.37
A18: Trastornos mentales | B18: 31248 | C18: 32536 | D18: 80.95 | E18: 127.09 | G18: 17047 | H18: 24179 | I18: 57.98 | J18: 93.36
A19: Enfermedades del sistema nervioso | B19: 2833 | C19: 2632 | D19: 8.85 | E19: 8.86 | G19: 4297 | H19: 1995 | I19: 12.9 | J19: 7.7
A20: Enfermedades del ojo y sus anexos | B20: 491 | C20: 365 | D20: 3.15 | E20: 3.41 | G20: 225 | H20: 221 | I20: 3.31 | J20: 3.11
A21: Enfermedades del oído y de la apófisis mastoides | B21: 187 | C21: 278 | D21: 3.22 | E21: 3.35 | G21: 299 | H21: 137 | I21: 6.5 | J21: 2.54
A22: Enfermedades del sistema circulatorio | B22: 23501 | C22: 20117 | D22: 8.94 | E22: 9.28 | G22: 21890 | H22: 14671 | I22: 9.36 | J22: 8.43
A23: Enfermedades del sistema respiratorio | B23: 18756 | C23: 15297 | D23: 7.07 | E23: 7.05 | G23: 19586 | H23: 14983 | I23: 8.53 | J23: 7.96
A24: Enfermedades del aparato digestivo | B24: 14984 | C24: 12332 | D24: 5.81 | E24: 6.09 | G24: 14378 | H24: 10786 | I24: 6.73 | J24: 6.39
A25: Enfermedades de la piel y del tejido subcutáneo | B25: 2536 | C25: 1639 | D25: 13.07 | E25: 9.16 | G25: 1137 | H25: 1167 | I25: 8.88 | J25: 8.16
A26: Enfermedades del sistema osteomuscular y del tejido conjuntivo | B26: 5171 | C26: 5520 | D26: 4.53 | E26: 5.01 | G26: 3785 | H26: 3700 | I26: 4.8 | J26: 4.85
A27: Enfermedades del sistema genitourinario | B27: 7652 | C27: 7586 | D27: 6.05 | E27: 6.01 | G27: 5704 | H27: 6056 | I27: 5.5 | J27: 6.81
A28: Complicaciones del embarazo, parto y puerperio | B28: - | C28: 8847 | D28: - | E28: 3.24 | G28: - | H28: 8117 | I28: - | J28: 3.17
A29: Ciertas enfermedades con origen en el periodo perinatal | B29: 1425 | C29: 1003 | D29: 11.88 | E29: 10.56 | G29: 1015 | H29: 892 | I29: 8.25 | J29: 8.42
A30: Anomalías cognitivas no congénitas | B30: 197 | C30: 72 | D30: 2.94 | E30: 2.67 | G30: 167 | H30: 50 | I30: 3.21 | J30: 3.33
A31: Síntomas, signos y hallazgos anormales clínicos y de laboratorio | B31: 4504 | C31: 3584 | D31: 5.48 | E31: 5.58 | G31: 7358 | H31: 4941 | I31: 9.98 | J31: 8.81
A32: Lesiones y envenenamientos | B32: 13197 | C32: 18622 | D32: 8.48 | E32: 11.31 | G32: 12145 | H32: 16320 | I32: 8.3 | J32: 11
A33: Hospitalizaciones especiales | B33: 4935 | C33: 3680 | D33: 12.31 | E33: 14.08 | G33: 5438 | H33: 2996 | I33: 14.9 | J33: 11.8
A35: FUENTE: Encuesta de Morbilidad Hospitalaria. INE.

Sheet 11.2.2
A1: 11. SALUD Y SERVICIOS SOCIALES
K2: Volver al índice
A3: 11.2.2 ESTANCIAS CAUSADAS SEGÚN GRUPOS DE EDAD
B5: 2018 | E5: 2019 | H5: 2020
B6: Nº de estancias | C6: Est. Media | E6: Nº de estancias | F6: Est. Media | H6: Nº de estancias | I6: Est. Media
A8: TOTAL | B8: 289129 | C8: 8.21 | E8: 312437 | F8: 9.07 | H8: 277191 | I8: 9.03
A9: Menores de 1 año | B9: 4121 | C9: 6.76 | E9: 3679 | F9: 6.73 | H9: 2779 | I9: 6.09
A10: De 1 a 4 años | B10: 1692 | C10: 2.83 | E10: 1458 | F10: 2.78 | H10: 826 | I10: 2.26
A11: De 5 a 14 años | B11: 2426 | C11: 2.87 | E11: 1897 | F11: 2.9 | H11: 1603 | I11: 2.65
A12: De 15 a 24 años | B12: 4705 | C12: 3.91 | E12: 4921 | F12: 4.08 | H12: 4141 | I12: 4.09
A13: De 25 a 34 años | B13: 10369 | C13: 4.23 | E13: 10459 | F13: 4.26 | H13: 9300 | I13: 4.23
A14: De 35 a 44 años | B14: 16093 | C14: 4.78 | E14: 16063 | F14: 5.04 | H14: 18005 | I14: 6.56
A15: De 45 a 54 años | B15: 19004 | C15: 5.86 | E15: 19696 | F15: 6.31 | H15: 20745 | I15: 7.2
A16: De 55 a 64 años | B16: 33434 | C16: 7.23 | E16: 39356 | F16: 8.4 | H16: 37802 | I16: 8.86
A17: De 65 a 74 años | B17: 61137 | C17: 10.51 | E17: 71383 | F17: 12.52 | H17: 49115 | I17: 9.68
A18: De 75 a 84 años | B18: 71528 | C18: 10.84 | E18: 72968 | F18: 11.44 | H18: 73153 | I18: 12.81
A19: De 85 a 89 años | B19: 37292 | C19: 10.91 | E19: 44183 | F19: 12.91 | H19: 35359 | I19: 11.29
... A51: De 95 y más años | B51: 4086 | C51: 10.45 | E51: 4432 | F51: 10.55 | H51: 4106 | I51: 10.11
A53: FUENTE: Encuesta de Morbilidad Hospitalaria. INE.

Sheet 11.2.3
A1: 11. SALUD Y SERVICIOS SOCIALES
F2: Volver al índice
A3: 11.2.3 CASOS NOTIFICADOS DE ENFERMEDADES DE DECLARACIÓN OBLIGATORIA
B5: 2016 | C5: 2017 | D5: 2018
A7: Botulismo | B7: 1 | C7: 1 | D7: -
A8: Brucelosis | B8: - | C8: - | D8: 1
A9: Campilobacteriosis | B9: 450* | C9: 543* | D9: 337*
A10: Carbunco | B10: - | C10: - | D10: -
A11: Enf. por virus Chikunguya (1) | B11: - | C11: - | D11: -
A12: Infección por C. trachomatis | B12: - | C12: 12 | D12: 44
A13: Cólera (1) | B13: - | C13: - | D13: -
A14: Criptosporidiais | B14: 6* | C14: 8* | D14: 90*
A15: Dengue (1) | B15: 3 | C15: - | D15: -
A16: E. invasora por Haemophilus influenzae | B16: 3 | C16: 6 | D16: 7
A17: Enfermedad meningocócica | B17: 1 | C17: 1 | D17: 6
A18: Enf. Neumocócica invasora | B18: 39 | C18: 18 | D18: 35
A19: Enf. por virus Zika (1) | B19: 8 | C19: 1 | D19: -
A20: Fiebre exantemática Mediterránea | B20: 4 | C20: 8 | D20: 1
A21: Fiebre Q | B21: 3 | C21: 26 | D21: 14
A22: Fiebre recurrente transmitida por garrapatas | B22: - | C22: - | D22: -
A23: Fiebres tifoidea y paratifoidea | B23: 1 | C23: 1 | D23: -
A24: Fiebres hemorrágicas virales (Crimea - Congo) (1) | B24: - | C24: - | D24: -
A25: Giardiasis | B25: 21* | C25: - | D25: 65*
A26: Gripe | B26: 6537 | C26: 3750 | D26: 7045
A27: Hepatitis A | B27: 4 | C27: 2 | D27: 24
A28: Hepatitis B | B28: 1 | C28: 3 | D28: 5
A29: Hepatitis C | B29: 7 | C29: 2 | D29: 5
A30: Herpes Zoster | D30: 1764
A31: Hidatidosis | B31: - | C31: - | D31: -
A32: Infección gonocócica | B32: 28 | C32: 25 | D32: 37
A33: Infeccón por E. coli verotoxigénico | B33: - | C33: - | D33: -
A34: Infección congenita por virus Zika (1) | B34: - | C34: - | D34: -
A35: Legionelosis | B35: 4 | C35: 10 | D35: 22
A36: Leishmaniais | B36: 2 | C36: - | D36: 1
A37: Lepra | B37: - | C37: - | D37: -
A38: Leptospirosis | B38: - | C38: 1 | D38: -
A39: Linfogranuloma Venéreo | B39: - | C39: - | D39: -
A40: Listeriosis | B40: 4 | C40: 6 | D40: 5*
A41: Paludismo | B41: 13 | C41: 7 | D41: 16
A42: Parotiditis | B42: 30 | C42: 232 | D42: 435
...

Sheet 11.2.4
A1: 11. SALUD Y SERVICIOS SOCIALES
H2: Volver al índice
A3: 11.2.4 SIDA. CASOS ACUMULADOS POR CATEGORÍA DE TRANSMISIÓN
B5: 2017 | C5: 2018 | D5: 2019 | E5: 2020 | F5: 2021
A7: TOTAL | B7: 573 | C7: 580 | D7: 586 | E7: =SUM(E9:E15) -> 586 | F7: =SUM(F9:F15) -> 588
A9: Hombres homosexuales | B9: 37 | C9: 38 | D9: 39 | E9: 40 | F9: 41
A10: UDVP | B10: =289+66 -> 355 | C10: 357 | D10: 358 | E10: 358 | F10: 359
A11: Receptores de hemoderivados | B11: 4 | C11: 4 | D11: 4 | E11: 4 | F11: 4
A12: Receptores de transfusiones sanguíneas | B12: 1 | C12: 1 | D12: 1 | E12: 1 | F12: 1
A13: Madre-Hijo | B13: 9 | C13: 9 | D13: 9 | E13: 9 | F13: 9
A14: Relaciones heterosexuales de riesgo | B14: 149 | C14: 152 | D14: 155 | E14: 154 | F14: 154
A15: Otras exposiciones de riesgo o no conocidas | B15: 18 | C15: 19 | D15: 20 | E15: 20 | F15: 20
A17: FUENTE: Instituto de Salud Carlos III. Ministerio de Ciencia, Innovación y Universidades.
A18: NOTA: Datos a 30 de junio, acumulados desde 1981.
A19: UDVP: Usuarios de drogas por vía parenteral, incluidos los hombres homo y bisexuales usuarios de drogas por vía parenteral.

Sheet 11.2.5
A1: 11.2.5 ALGUNAS DE LAS PRINCIPALES ENFERMEDADES RARAS DETECTADAS EN LA RIOJA
F2: Volver al índice
B3: Número de casos. Periodo 2010-2019
B4: Total | C4: Varones | D4: Mujeres
A6: TOTAL | B6: =SUM(C6:D6) -> 1184 | C6: =SUM(C7:C18) -> 552 | D6: =SUM(D7:D18) -> 632
A7: Paraproteinemia monoclonal | B7: =SUM(C7:D7) -> 370 | C7: 205 | D7: 165
A8: Demencia con cuerpos de Lewy | B8: =SUM(C8:D8) -> 120 | C8: 41 | D8: 79
A9: Arteritis de células gigantes | B9: =SUM(C9:D9) -> 87 | C9: 35 | D9: 52
A10: Púrpura trombocitopénica inmune | B10: =SUM(C10:D10) -> 156 | C10: 80 | D10: 76
A11: Síndrome de Sjogren | B11: =SUM(C11:D11) -> 56 | C11: 10 | D11: 46
A12: Neuropatía sensorial hereditaria | B12: =SUM(C12:D12) -> 126 | C12: 80 | D12: 46
A13: Sarcoidosis | B13: =SUM(C13:D13) -> 72 | C13: 30 | D13: 42
A14: Lupus eritematoso sistémico | B14: =SUM(C14:D14) -> 67 | C14: 16 | D14: 51
A15: Distrofia muscular miotónica | B15: =SUM(C15:D15) -> 66 | C15: 35 | D15: 31
A16: Esclerosis lateral amiotrófica | B16: =SUM(C16:D16) -> 16 | C16: 9 | D16: 7
A17: Síndrome de Cushing | B17: =SUM(C17:D17) -> 39 | C17: 8 | D17: 31
A18: Síndrome de Kwashiorkor | B18: =SUM(C18:D18) -> 9 | C18: 3 | D18: 6
A20: FUENTE: Consejería de Salud.
A21: NOTA: Número de personas diagnósticas desde 2010 y que seguían vivas a 31 de diciembre de 2019

Sheet 11.2.6 
A1: 11. SALUD Y SERVICIOS SOCIALES
H2: Volver al índice
A3: 11.2.6 DONANTES DE ÓRGANOS, TASA DE DONACIÓN Y PORCENTAJE DE DONANTES
B5: 2017 | C5: 2018 | D5: 2019 | E5: 2020 | F5: 2021
A7: LA RIOJA
A8: Número de donantes | B8: 22 | C8: 25 | D8: 12 | E8: 14 | F8: 7
A9: Tasa de donación p.m.p. (*) | B9: 71 | C9: 80.6 | D9: 38.7 | E9: 45.2 | F9: 22.6
A11: ESPAÑA
A12: Número de donantes | B12: 2183 | C12: 2241 | D12: 2031 | E12: 1777 | F12: 1905
A13: Tasa de donación p.m.p. (*) | B13: 46.9 | C13: 48 | D13: 48.9 | E13: 37.4 | F13: 40.2
A15: FUENTE: Organización nacional de trasplantes. Ministerio de Sanidad.
A16: NOTA: pmp≈ donantes por millón de población.
A17: (*): Porcentaje calculado sobre el total de muerte encefálica.

Sheet 11.2.7
A1: 11.2.7 RECETAS FACTURADAS Y GASTO FARMACÉUTICO
H2: Volver al índice
A3: Unidades: Número de recetas y gasto en euros
B5: 2017 | C5: 2018 | D5: 2019 | E5: 2020 | F5: 2021
A7: Recetas facturadas | B7: 6079817 | C7: 6287936 | D7: 6413275 | E7: 6371341 | F7: 6554998
A9: Gasto farmacéutico a través de receta oficial del SNS | B9: 71154358 | C9: 72965794 | D9: 73445002 | E9: 73706322 | F9: 77697778
A11: Gasto medio por receta facturada del SNS | B11: 11.7 | C11: 11.6 | D11: 11.45 | E11: 11.57 | F11: =F9/F7 -> 11.853212
A13: FUENTE: Ministerio de Sanidad.
A18: https://www.sanidad.gob.es/profesionales/farmacia/datos/diciembre2021.htm

Sheet 11.2.8
A1: 11. SALUD Y SERVICIOS SOCIALES
J2: Volver al índice
A3: 11.2.8 ATENCIÓN PRIMARIA. CONSULTAS ORDINARIAS POR GRUPOS DE EDAD Y TIPO DE
A4: PROFESIONAL
B6: 2020 | F6: 2021
B7: Medicina de familia | C7: Pediatría | D7: Enfermería | F7: Medicina de familia | G7: Pediatría | H7: Enfermería
A9: Total | B9: 1648485 | C9: 201231 | D9: 1169970 | F9: 1723250 | G9: 217382 | H9: 1288694
A11: 0-4 años | B11: 2426 | C11: 96501 | D11: 59930 | F11: 4371 | G11: 106098 | H11: 60168
A12: 5-9 | B12: 3029 | C12: 57058 | D12: 22809 | F12: 3674 | G12: 58402 | H12: 26961
A13: 10-14 | B13: 8112 | C13: 47672 | D13: 31840 | F13: 9114 | G13: 52882 | H13: 33077
A14: 15-19 | B14: 48298 | D14: 38195 | F14: 56816 | H14: 25031
A15: 20-24 | B15: 50496 | D15: 22242 | F15: 64385 | H15: 27034
A16: 25-29 | B16: 65674 | D16: 25725 | F16: 68622 | H16: 29684
A17: 30-34 | B17: 81673 | D17: 37350 | F17: 84087 | H17: 40927
A18: 35-39 | B18: 101440 | D18: 43018 | F18: 102103 | H18: 48605
A19: 40-44 | B19: 128221 | D19: 47330 | F19: 130023 | H19: 51749
A20: 45-49 | B20: 134138 | D20: 50387 | F20: 139626 | H20: 54820
A21: 50-54 | B21: 139142 | D21: 59408 | F21: 144192 | H21: 71104
A22: 55-59 | B22: 140696 | D22: 68786 | F22: 145109 | H22: 83439
A23: 60-64 | B23: 137007 | D23: 85486 | F23: 148567 | H23: 105513
A24: 65-69 | B24: 114429 | D24: 96791 | F24: 123538 | H24: 115625
A25: 70-74 | B25: 118784 | D25: 105762 | F25: 123384 | H25: 118608
... A30: 95 y más | B30: 13963 | D30: 15900 | F30: 15132 | H30: 18656
A31: Sin Informar | B31: =B9-SUM(B11:B30) -> 8495 | D31: =D9-SUM(D11:D30) -> 719 | F31: =F9-SUM(F11:F30) -> 360 | H31: -
A33: FUENTE: Sistema de Información de Atención Primaria del Sistema Nacional de Salud. Ministerio de Sanidad.

Sheet 11.2.9 Y 11.2.10
A1: 11. SALUD Y SERVICIOS SOCIALES
H2: Volver al índice
A3: 11.2.9 ATENCIÓN PRIMARIA. CONSULTAS ORDINARIAS POR LUGAR DE ATENCIÓN Y TIPO DE
A4: PROFESIONAL
B6: 2017 | C6: 2018 | D6: 2019 | E6: 2020 | F6: 2021
A8: Medicina de familia
A9: Centro A.P. | B9: 1536557 | C9: 1561241 | D9: 1560075 | E9: 1623129 | F9: 1701310
A10: Fuera de centro | B10: 26387 | C10: 29513 | D10: 28738 | E10: 25256 | F10: ='11.2.8'!F9-'11.2.9 Y 11.2.10'!F9 -> 21940
A11: Enfermería
A12: Centro A.P. | B12: 1164510 | C12: 1174039 | D12: 1180410 | E12: 1086393 | F12: 1211938
A13: Fuera de centro | B13: 70971 | C13: 74338 | D13: 70600 | E13: 83577 | F13: ='11.2.8'!H9-'11.2.9 Y 11.2.10'!F12 -> 76756
A14: Pediatría
A15: Centro A.P. | B15: 203824 | C15: 229630 | D15: 229854 | E15: 201211 | F15: 217372
A16: Fuera de centro | B16: 9 | C16: 14 | D16: 9 | E16: 20 | F16: ='11.2.8'!G9-'11.2.9 Y 11.2.10'!F15 -> 10
A18: FUENTE: Sistema de Información de Atención Primaria del Sistema Nacional de Salud. Ministerio de Sanidad.
A26: 11.2.10 ATENCIÓN PRIMARIA. USUARIOS DISTINTOS ATENDIDOS POR LUGAR DE ATENCIÓN Y TIPO
A27: DE PROFESIONAL
B29: 2017 | C29: 2018 | D29: 2019 | E29: 2020 | F29: 2021
A31: Medicina de familia
A32: Centro A.P. | B32: 239859 | C32: 238895 | D32: 239824 | E32: 234304 | F32: 238542
A33: Fuera de centro | B33: 10196 | C33: 10712 | D33: 10153 | E33: 11234 | F33: ='11.2.11'!F9-'11.2.9 Y 11.2.10'!F32 -> 9359
A34: Enfermería
A35: Centro A.P. | B35: 208123 | C35: 209616 | D35: 212143 | E35: 214329 | F35: 221197
A36: Fuera de centro | B36: 10586 | C36: 10967 | D36: 10569 | E36: 14316 | F36: ='11.2.11'!G9-'11.2.9 Y 11.2.10'!F35 -> 60768
A37: Pediatría
A38: Centro A.P. | B38: 35189 | C38: 38586 | D38: 38527 | E38: 35254 | F38: 34054
A39: Fuera de centro | B39: 9 | C39: 12 | D39: 8 | E39: 20 | F39: ='11.2.11'!H9-'11.2.9 Y 11.2.10'!F38 -> 10
A41: FUENTE: Sistema de Información de Atención Primaria del Sistema Nacional de Salud. Ministerio de Sanidad.

Sheet 11.2.11
A1: 11. SALUD Y SERVICIOS SOCIALES
J2: Volver al índice
A3: 11.2.11 ATENCIÓN PRIMARIA. USUARIOS DISTINTOS ATENDIDOS POR GRUPOS DE EDAD Y TIPO DE
A4: PROFESIONAL
B6: 2020 | F6: 2021
B7: Medicina de familia | C7: Enfermería | D7: Pediatría | F7: Medicina de familia | G7: Enfermería | H7: Pediatría
A9: Total | B9: 245538 | C9: 228645 | D9: 35274 | F9: 247901 | G9: 281965 | H9: 34064
A11: 0-4 años | B11: 1253 | C11: 11096 | D11: 12115 | F11: 1742 | G11: 13368 | H11: 11441
A12: 5-9 | B12: 1488 | C12: 7846 | D12: 11927 | F12: 1684 | G12: 13415 | H12: 11465
A13: 10-14 | B13: 2943 | C13: 10444 | D13: 11232 | F13: 3274 | G13: 14175 | H13: 11158
A14: 15-19 | B14: 11761 | C14: 14361 | F14: 12308 | G14: 8198
A15: 20-24 | B15: 11437 | C15: 6509 | F15: 11910 | G15: 7751
A16: 25-29 | B16: 11570 | C16: 6871 | F16: 11821 | G16: 7924
A17: 30-34 | B17: 13362 | C17: 8397 | F17: 13480 | G17: 9353
A18: 35-39 | B18: 16043 | C18: 10367 | F18: 15725 | G18: 11131
A19: 40-44 | B19: 20282 | C19: 13174 | F19: 19822 | G19: 13899
A20: 45-49 | B20: 20565 | C20: 13868 | F20: 20967 | G20: 14890
A21: 50-54 | B21: 20024 | C21: 14705 | F21: 20182 | G21: 16210
A22: 55-59 | B22: 19549 | C22: 15271 | F22: 19682 | G22: 16672
A23: 60-64 | B23: 18929 | C23: 18146 | F23: 19368 | G23: 18146
A24: 65-69 | B24: 16523 | C24: 16517 | F24: 16860 | G24: 17045
A25: 70-74 | B25: 15729 | C25: 15816 | F25: 15721 | G25: 15958
... A30: 95 y más | B30: 2222 | C30: 2195 | F30: 2245 | G30: 2367
A32: FUENTE: Sistema de Información de Atención Primaria del Sistema Nacional de Salud. Ministerio de Sanidad.

Sheet 11.2.12
A1: 11. SALUD Y SERVICIOS SOCIALES
H2: Volver al índice
A3: 11.2.12 ATENCIÓN PRIMARIA. CONSULTAS URGENTES POR GRUPOS DE EDAD
B5: 2017 | C5: 2018 | D5: 2019 | E5: 2020 | F5: 2021
A7: Total | B7: 232417 | C7: 243396 | D7: 240488 | E7: 154440 | F7: 160798
A9: 0-4 años | B9: 19472 | C9: 19212 | D9: 19158 | E9: 7243 | F9: 10236
A10: 5-9 | B10: 14713 | C10: 15005 | D10: 13830 | E10: 6135 | F10: 5437
A11: 10-14 | B11: 11886 | C11: 12559 | D11: 12234 | E11: 6194 | F11: 5063
A12: 15-19 | B12: 11334 | C12: 12960 | D12: 12545 | E12: 6798 | F12: 8277
A13: 20-24 | B13: 12132 | C13: 13523 | D13: 13520 | E13: 8919 | F13: 10066
A14: 25-29 | B14: 12579 | C14: 13209 | D14: 13148 | E14: 8395 | F14: 8585
A15: 30-34 | B15: 12915 | C15: 13380 | D15: 13861 | E15: 9182 | F15: 8992
A16: 35-39 | B16: 15641 | C16: 15790 | D16: 15093 | E16: 9560 | F16: 9150
A17: 40-44 | B17: 16627 | C17: 17456 | D17: 17311 | E17: 11370 | F17: 10824
A18: 45-49 | B18: 15008 | C18: 15360 | D18: 15785 | E18: 10620 | F18: 11066
A19: 50-54 | B19: 14532 | C19: 14923 | D19: 14961 | E19: 10265 | F19: 10625
... A28: 95 y más | B28: 1582 | C28: 1793 | D28: 1962 | E28: 1504 | F28: 1852
A30: FUENTE: Sistema de Información de Atención Primaria del Sistema Nacional de Salud. Ministerio de Sanidad.

Sheet 11.3.1
A1: 11. SALUD Y SERVICIOS SOCIALES
J2: Volver al índice
A3: 11.3 MORTALIDAD
A5: 11.3.1 DEFUNCIONES SEGÚN CAUSA DE MUERTE
B7: 2019 | F7: 2020
B8: Total | C8: Hombres | D8: Mujeres | F8: Total | G8: Hombres | H8: Mujeres
A10: TODAS LAS CAUSAS | B10: 3147 | C10: 1609 | D10: 1538 | F10: 3700 | G10: 1893 | H10: 1807
A12: Enfermedades infecciosas y parasitarias | B12: 57 | C12: 28 | D12: 29 | F12: 690 | G12: 358 | H12: 332
A13: Tumores | B13: 854 | C13: 507 | D13: 347 | F13: 855 | G13: 521 | H13: 334
A14: Enf. de la sangre y de los órg. hematopoyéticos y ciertos trastornos inmunitarios | B14: 14 | C14: 7 | D14: 7 | F14: 19 | G14: 8 | H14: 11
A15: Enf. endocrinas, nutricionales y metabolicas | B15: 104 | C15: 56 | D15: 48 | F15: 102 | G15: 40 | H15: 62
A16: Trastornos mentales y del comportamiento | B16: 189 | C16: 83 | D16: 106 | F16: 193 | G16: 76 | H16: 117
A17: Enf. sist. nervioso y de los órg. de los sentidos | B17: 256 | C17: 117 | D17: 139 | F17: 207 | G17: 77 | H17: 130
A18: Enf. del aparato circulatorio | B18: 914 | C18: 423 | D18: 491 | F18: 883 | G18: 425 | H18: 458
A19: Enf. del aparato respiratorio | B19: 312 | C19: 174 | D19: 138 | F19: 262 | G19: 137 | H19: 125
A20: Enf. del aparato digestivo | B20: 148 | C20: 66 | D20: 82 | F20: 166 | G20: 83 | H20: 83
A21: Enf. de la piel y tejido celular subcutáneo | B21: 20 | C21: 5 | D21: 15 | F21: 15 | G21: 5 | H21: 10
A22: Enf. sist. osteomuscular y del tejido conjuntivo | B22: 46 | C22: 16 | D22: 30 | F22: 36 | G22: 10 | H22: 26
A23: Enf. del aparato genitourinario | B23: 95 | C23: 45 | D23: 50 | F23: 115 | G23: 55 | H23: 60
A24: Embarazo, parto y puerperio | B24: - | C24: - | D24: - | F24: - | G24: - | H24: -
A25: Afecciones origin. en el período perinatal | B25: 3 | C25: 2 | D25: 1 | F25: 2 | G25: 1 | H25: 1
A26: Malformaciones congénitas, deformidades y anomalías cromosómicas | B26: 8 | C26: 1 | D26: 7 | F26: 7 | G26: 3 | H26: 4
A27: Síntomas, signos y hallazgos anormales clínicos y de laboratorio | B27: 27 | C27: 11 | D27: 16 | F27: 26 | G27: 12 | H27: 14
A28: Causas externas de mortalidad | B28: 100 | C28: 68 | D28: 32 | F28: 122 | G28: 82 | H28: 40
A30: FUENTE: Defunciones según la causa de muerte. INE.

Sheet 11.3.2
A1: 11. SALUD Y SERVICIOS SOCIALES
N2: Volver al índice
A3: 11.3.2 DEFUNCIONES SEGÚN CAUSA DE MUERTE Y GRUPOS DE EDAD. AÑO 2020
B5: Todas | C5: Menores | D5: De 1 | E5: De 15 | F5: De 30 | G5: De 40 | H5: De 50 | I5: De 60 | J5: De 65 | K5: De 70 | L5: Mayores
B6: edades | C6: 1 año | D6: a 14 | E6: a 29 | F6: a 39 | G6: a 49 | H6: a 59 | I6: a 64 | J6: a 69 | K6: a 74 | L6: de 74
A8: TOTAL | B8: 3700 | C8: 6 | D8: 3 | E8: 14 | F8: 15 | G8: 67 | H8: 167 | I8: 156 | J8: 202 | K8: 258 | L8: 2812
A10: Enfermedades infecciosas y parasitarias | B10: 690 | C10: - | D10: - | E10: 1 | F10: 3 | G10: 8 | H10: 20 | I10: 15 | J10: 26 | K10: 43 | L10: 574
A11: Tumores | B11: 855 | C11: - | D11: - | E11: 2 | F11: 1 | G11: 26 | H11: 69 | I11: 81 | J11: 90 | K11: 106 | L11: 480
A12: Enfermedades de la sangre y de los órganos hematopoyéticos | B12: 19 | C12: - | D12: - | E12: 1 | F12: - | G12: - | H12: 1 | I12: - | J12: - | K12: - | L12: 17
A13: Enfermedades endocrinas, de la nutrición y metabólicas y trastornos de la inmunidad | B13: 102 | C13: 1 | D13: - | E13: - | F13: - | G13: 1 | H13: 2 | I13: 5 | J13: 4 | K13: 12 | L13: 77
A14: Trastornos mentales y del comportamiento | B14: 193 | C14: - | D14: - | E14: - | F14: - | G14: 1 | H14: 2 | I14: 1 | J14: 1 | K14: 4 | L14: 184
A15: Enfermedades del sistema nervioso y de los órganos de los sentidos | B15: 207 | C15: - | D15: - | E15: 1 | F15: 1 | G15: - | H15: 9 | I15: 2 | J15: 10 | K15: 9 | L15: 175
A16: Enfermedades del sistema circulatorio | B16: 883 | C16: 1 | D16: 1 | E16: 1 | F16: 1 | G16: 14 | H16: 34 | I16: 34 | J16: 38 | K16: 40 | L16: 719
A17: Enfermedades del sistema respiratorio | B17: 262 | C17: - | D17: - | E17: - | F17: - | G17: 2 | H17: 5 | I17: 5 | J17: 9 | K17: 14 | L17: 227
A18: Enfermedades del aparato digestivo | B18: 166 | C18: - | D18: - | E18: - | F18: 1 | G18: 4 | H18: 8 | I18: 6 | J18: 10 | K18: 8 | L18: 129
A19: Enfermedades de la piel y del tejido subcutáneo | B19: 15 | C19: - | D19: - | E19: - | F19: - | G19: - | H19: 1 | I19: - | J19: - | K19: 1 | L19: 13
A20: Enfermedades del sistema osteomuscular y del tejido conjuntivo | B20: 36 | C20: - | D20: - | E20: - | F20: - | G20: 1 | H20: - | I20: - | J20: 1 | K20: 2 | L20: 32
A21: Enfermedades del sistema genitourinario | B21: 115 | C21: - | D21: - | E21: - | F21: - | G21: - | H21: - | I21: - | J21: 6 | K21: 6 | L21: 103
A22: Complicaciones del embarazo, parto y puerperio | B22: - | C22: - | D22: - | E22: - | F22: - | G22: - | H22: - | I22: - | J22: - | K22: - | L22: -
A23: Afecciones originadas en el período perinatal | B23: 2 | C23: 2 | D23: - | E23: - | F23: - | G23: - | H23: - | I23: - | J23: - | K23: - | L23: -
A24: Malformaciones congénitas, deformidades y anomalías cromosómicas | B24: 7 | C24: 2 | D24: - | E24: 2 | F24: 1 | G24: - | H24: - | I24: 1 | J24: - | K24: - | L24: 1
A25: Síntomas, signos y hallazgos anormales clínicos y de laboratorio | B25: 26 | C25: - | D25: - | E25: - | F25: - | G25: 1 | H25: 3 | I25: - | J25: - | K25: 1 | L25: 21
A26: Causas externas de mortalidad | B26: 122 | C26: - | D26: 2 | E26: 6 | F26: 7 | G26: 9 | H26: 13 | I26: 6 | J26: 7 | K26: 12 | L26: 60
A28: FUENTE: Defunciones según la causa de muerte. INE.
N105: >

Sheet G.11.1-G.11.2
A1: 11. SALUD Y SERVICIOS SOCIALES | M1: Volver al índice
A4: G.11.1 Defunciones de mujeres en La Rioja, según las principales causas
A5: de muerte por grupos de edad. Año 2020 | M5: DATOS GRÁFICO
M6: La Rioja. Defunciones por causas (lista reducida), sexo y edad.
M9: MUJERES
N11: Menos de 45 | O11: 45-49 | P11: 50-54 | Q11: 55-59 | R11: 60-64 | S11: 65-69 | T11: 70-74 | U11: 75-79 | V11: 80-84 | W11: 85-89 | X11: 90-94 | Y11: 95 y más
M12: 053-061 IX.Enfermedades del sistema circulatorio | N12: 3 | O12: 1 | P12: 1 | Q12: 6 | R12: 10 | S12: 8 | T12: 14 | U12: 28 | V12: 47 | W12: 110 | X12: 129 | Y12: 101 | Z12: 458
M13: 009-041 II.Tumores | N13: 6 | O13: 8 | P13: 15 | Q13: 17 | R13: 31 | S13: 34 | T13: 40 | U13: 36 | V13: 40 | W13: 58 | X13: 37 | Y13: 12 | Z13: 334
M14: 001-008 I.Enfermedades infecciosas y parasitarias | N14: 2 | O14: 2 | P14: 1 | Q14: 2 | R14: 5 | S14: 4 | T14: 12 | U14: 36 | V14: 34 | W14: 87 | X14: 95 | Y14: 52 | Z14: 332
M15: 050-052 VI-VIII.Enfermedades del sistema nervioso y de los órganos de los sentidos | N15: 0 | O15: 0 | P15: 1 | Q15: 6 | R15: 1 | S15: 8 | T15: 4 | U15: 6 | V15: 24 | W15: 34 | X15: 34 | Y15: 12 | Z15: 130
M16: 062-067 X.Enfermedades del sistema respiratorio | N16: 0 | O16: 0 | P16: 1 | Q16: 1 | R16: 1 | S16: 3 | T16: 3 | U16: 9 | V16: 19 | W16: 25 | X16: 34 | Y16: 29 | Z16: 125
Z17: Enf. del aparato digestivo | AA17: 82
Z18: Enf. del aparato genitourinario | AA18: 50
A32: G.11.2 Defunciones de hombres en La Rioja, según las principales causas | M32: DATOS GRÁFICO
A33: de muerte por grupos de edad. Año 2020 | M33: La Rioja. Defunciones por causas (lista reducida), sexo y edad.
M36: HOMBRES
N38: Menos de 45 | O38: 45-49 | P38: 50-54 | Q38: 55-59 | R38: 60-64 | S38: 65-69 | T38: 70-74 | U38: 75-79 | V38: 80-84 | W38: 85-89 | X38: 90-94 | Y38: 95 y más
M39: 009-041 II.Tumores | N39: 7 | O39: 8 | P39: 11 | Q39: 26 | R39: 50 | S39: 56 | T39: 66 | U39: 79 | V39: 92 | W39: 79 | X39: 34 | Y39: 13 | AA39: 521
M40: 053-061 IX.Enfermedades del sistema circulatorio | N40: 5 | O40: 9 | P40: 10 | Q40: 17 | R40: 24 | S40: 30 | T40: 26 | U40: 35 | V40: 70 | W40: 103 | X40: 68 | Y40: 28 | AA40: 425
M41: 001-008 I.Enfermedades infecciosas y parasitarias | N41: 4 | O41: 4 | P41: 8 | Q41: 9 | R41: 10 | S41: 22 | T41: 31 | U41: 49 | V41: 60 | W41: 91 | X41: 53 | Y41: 17 | AA41: 358
M42: 062-067 X.Enfermedades del sistema respiratorio | N42: 0 | O42: 2 | P42: 1 | Q42: 2 | R42: 4 | S42: 6 | T42: 11 | U42: 14 | V42: 17 | W42: 40 | X42: 24 | Y42: 16 | AA42: 137
M43: 068-072 XI.Enfermedades del sistema digestivo | N43: 3 | O43: 1 | P43: 3 | Q43: 3 | R43: 6 | S43: 7 | T43: 5 | U43: 10 | V43: 11 | W43: 19 | X43: 8 | Y43: 7 | AA43: 83

Sheet 11.4.1 11.4.2
A1: 11. SALUD Y SERVICIOS SOCIALES
J2: Volver al índice
A3: 11.4 ESTADO DE SALUD, LIMITACIONES A LA ACTIVIDAD Y UTILIZACIÓN DE SERVICIOS SANITARIOS
A5: 11.4.1 PORCENTAJE DE POBLACIÓN SEGÚN SU VALORACIÓN DEL ESTADO DE SALUD PERCIBIDO EN
A6: LOS ÚLTIMOS 12 MESES. AÑO 2020
B8: LA RIOJA | F8: ESPAÑA
B9: Total | C9: Hombres | D9: Mujeres | F9: Total | G9: Hombres | H9: Mujeres
A11: Total personas | B11: 100,00 | C11: 100,00 | D11: 100,00 | F11: 100,00 | G11: 100,00 | H11: 100,00
A12: Muy bueno | B12: 25,57 | C12: 29,21 | D12: 22,07 | F12: 25,75 | G12: 28,17 | H12: 23,45
A13: Bueno | B13: 47,78 | C13: 48,72 | D13: 46,87 | F13: 49,76 | G13: 51,10 | H13: 48,49
A14: Regular | B14: 20,19 | C14: 16,34 | D14: 23,90 | F14: 17,45 | G14: 15,23 | H14: 19,56
A15: Malo | B15: 4,30 | C15: 3,91 | D15: 4,67 | F15: 5,53 | G15: 4,37 | H15: 6,62
A16: Muy malo | B16: 2,16 | C16: 1,82 | D16: 2,49 | F16: 1,51 | G16: 1,13 | H16: 1,87
A18: FUENTE: Encuesta Europea de Salud en España 2020. INE
A19: NOTA: Población de 15 años o más.
A23: 11.4.2 PORCENTAJE DE POBLACIÓN CON ALGUNA ENFERMEDAD O PROBLEMA DE SALUD CRÓNICO
A24: PERCIBIDO. AÑO 2020
B26: LA RIOJA | F26: ESPAÑA
B27: Total | C27: Hombres | D27: Mujeres | F27: Total | G27: Hombres | H27: Mujeres
A29: Total personas | B29: 100 | C29: 100 | D29: 100 | F29: 100 | G29: 100 | H29: 100
A30: Sí | B30: 52.16 | C30: 46.39 | D30: 57.68 | F30: 54.31 | G30: 49.26 | H30: 59.08
A31: No | B31: 47.84 | C31: 53.61 | D31: 42.32 | F31: 45.69 | G31: 50.74 | H31: 40.92
A33: FUENTE: Encuesta Europea de Salud en España 2020. INE
A34: NOTA: Población de 15 años o más.

Sheet 11.4.3
A1: 11. SALUD Y SERVICIOS SOCIALES
J2: Volver al índice
A3: 11.4.3 PROBLEMAS O ENFERMEDADES CRÓNICAS O DE LARGA EVOLUCIÓN PADECIDOS Y
A4: DIAGNOSTICADOS EN LOS ÚLTIMOS 12 MESES. AÑO 2020
A6: Unidades: Miles de personas
B8: LA RIOJA | F8: ESPAÑA
B9: Total | C9: Hombres | D9: Mujeres | F9: Total | G9: Hombres | H9: Mujeres
A11: Tensión alta | B11: 51.8 | C11: 22.7 | D11: 29.1 | F11: 7606.6 | G11: 3695.4 | H11: =F11-G11 -> 3911.2
A12: Infarto de miocardio | B12: 1.3 | C12: 0.8 | D12: 0.5 | F12: 283.2 | G12: 201.4 | H12: =F12-G12 -> 81.8
A13: Angina de pecho, enfermedad coronaria | B13: 1.1 | C13: 1 | D13: 0.1 | F13: 283.5 | G13: 157.6 | H13: =F13-G13 -> 125.9
A14: Otras enfermedades del corazón | B14: 9.8 | C14: 6.4 | D14: 3.4 | F14: 1632.2 | G14: 786.4 | H14: =F14-G14 -> 845.8
A15: Varices en las piernas | B15: 27.2 | C15: 7 | D15: 20.2 | F15: 3011.9 | G15: 722.8 | H15: =F15-G15 -> 2289.1
A16: Artrosis (excluyendo artritis) | B16: 37.3 | C16: 14.7 | D16: 22.6 | F16: 5722.3 | G16: 1692.4 | H16: =F16-G16 -> 4029.9
A17: Dolor de espalda crónico (cervical) | B17: 29 | C17: 8.3 | D17: 20.7 | F17: 4523.7 | G17: 1355.8 | H17: =F17-G17 -> 3167.9
A18: Dolor de espalda crónico (lumbar) | B18: 33.7 | C18: 10.6 | D18: 23.1 | F18: 5465.5 | G18: 1967.6 | H18: =F18-G18 -> 3497.9
A19: Alergia crónica, como rinitis, conjuntivitis o dermatitis alérgica, alergia alimentaria o de otro tipo (asma alérgica excluida) | B19: 25.3 | C19: 11.4 | D19: 13.9 | F19: 4311.6 | G19: 1783.4 | H19: =F19-G19 -> 2528.2
A20: Asma (incluida asma alérgica) | B20: 7.2 | C20: 3.4 | D20: 3.8 | F20: 1609.7 | G20: 669.8 | H20: =F20-G20 -> 939.9
A21: Bronquitis crónica, enfisema, enfermedad pulmonar obstructiva crónica (EPOC) | B21: 5.7 | C21: 3 | D21: 2.7 | F21: 1071.7 | G21: 515 | H21: =F21-G21 -> 556.7
A22: Diabetes | B22: 17 | C22: 9.8 | D22: 7.3 | F22: 2997.2 | G22: 1591.6 | H22: =F22-G22 -> 1405.6
... A39: Problemas de riñón | B39: 6.6 | C39: 3.2 | D39: 3.3 | F39: 963.3 | G39: 466.6 | H39: =F39-G39 -> 496.7
A40: Problemas de próstata (solo hombres) | B40: 8.1 | C40: 8.1 | D40: - | F40: 921 | G40: 921 | H40: -
A41: Problemas del periodo menopáusico (solo mujeres) | B41: 7.4 | C41: - | D41: 7.4 | F41: 600.3 | G41: - | H41: 600.3
A42: Lesiones o defectos permanentes causados por un accidente | B42: 16.5 | C42: 10.1 | D42: 6.4 | F42: 1133 | G42: 620.8 | H42: =F42-G42 -> 512.2
A44: FUENTE: Encuesta Europea de Salud en España 2020. INE
A45: NOTA: Población de 15 años o más.

Sheet 11.4.4  11.4.5
A1: 11. SALUD Y SERVICIOS SOCIALES
J2: Volver al índice
A3: 11.4.4 PORCENTAJE DE POBLACIÓN CON LIMITACIÓN EN LAS ACTIVIDADES DE LA VIDA COTIDIANA
A4: EN LOS ÚLTIMOS SEIS MESES. AÑO 2020
B6: LA RIOJA | F6: ESPAÑA
B7: Total | C7: Hombres | D7: Mujeres | F7: Total | G7: Hombres | H7: Mujeres
A9: GRADO DE LIMITACIÓN | B9: 100 | C9: 100 | D9: 100 | F9: 100 | G9: 100 | H9: 100
A10: Gravemente limitado/a | B10: 5.08 | C10: 4.47 | D10: 5.68 | F10: 5.61 | G10: 4.97 | H10: 6.22
A11: Limitado/a pero no gravemente | B11: 19.82 | C11: 15.63 | D11: 23.89 | F11: 19.65 | G11: 16.57 | H11: 22.57
A12: Nada limitado/a | B12: 75.1 | C12: 79.9 | D12: 70.43 | F12: 74.74 | G12: 78.46 | H12: 71.21
A14: Tipo de problema que limita las actividades | B14: 100 | C14: 100 | D14: 100 | F14: 100 | G14: 100 | H14: 100
A15: Físico | B15: 89.24 | C15: 90.47 | D15: 88.45 | F15: 83.91 | G15: 85.45 | H15: 82.82
A16: Mental | B16: 3.55 | C16: 1.93 | D16: 4.58 | F16: 5.7 | G16: 6.53 | H16: 5.12
A17: Ambos | B17: 7.22 | C17: 7.6 | D17: 6.97 | F17: 10.39 | G17: 8.02 | H17: 12.06
A19: FUENTE: Encuesta Europea de Salud en España 2020. INE
A20: NOTA: Población de 15 años o más.
A24: 11.4.5 PORCENTAJE DE POBLACIÓN CON MÁXIMO NIVEL DE DIFICULTAD PARA REALIZAR ALGUNA
A25: ACTIVIDAD. AÑO 2020
B27: LA RIOJA | F27: ESPAÑA
B28: Total | C28: Hombres | D28: Mujeres | F28: Total | G28: Hombres | H28: Mujeres
A30: Actividad básica diaria | B30: 100 | C30: 100 | D30: 100 | F30: 100 | G30: 100 | H30: 100
A31: Sin dificultad | B31: 88.53 | C31: 92.08 | D31: 85.39 | F31: 86.85 | G31: 90.78 | H31: 83.5
A32: Con alguna dificultad | B32: 7.06 | C32: 5.84 | D32: 8.15 | F32: 6.97 | G32: 5.63 | H32: 8.11
A33: Con mucha dificultad | B33: 3.48 | C33: 2.09 | D33: 4.71 | F33: 3.03 | G33: 1.76 | H33: 4.12
A34: No puede hacerlo | B34: 0.93 | C34: 0 | D34: 1.75 | F34: 3.15 | G34: 1.84 | H34: 4.27
A36: Actividad del hogar | B36: 100 | C36: 100 | D36: 100 | F36: 100 | G36: 100 | H36: 100
A37: Sin dificultad | B37: 77.280483 | C37: 84.387352 | D37: 71.052632 | F37: 69.298442 | G37: 79.339885 | H37: 60.756069
A38: Con alguna dificultad | B38: 5.5762082 | C38: 5.9288538 | D38: 5.4385965 | F38: 10.353479 | G38: 7.9950148 | H38: 12.359852
A39: Con mucha dificultad | B39: 5.2973978 | C39: 2.7667984 | D39: 7.5438596 | F39: 8.2719838 | G39: 4.9479987 | H39: 11.099737
A40: No puede hacerlo | B40: 11.802974 | C40: 6.916996 | D40: 16.140351 | F40: 11.913448 | G40: 7.5853079 | H40: 15.595447
A41: No lo ha intentado o necesitado | B41: 0 | C41: 0 | D41: 0 | F41: 0.16198917 | G41: 0.13179383 | H41: 0.18767671
A43: FUENTE: Encuesta Europea de Salud en España 2020. INE
A44: NOTA: Población de 65 años o más. Actividades básicas consideradas: alimentarse, sentarse, levantarse de una silla o de una cama, acostarse, vestirse y desvestirse, ir al servicio, ducharse o bañarse.

Sheet 11.4.6
A1: 11. SALUD Y SERVICIOS SOCIALES
J2: Volver al índice
A3: 11.4.6 PORCENTAJE DE POBLACIÓN SEGÚN UTILIZACIÓN DE SERVICIOS SANITARIOS. AÑO 2020
B5: LA RIOJA | F5: ESPAÑA
B6: Total | C6: Hombres | D6: Mujeres | F6: Total | G6: Hombres | H6: Mujeres
A8: Tiempo transcurrido desde la última consulta médica:
A9: 4 semanas o menos | B9: 27.44 | C9: 22.15 | D9: 32.53 | F9: 25.17 | G9: 20.96 | H9: 29.16
A10: Más de 4 semanas y menos de 1 año | B10: 60.02 | C10: 63.88 | D10: 56.3 | F10: 62.39 | G10: 62.84 | H10: 61.97
A11: 1 año o más | B11: 12.54 | C11: 13.96 | D11: 11.17 | F11: 12.31 | G11: 16 | H11: 8.81
A12: Nunca ha consultado al médico | B12: 0 | C12: 0 | D12: 0 | F12: 0.13 | G12: 0.21 | H12: 0.06
A14: Consulta al médico de familia en las 4 últimas semanas | B14: 22.9 | C14: 19.28 | D14: 26.39 | F14: 20.97 | G14: 17.57 | H14: 24.19
A16: Consulta al médico especialista en las 4 últimas semanas | B16: 12.03 | C16: 8.46 | D16: 15.48 | F16: 9.54 | G16: 7.76 | H16: 11.22
A18: Visitas a otros profesionales sanitarios en los últimos 12 meses:
A19: Fisioterapeuta | B19: 15,94 | C19: 12,71 | D19: 19,06 | F19: 16,81 | G19: 14,96 | H19: 18,55
A20: Psicólogo, psicoterapeuta o psiquiatra | B20: 4,53 | C20: 3,53 | D20: 5,50 | F20: 4,77 | G20: 4,00 | H20: 5,49
A21: Enfermero/a o matrón/matrona | B21: 14,27 | C21: 12,71 | D21: 15,76 | F21: 15,58 | G21: 13,44 | H21: 17,61
A22: Centro o servicio de radiología | B22: 25,25 | C22: 23,50 | D22: 26,94 | F22: 23,18 | G22: 21,46 | H22: 24,82
A24: Servicios asistenciales domiciliarios utilizados en los últimos 12 meses:
A25: Atención domiciliaria por enfermero/a o matrón/matrona | B25: 2,70 | C25: 1,57 | D25: 3,62 | F25: 4,85 | G25: 3,57 | H25: 5,86
A26: Ayuda domiciliaria para las tareas domésticas o para las personas mayores | B26: 8,23 | C26: 6,69 | D26: 9,48 | F26: 6,01 | G26: 4,36 | H26: 7,31
A27: Comidas a domicilio para personas mayores | B27: 2,85 | C27: 4,78 | D27: 1,24 | F27: 0,93 | G27: 0,74 | H27: 1,09
A28: Servicios especiales de transporte a domicilio | B28: 1,82 | C28: 1,57 | D28: 2,03 | F28: 2,94 | G28: 2,40 | H28: 3,35
A29: Otros servicios de asistencia domiciliaria | B29: 2,37 | C29: 1,98 | D29: 2,70 | F29: 2,36 | G29: 1,36 | H29: 3,13
A31: Hospitalización en los últimos 12 meses | B31: 12,29 | C31: 13,78 | D31: 10,84 | F31: 7,97 | G31: 7,59 | H31: 8,33
A33: Utilización serv. de urgencias en los últimos 12 meses | B33: 24,17 | C33: 22,79 | D33: 25,50 | F33: 24,07 | G33: 21,69 | H33: 26,32
A35: Modalidad de la cobertura sanitaria (Exclusiva)
A36: Pública exclusivamente | B36: 82,39 | C36: 81,56 | D36: 83,19 | F36: 84,35 | G36: 84,88 | H36: 83,84
A37: Privada exclusivamente | B37: 1,40 | C37: 2,57 | D37: 0,28 | F37: 0,65 | G37: 0,74 | H37: 0,57
A38: Mixta | B38: 16,14 | C38: 15,74 | D38: 16,53 | F38: 14,63 | G38: 13,95 | H38: 15,28
A39: Otras situaciones | B39: 0,07 | C39: 0,14 | D39: 0 | F39: 0,37 | G39: 0,44 | H39: 0,31
A41: FUENTE: Encuesta Europea de Salud en España 2020. INE
A42: NOTA: Población de 15 o más años, excepto en Servicios asistenciales domiciliarios (65 años o más) y Cobertura sanitaria.

Sheet 11.5.1
A1: 11. SALUD Y SERVICIOS SOCIALES
H2: Volver al índice
A3: 11.5 DISCAPACIDAD
A5: 11.5.1 PERSONAS CON RECONOCIMIENTO DE DISCAPACIDAD SEGÚN GRADO
B7: 2017 | C7: 2018 | D7: 2019 | E7: 2020 | F7: 2021
A9: TOTAL | B9: 19339 | C9: 19634 | D9: 19863 | E9: 19452 | F9: =F10+F11 -> 20231
A10: Hombres | B10: 10406 | C10: 10596 | D10: 10638 | E10: 10418 | F10: 10781
A11: Mujeres | B11: 8933 | C11: 9038 | D11: 9225 | E11: 9034 | F11: 9450
A13: MODERADO | B13: 12527 | C13: 12821 | D13: 12863 | E13: 12738 | F13: =F14+F15 -> 13265
A14: Hombres | B14: 7093 | C14: 7275 | D14: 7240 | E14: 7153 | F14: 7400
A15: Mujeres | B15: 5434 | C15: 5546 | D15: 5623 | E15: 5585 | F15: 5865
A17: GRAVE | B17: 4000 | C17: 4031 | D17: 4118 | E17: 3958 | F17: =F18+F19 -> 4026
A18: Hombres | B18: 2028 | C18: 2044 | D18: 2091 | E18: 2007 | F18: 2048
A19: Mujeres | B19: 1972 | C19: 1987 | D19: 2027 | E19: 1951 | F19: 1978
A21: MUY GRAVE | B21: 2812 | C21: 2782 | D21: 2882 | E21: 2756 | F21: =F22+F23 -> 2940
A22: Hombres | B22: 1285 | C22: 1277 | D22: 1307 | E22: 1258 | F22: 1333
A23: Mujeres | B23: 1527 | C23: 1505 | D23: 1575 | E23: 1498 | F23: 1607
A25: FUENTE: Consejería de Servicios Sociales y Gobernanza Pública

Sheet 11.5.2 y 11.5.3
A1: 11. SALUD Y SERVICIOS SOCIALES
N2: Volver al índice
A3: 11.5.2 PERSONAS CON RECONOCIMIENTO DE DISCAPACIDAD POR GRUPOS DE EDAD
B5: 2018 | E5: 2019 | H5: 2020 | K5: 2021
B6: Hombres | C6: Mujeres | E6: Hombres | F6: Mujeres | H6: Hombres | I6: Mujeres | K6: Hombres | L6: Mujeres
A8: TOTAL | B8: 10596 | C8: 9038 | E8: 10638 | F8: 9225 | H8: 10418 | I8: 9034 | K8: =SUM(K10:K15) -> 10781 | L8: =SUM(L10:L15) -> 9450
A10: De 0 a 6 años | B10: 101 | C10: 47 | E10: 91 | F10: 44 | H10: 89 | I10: 51 | K10: 108 | L10: 49
A11: De 7 a 15 años | B11: 398 | C11: 218 | E11: 414 | F11: 218 | H11: 418 | I11: 197 | K11: 481 | L11: 214
A12: De 16 a 44 años | B12: 1659 | C12: 1205 | E12: 1639 | F12: 1209 | H12: 1594 | I12: 1160 | K12: 1627 | L12: 1213
A13: De 45 a 64 años | B13: 3922 | C13: 2903 | E13: 3822 | F13: 2928 | H13: 3758 | I13: 2919 | K13: 3855 | L13: 3029
A14: De 65 a 79 años | B14: 3063 | C14: 2483 | E14: 3219 | F14: 2600 | H14: 3126 | I14: 2550 | K14: 3203 | L14: 2699
A15: De 80 y más años | B15: 1453 | C15: 2182 | E15: 1453 | F15: 2226 | H15: 1433 | I15: 2157 | K15: 1507 | L15: 2246
A17: FUENTE: Consejería de Servicios Sociales y Gobernanza Pública.
A21: 11.5.3 PERSONAS CON RECONOCIMIENTO DE DISCAPACIDAD SEGÚN TIPO
B23: 2018 | E23: 2019 | H23: 2020 | K23: 2021
B24: Hombres | C24: Mujeres | E24: Hombres | F24: Mujeres | H24: Hombres | I24: Mujeres | K24: Hombres | L24: Mujeres
A26: TOTAL | B26: 10596 | C26: 9038 | E26: 10638 | F26: 9225 | H26: 10418 | I26: 9034 | K26: 10781 | L26: 9450
A28: DISCAP. FÍSICAS | B28: 5954 | C28: 4661 | E28: 5965 | F28: 4754 | H28: 5790 | I28: 4635 | K28: =K29+K30+K31 -> 5966 | L28: =L29+L30+L31 -> 4867
A29: Osteoarticular | B29: 3007 | C29: 2493 | E29: 2963 | F29: 2540 | H29: 2879 | I29: 2490 | K29: 2973 | L29: 2620
A30: Neuromuscular | B30: 1142 | C30: 911 | E30: 1170 | F30: 929 | H30: 1138 | I30: 888 | K30: 1150 | L30: 912
A31: Crónicas | B31: 1805 | C31: 1257 | E31: 1832 | F31: 1285 | H31: 1773 | I31: 1257 | K31: 1843 | L31: 1335
A33: DISCAP. SENSORIALES | B33: 1549 | C33: 1484 | E33: 1561 | F33: 1528 | H33: 1543 | I33: 1529 | K33: =K34+K35+K36 -> 1551 | L33: =L34+L35+L36 -> 1582
A34: Auditivas | B34: 689 | C34: 697 | E34: 709 | F34: 730 | H34: 716 | I34: 744 | K34: 737 | L34: 771
A35: Visuales | B35: 771 | C35: 763 | E35: 767 | F35: 774 | H35: 749 | I35: 762 | K35: 740 | L35: 787
A36: Expresivas | B36: 89 | C36: 24 | E36: 85 | F36: 24 | H36: 78 | I36: 23 | K36: 74 | L36: 24
A38: DISCAP. PSÍQUICAS | B38: 2668 | C38: 2536 | E38: 2700 | F38: 2597 | H38: 2681 | I38: 2523 | K38: =K39+K40 -> 2839 | L38: =L39+L40 -> 2625
A39: Retraso mental | B39: 1065 | C39: 794 | E39: 1033 | F39: 796 | H39: 1024 | I39: 788 | K39: 1084 | L39: 787
A40: Trastorno mental | B40: 1603 | C40: 1742 | E40: 1667 | F40: 1801 | H40: 1657 | I40: 1735 | K40: 1755 | L40: 1838
A42: MIXTAS | B42: 194 | C42: 211 | E42: 190 | F42: 210 | H42: 181 | I42: 197 | K42: 183 | L42: 198
A44: OTRAS | B44: 231 | C44: 146 | E44: 222 | F44: 136 | H44: 223 | I44: 150 | K44: 242 | L44: 178
A46: FUENTE: Consejería de Servicios Sociales y Gobernanza Pública.

Sheet 11.5.4 y 11.5.5
A1: 11. SALUD Y SERVICIOS SOCIALES
I2: Volver al índice
A3: 11.5.4 NÚMERO DE PLAZAS EN ALOJAMIENTOS RESIDENCIALES PARA PERSONAS
A4: CON DISCAPACIDAD
B6: 2017 | C6: 2018 | D6: 2019 | E6: 2020 | F6: 2021
A8: TOTAL | B8: =SUM(B11:B26) -> 249 | C8: =SUM(C11:C26) -> 253 | D8: =SUM(D11:D26) -> 265 | E8: =SUM(E11:E26) -> 269 | F8: =SUM(F11:F26) -> 287
A10: Gobierno de La Rioja
A11: CAPDP Santa Lucia | B11: 100 | C11: 100 | D11: 100 | E11: 100 | F11: 100
A12: Leo Kanner | B12: 20 | C12: 20 | D12: 28 | E12: 28 | F12: 28
A14: IGUAL A TI
A15: Logroño | B15: 48 | C15: 48 | D15: 48 | E15: 48 | F15: 48
A16: Calahorra | B16: 12 | C16: 12 | D16: 12 | E16: 12 | F16: 12
A18: ASPACE | B18: 18 | C18: 18 | D18: 18 | E18: 18 | F18: 18
A20: ARDEM | B20: 8 | C20: 8 | D20: 8 | E20: 8 | F20: 8
A22: ASPRODEMA Nájera | F22: 18
A24: Públicas en viviendas especializadas | B24: 17 | C24: 17 | D24: 17 | E24: 17 | F24: 17
A25: Municipales en viviendas especializadas | B25: 20 | C25: 20 | D25: 20 | E25: 20 | F25: 20
A26: Privadas en viviendas especializadas | B26: 6 | C26: 10 | D26: 14 | E26: 18 | F26: 18
A28: FUENTE: Consejería de Servicios Sociales y Gobernanza Pública
A31: 11.5.5 NÚMERO DE PLAZAS PÚBLICAS EN CENTROS DE DÍA PARA PERSONAS
A32: CON DISCAPACIDAD
B34: 2017 | C34: 2018 | D34: 2019 | E34: 2020 | F34: 2021
A36: TOTAL | B36: 263 | C36: =SUM(C39:C52) -> 263 | D36: =SUM(D39:D52) -> 275 | E36: =SUM(E39:E52) -> 285 | F36: =SUM(F39:F52) -> 290
A38: Gobierno de La Rioja
A39: CAPDP Santa Lucia | B39: 20 | C39: 20 | D39: 20 | E39: 20 | F39: 20
A40: Leo Kanner | B40: 30 | C40: 30 | D40: 40 | E40: 40 | F40: 40
A42: ASPRODEMA
A43: Logroño | B43: 30 | C43: 30 | D43: 30 | E43: 30 | F43: 30
A44: Nájera | B44: 15 | C44: 15 | D44: 15 | E44: 20 | F44: 25
A46: IGUAL A TI | B46: 56 | C46: 56 | D46: 56 | E46: 60 | F46: 60
A48: ASPACE | B48: 39 | C48: 42 | D48: 44 | E48: 45 | F48: 45
A50: SALUD MENTAL LA RIOJA | B50: 23 | C50: 20 | D50: 20 | E50: 20 | F50: 20
A52: ANCORA | B52: 50 | C52: 50 | D52: 50 | E52: 50 | F52: 50
A54: FUENTE: Consejería de Servicios Sociales y Gobernanza Pública

Sheet 11.5.6
A1: 11. SALUD Y SERVICIOS SOCIALES
I2: Volver al índice
A4: 11.5.6 NÚMERO DE PLAZAS PÚBLICAS EN CENTROS OCUPACIONALES PARA PERSONAS
A5: CON DISCAPACIDAD
B7: 2017 | C7: 2018 | D7: 2019 | E7: 2020 | F7: 2021
A9: TOTAL | B9: 304 | C9: =SUM(C11:C21) -> 304 | D9: =SUM(D11:D21) -> 304 | E9: =SUM(E11:E21) -> 319 | F9: =SUM(F11:F21) -> 325
A11: ASPACE | B11: 27 | C11: 27 | D11: 27 | E11: 29 | F11: 29
A13: ASPRODEMA
A14: Nájera | B14: 39 | C14: 39 | D14: 39 | E14: 40 | F14: 46
A15: Logroño | B15: 30 | C15: 30 | D15: 30 | E15: 30 | F15: 30
A17: SALUD MENTAL LA RIOJA | B17: 78 | C17: 78 | D17: 78 | E17: 90 | F17: 90
A19: IGUAL A TI
A20: Calahorra | B20: 50 | C20: 50 | D20: 50 | E20: 50 | F20: 50
A21: Logroño | B21: 80 | C21: 80 | D21: 80 | E21: 80 | F21: 80
A23: FUENTE: Consejería de Servicios Sociales y Gobernanza Pública

Sheet 11.6.1,11.6.2 Y 11.6.3
A1: 11. SALUD Y SERVICIOS SOCIALES
H2: Volver al índice
A3: 11.6 FAMILIAS NUMEROSAS
A5: 11.6.1 TRAMITACIÓN DE TÍTULOS DE FAMILIA NUMEROSA
B7: 2017 | C7: 2018 | D7: 2019 | E7: 2020 | F7: 2021
A9: Altas | B9: 328 | C9: 328 | D9: 370 | E9: 240 | F9: 437
A10: Títulos vigentes | B10: 4394 | C10: 4394 | D10: 4545 | E10: 4325 | F10: 4591
A12: FUENTE: Consejería de Servicios Sociales y Gobernanza Pública.
A13: NOTA: Datos a 31 de diciembre.
A18: 11.6.2 TÍTULOS DE FAMILIA NUMEROSA POR CATEGORÍAS
B20: 2017 | C20: 2018 | D20: 2019 | E20: 2020 | F20: 2021
A22: TOTAL | B22: 4250 | C22: 4394 | D22: 4545 | E22: 4325 | F22: 4591
A24: General | B24: 3813 | C24: 3953 | D24: 4090 | E24: 3883 | F24: 4122
A25: Especial | B25: 437 | C25: 441 | D25: 455 | E25: 442 | F25: 469
A27: FUENTE: Consejería de Servicios Sociales y Gobernanza Pública.
A28: NOTA: Datos a 31 de diciembre.
A33: 11.6.3 TÍTULOS DE FAMILIA NUMEROSA POR TIPO DE TÍTULO
B35: 2017 | C35: 2018 | D35: 2019 | E35: 2020 | F35: 2021
A37: CON HIJOS CON DISCAPACIDAD
A38: Título vigentes | B38: 553 | C38: 576 | D38: 627 | E38: 604 | F38: 672
A39: Títulos del ejercicio | B39: 289 | C39: 271 | D39: 287 | E39: 270 | F39: 411
A40: Nuevos | B40: 67 | C40: 53 | D40: 53 | E40: 28 | F40: 74
A41: Renovados | B41: 222 | C41: 218 | D41: 234 | E41: 242 | F41: 337
A43: SIN HIJOS CON DISCAPACIDAD
A44: Título vigentes | B44: 3697 | C44: 3818 | D44: 3918 | E44: 3721 | F44: 3919
A45: Títulos del ejercicio | B45: 1337 | C45: 1469 | D45: 1457 | E45: 1496 | F45: 1965
A46: Nuevos | B46: 299 | C46: 275 | D46: 317 | E46: 212 | F46: 363
A47: Renovados | B47: 1038 | C47: 1194 | D47: 1140 | E47: 1284 | F47: 1602
A49: FUENTE: Consejería de Servicios Sociales y Gobernanza Pública.
A50: NOTA: Datos a 31 de diciembre.

Sheet 11.7.1
A1: 11. SALUD Y SERVICIOS SOCIALES
H2: Volver al índice
A3: 11.7 MAYORES Y PERSONAS SIN HOGAR
A5: 11.7.1 CENTROS DE MAYORES
A7: Unidades: Número de centros y plazas
B9: 2017 | C9: 2018 | D9: 2019 | E9: 2020 | F9: 2021
A11: RESIDENCIAS
A12: Número de centros | B12: 31 | C12: 31 | D12: 31 | E12: 32 | F12: 32
A13: Número de plazas públicas del Gobierno de La Rioja | B13: 1573 | C13: 1633 | D13: 1633 | E13: 1633 | F13: 1633
A14: Número de plazas públicas municipales | B14: 78 | C14: 78 | D14: 78 | E14: 78 | F14: 78
A15: Número de plazas privadas | B15: 1559 | C15: 1499 | D15: 1514 | E15: 1612 | F15: 1612
A17: CENTROS DE DÍA
A18: Número de centros | B18: 21 | C18: 22 | D18: 22 | E18: 22 | F18: 22
A19: Número de plazas públicas del Gobierno de La Rioja | B19: 485 | C19: 505 | D19: 535 | E19: 535 | F19: 535
A20: Número de plazas privadas | B20: 144 | C20: 255 | D20: 225 | E20: 225 | F20: 225
A22: CENTROS DE PARTICIPACIÓN ACTIVA
A23: Número de centros | B23: 12 | C23: 12 | D23: 12 | E23: 12 | F23: 12
A24: Número de socios* | B24: 41523 | C24: 42929 | D24: 43225 | E24: 42500 | F24: 41875
A26: FUENTE: Consejería de Servicios Sociales y Gobernanza Pública
A27: (*): Una misma persona puede ser socia de más de un hogar.

Sheet 11.7.2
A1: 11.7.2 CENTROS DE ATENCIÓN A LAS PERSONAS SIN HOGAR SEGÚN ACTIVIDAD PRINCIPAL
G2: Volver al índice
A3: Unidades: Datos económicos en euros y centros en número
B5: 2014 | C5: 2016 | D5: 2018 | E5: 2020
A7: Total | B7: 11 | C7: 11 | D7: 11 | E7: 11
A8: Albergue/Centro de acogida nocturno | B8: 1 | C8: 1 | D8: 1 | E8: 1
A9: Centro de acogida | B9: 3 | C9: 3 | D9: 6 | E9: 3
A10: Piso/apartamento de acogida inmediata | B10: 1 | C10: 1 | D10: - | E10: 1
A11: Piso/apartamento de acogida temporal | B11: 4 | C11: 3 | D11: 3 | E11: 5
A12: Piso/apartamento de inserción social | B12: - | C12: 2 | D12: - | E12: -
A13: Residencia | B13: - | C13: - | D13: - | E13: 1
