Workbook

Sheet Índice Cap_17
B8: CAPÍTULO 17: INDICADORES SOCIOECONÓMICOS REGIONALES
B10: 17.1: Población
B11: 17.2: Mercado de trabajo
B12: 17.3: Macromagnitudes
B13: 17.4: Consumo
B14: 17.5: Sector agrario
B15: 17.6: Industria
B16: 17.7: Construcción y vivienda
B17: 17.8: Catastro
B18: 17.9: Servicios
B19: 17.10: Transporte
B20: 17.11: Turismo
... B23: 17.14: Sociedad de la información

Sheet 17.1.1_G.17.1
A1: 17. INDICADORES SOCIOECONÓMICOS REGIONALES
H2: Volver al índice
A3: 17.1 POBLACIÓN
A5: 17.1.1 POBLACIÓN, DENSIDAD Y SALDO MIGRATORIO. AÑO 2020
A7: Unidades: Número de personas
B9: Población | F9: Saldo migratorio por
B10: Total | C10: Hombres | D10: Mujeres | F10: 1.000 habitantes (P)
A12: ESPAÑA | B12: 47353706 | C12: 23207735 | D12: 24145971 | F12: 4.567
A13: Andalucía | B13: 8483741 | C13: 4185228 | D13: 4298513 | F13: 3.868
A14: Aragón | B14: 1331102 | C14: 657174 | D14: 673929 | F14: 4.797
A15: Asturias | B15: 1015423 | C15: 485258 | D15: 530165 | F15: 2.565
A16: I. Baleares | B16: 1215018 | C16: 607874 | D16: 607144 | F16: 8.271
A17: Canarias | B17: 2244472 | C17: 1111768 | D17: 1132704 | F17: 5.012
A18: Cantabria | B18: 582319 | C18: 283766 | D18: 298553 | F18: 3.411
A19: Castilla y León | B19: 2391419 | C19: 1180254 | D19: 1211165 | F19: 2.225
A20: Castilla - La Mancha | B20: 2043074 | C20: 1025604 | D20: 1017470 | F20: 3.131
A21: Cataluña | B21: 7656185 | C21: 3745369 | D21: 3910816 | F21: 6.04
A22: C. Valenciana | B22: 5036797 | C22: 2479992 | D22: 2556805 | F22: 4.895
A23: Extremadura | B23: 1059278 | C23: 525519 | D23: 533759 | F23: 1.381
... A31: Melilla | B31: 84277 | C31: 42314 | D31: 41963 | F31: 3.287
A33: FUENTE: Cifras de población a 1 de julio y Estadística de migraciones (datos provisionales). INE.
A40: 17. INDICADORES SOCIOECONÓMICOS REGIONALES
A44: G.17.1 Saldo migratorio total por 1.000 habitantes. Año 2020 (P)
G47: G,17,1 | H47: Saldo migratorio
G48: Extremadura | H48: 1.381
G49: Castilla y León | H49: 2.225
G50: Asturias | H50: 2.565
G51: Galicia | H51: 2.794
G52: Castilla - La Mancha | H52: 3.131
G53: Navarra | H53: 3.215
G54: Cantabria | H54: 3.411
G55: País Vasco | H55: 3.422
G56: Andalucía | H56: 3.868
G57: La Rioja | H57: 4.217
G58: Murcia | H58: 4.339
G59: ESPAÑA | H59: 4.567
... G65: I. Baleares | H65: 8.271

Sheet 17.1.2
A1: 17. INDICADORES SOCIOECONÓMICOS REGIONALES
N2: Volver al índice
A3: 17.1.2 MIGRACIONES. AÑO 2020 (P)
A5: Unidades: Número de personas
B7: MIGRACIONES INTERIORES | H7: MIGRACIONES EXTERIORES
B8: Inmigración | E8: Emigración | H8: Inmigración | K8: Emigración
B9: Españoles | C9: Extranjer. | E9: Españoles | F9: Extranjer. | H9: Españoles | I9: Extranjer. | K9: Españoles | L9: Extranjer.
A11: ESPAÑA | B11: 255255 | C11: 62030 | E11: 255255 | F11: 62030 | H11: 52511 | I11: 413210 | K11: 66293 | L11: 183184
A12: Andalucía | B12: 34762 | C12: 7078 | E12: 29146 | F12: 8690 | H12: 5772 | I12: 60278 | K12: 8362 | L12: 24877
A13: Aragón | B13: 8682 | C13: 3116 | E13: 7137 | F13: 2405 | H13: 1071 | I13: 9826 | K13: 911 | L13: 3601
A14: Asturias | B14: 6455 | C14: 924 | E14: 5362 | F14: 692 | H14: 1036 | I14: 3518 | K14: 1124 | L14: 825
A15: I, Baleares | B15: 9794 | C15: 2325 | E15: 11850 | F15: 2375 | H15: 1374 | I15: 15613 | K15: 1948 | L15: 4989
A16: Canarias | B16: 11315 | C16: 1775 | E16: 11322 | F16: 2203 | H16: 2937 | I16: 23063 | K16: 3395 | L16: 11355
A17: Cantabria | B17: 6408 | C17: 767 | E17: 3940 | F17: 613 | H17: 556 | I17: 2818 | K17: 587 | L17: 801
A18: Castilla y León | B18: 20186 | C18: 3269 | E18: 17179 | F18: 2873 | H18: 1794 | I18: 10826 | K18: 2276 | L18: 5024
A19: Castilla - La Mancha | B19: 27512 | C19: 5777 | E19: 19769 | F19: 4768 | H19: 1250 | I19: 12827 | K19: 2021 | L19: 5659
A20: Cataluña | B20: 19248 | C20: 9055 | E20: 26920 | F20: 8084 | H20: 9422 | I20: 91012 | K20: 13170 | L20: 41023
A21: C, Valenciana | B21: 22741 | C21: 8163 | E21: 19174 | F21: 6687 | H21: 5204 | I21: 57633 | K21: 6740 | L21: 31441
A22: Extremadura | B22: 7371 | C22: 863 | E22: 7105 | F22: 847 | H22: 445 | I22: 2784 | K22: 671 | L22: 1095
... A30: Melilla | B30: 1161 | C30: 169 | E30: 1645 | F30: 750 | H30: 69 | I30: 720 | K30: 276 | L30: 236
A32: FUENTE: Estadística de Migraciones. INE.
A33: (P)= Datos provisionales.

Sheet 17.1.3
A1: 17. INDICADORES SOCIOECONÓMICOS REGIONALES
G2: Volver al índice
A3: 17.1.3 MOVIMIENTO NATURAL DE LA POBLACIÓN. AÑO 2020 (P)
A5: Unidades: Número de personas (excepto saldo vegetativo)
E7: Saldo vegetativo
B8: Matrimonios | C8: Nacimientos | D8: Defunciones | E8: por 1.000 habitantes
A10: ESPAÑA | B10: 90416 | C10: 339206 | D10: 492930 | E10: =((C10-D10)*1000/'17.1.1_G.17.1'!B12) -> -3.2462929
A11: Andalucía | B11: 15609 | C11: 64906 | D11: 78160 | E11: =((C11-D11)*1000/'17.1.1_G.17.1'!B13) -> -1.5622825
A12: Aragón | B12: 2264 | C12: 9042 | D12: 16680 | E12: =((C12-D12)*1000/'17.1.1_G.17.1'!B14) -> -5.7381027
A13: Asturias | B13: 1950 | C13: 4773 | D13: 14550 | E13: =((C13-D13)*1000/'17.1.1_G.17.1'!B15) -> -9.6284996
A14: I. Baleares | B14: 2943 | C14: 9377 | D14: 8562 | E14: =((C14-D14)*1000/'17.1.1_G.17.1'!B16) -> 0.67077196
A15: Canarias | B15: 4808 | C15: 13142 | D15: 16416 | E15: =((C15-D15)*1000/'17.1.1_G.17.1'!B17) -> -1.458695
A16: Cantabria | B16: 1137 | C16: 3386 | D16: 6459 | E16: =((C16-D16)*1000/'17.1.1_G.17.1'!B18) -> -5.2771763
A17: Castilla y León | B17: 3700 | C17: 13634 | D17: 36177 | E17: =((C17-D17)*1000/'17.1.1_G.17.1'!B19) -> -9.4266208
A18: Castilla - La Mancha | B18: 3421 | C18: 14564 | D18: 25761 | E18: =((C18-D18)*1000/'17.1.1_G.17.1'!B20) -> -5.4804672
A19: Cataluña | B19: 15516 | C19: 58026 | D19: 79685 | E19: =((C19-D19)*1000/'17.1.1_G.17.1'!B21) -> -2.8289546
A20: C. Valenciana | B20: 10727 | C20: 35585 | D20: 48600 | E20: =((C20-D20)*1000/'17.1.1_G.17.1'!B22) -> -2.5839834
A21: Extremadura | B21: 1665 | C21: 7352 | D21: 13060 | E21: =((C21-D21)*1000/'17.1.1_G.17.1'!B23) -> -5.388576
... A29: Melilla | B29: 147 | C29: 939 | D29: 601 | E29: =((C29-D29)*1000/'17.1.1_G.17.1'!B31) -> 4.0105841
A30: Extranjero | B30: 48 | C30: 771 | D30: 1328 | E30: -
A32: FUENTE: Movimiento Natural de la Población. INE.
A33: (P)= Datos provisionales.

Sheet 17.2.1_G.17.2
A1: 17. INDICADORES SOCIOECONÓMICOS REGIONALES
I2: Volver al índice
A3: 17.2 MERCADO DE TRABAJO
A5: 17.2.1 ENCUESTA DE POBLACIÓN ACTIVA. 4º TRIMESTRE DE 2020
A7: Unidades: Miles de personas (excepto tasas actividad y paro)
B9: Pobl. Mayor | C9: Población | D9: Población | E9: Población | F9: Tasa | G9: Tasa
B10: de 16 años | C10: Activa | D10: Ocupada | E10: Parada | F10: actividad | G10: de paro
A12: ESPAÑA | B12: 39635.5 | C12: 23064.1 | D12: 19344.3 | E12: 3719.8 | F12: 58.19 | G12: 16.13
A13: Andalucía | B13: 7039.4 | C13: 3990.3 | D13: 3083 | E13: 907.2 | F13: 56.69 | G13: 22.74
A14: Aragón | B14: 1111.5 | C14: 649.2 | D14: 568.1 | E14: 81.1 | F14: 58.41 | G14: 12.49
A15: Asturias | B15: 886.3 | C15: 444.8 | D15: 384.7 | E15: 60 | F15: 50.18 | G15: 13.5
A16: I. Baleares | B16: 1025.5 | C16: 633.7 | D16: 523.8 | E16: 109.9 | F16: 61.79 | G16: 17.34
A17: Canarias | B17: 1926.7 | C17: 1106.5 | D17: 827.4 | E17: 279 | F17: 57.43 | G17: 25.22
A18: Cantabria | B18: 497.2 | C18: 269.1 | D18: 237.3 | E18: 31.7 | F18: 54.12 | G18: 11.79
A19: Castilla y León | B19: 2038.4 | C19: 1104.9 | D19: 976.6 | E19: 128.3 | F19: 54.21 | G19: 11.61
A20: Castilla - La Mancha | B20: 1698 | C20: 994.9 | D20: 821.9 | E20: 173 | F20: 58.59 | G20: 17.39
A21: Cataluña | B21: 6341.1 | C21: 3878.5 | D21: 3340.6 | E21: 537.9 | F21: 61.16 | G21: 13.87
A22: C. Valenciana | B22: 4224.8 | C22: 2431.9 | D22: 2033.9 | E22: 398 | F22: 57.56 | G22: 16.37
A23: Extremadura | B23: 894.1 | C23: 491.1 | D23: 386.4 | E23: 104.7 | F23: 54.92 | G23: 21.32
... A31: Melilla | B31: 62.7 | C31: 41.1 | D31: 31.3 | E31: 9.8 | F31: 65.54 | G31: 23.83
A33: FUENTE: Encuesta de Población Activa. INE.
A34: NOTA: Los resultados de Ceuta y Melilla deben tomarse con precaución porque pueden estar afectados por grandes
A35: errores de muestreo.
I36: Datos del gráfico
A37: G.17.2 Tasas de Actividad y Paro de la EPA. 4º trimestre 2020 | J37: Tasa actividad
J38: Tasa paro
J39: Tasa activ. España | K39: Tasa paro España
I41: Andalucía | J41: =$F$12 -> 58.19 | K41: =$G$12 -> 16.13
I42: Aragón | J42: =$J$41 -> 58.19 | K42: =K41 -> 16.13
I43: Asturias | J43: =$J$41 -> 58.19 | K43: =K42 -> 16.13
I44: Baleares | J44: =$J$41 -> 58.19 | K44: =K43 -> 16.13
I45: Canarias | J45: =$J$41 -> 58.19 | K45: =K44 -> 16.13
I46: Cantabria | J46: =$J$41 -> 58.19 | K46: =K45 -> 16.13
I47: Cast. y León | J47: =$J$41 -> 58.19 | K47: =K46 -> 16.13
I48: Cast.-La Mancha | J48: =$J$41 -> 58.19 | K48: =K47 -> 16.13
I49: Cataluña | J49: =$J$41 -> 58.19 | K49: =K48 -> 16.13
I50: C. Valenciana | J50: =$J$41 -> 58.19 | K50: =K49 -> 16.13
I51: Extremadura | J51: =$J$41 -> 58.19 | K51: =K50 -> 16.13
I52: Galicia | J52: =$J$41 -> 58.19 | K52: =K51 -> 16.13
I53: Madrid | J53: =$J$41 -> 58.19 | K53: =K52 -> 16.13
...

Sheet 17.2.2
A1: 17. INDICADORES SOCIOECONÓMICOS REGIONALES
S2: Volver al índice
A3: 17.2.2 POBLACIÓN ACTIVA, OCUPADA Y PARADA POR SECTORES ECONÓMICOS. DISTRIBUCIÓN
A4: PORCENTUAL. 4º TRIMESTRE DE 2020
B7: Activa | H7: Ocupada | M7: Parada
B8: Agric. | C8: Indus. | D8: Const. | E8: Serv. | F8: Otros(1) | H8: Agric. | I8: Indus. | J8: Const. | K8: Serv. | M8: Agric. | N8: Indus. | O8: Const. | P8: Serv. | Q8: Otros(1)
A10: ESPAÑA | B10: 10 | C10: 8.1 | D10: 6 | E10: 65.7 | F10: 10.2 | H10: 9.4 | I10: 9.7 | J10: 6.7 | K10: 74.2 | M10: 4.96 | N10: 5.2 | O10: 4.12 | P10: 38.93 | Q10: 46.79
A11: Andalucía | B11: 6.3 | C11: 19.5 | D11: 6.2 | E11: 62.6 | F11: 5.4 | H11: 6.3 | I11: 21.2 | J11: 6.5 | K11: 66.1 | M11: 11.71 | N11: 2.61 | O11: 3.75 | P11: 37.2 | Q11: 44.74
A12: Aragón | B12: 3.6 | C12: 12.8 | D12: 6 | E12: 70.8 | F12: 6.7 | H12: 4.1 | I12: 13.2 | J12: 6.6 | K12: 76.1 | M12: 6.66 | N12: 7.52 | O12: 4.19 | P12: 38.47 | Q12: 43.16
A13: Asturias | B13: 1 | C13: 5.8 | D13: 9.6 | E13: 76.7 | F13: 6.8 | H13: 0.9 | I13: 7 | J13: 10.1 | K13: 82 | M13: 0.67 | N13: 10.17 | O13: 2.33 | P13: 37.33 | Q13: 49.5
A14: I. Baleares | B14: 2.8 | C14: 4.1 | D14: 6.3 | E14: 74.8 | F14: 12 | H14: 3.3 | I14: 5.1 | J14: 6.5 | K14: 85.1 | M14: 1.46 | N14: 0.45 | O14: 7.46 | P14: 51.41 | Q14: 39.13
A15: Canarias | B15: 2.5 | C15: 15.4 | D15: 8.1 | E15: 69.1 | F15: 4.9 | H15: 2.5 | I15: 16.5 | J15: 8.8 | K15: 72.2 | M15: 1.22 | N15: 0.97 | O15: 5.73 | P15: 44.41 | Q15: 47.71
A16: Cantabria | B16: 5.8 | C16: 15.4 | D16: 7.1 | E16: 65.8 | F16: 5.8 | H16: 6.1 | I16: 16.6 | J16: 7.7 | K16: 69.6 | M16: 2.21 | N16: 7.89 | O16: 3.47 | P16: 45.43 | Q16: 41.32
A17: Castilla y León | B17: 6.4 | C17: 13.9 | D17: 6.8 | E17: 63.6 | F17: 9.3 | H17: 6.2 | I17: 15.9 | J17: 7.6 | K17: 70.3 | M17: 3.74 | N17: 6.47 | O17: 2.65 | P17: 36.87 | Q17: 50.27
A18: Castilla - La Mancha | B18: 1.3 | C18: 16 | D18: 6 | E18: 70.5 | F18: 6.3 | H18: 1.3 | I18: 17.4 | J18: 6.1 | K18: 75.2 | M18: 7.11 | N18: 4.74 | O18: 2.77 | P18: 31.62 | Q18: 53.76
A19: Cataluña | B19: 2.3 | C19: 15.6 | D19: 6.2 | E19: 67.9 | F19: 8.1 | H19: 2.1 | I19: 17 | J19: 6.5 | K19: 74.3 | M19: 1.04 | N19: 7.75 | O19: 5.09 | P19: 41.03 | Q19: 45.06
A20: C. Valenciana | B20: 10.5 | C20: 8.8 | D20: 7.2 | E20: 63.8 | F20: 9.8 | H20: 9.9 | I20: 9.7 | J20: 8.3 | K20: 72 | M20: 2.89 | N20: 7.99 | O20: 4.5 | P20: 34.85 | Q20: 49.75
A21: Extremadura | B21: 6.1 | C21: 15.1 | D21: 6.5 | E21: 66.8 | F21: 5.5 | H21: 6.5 | I21: 16.1 | J21: 7 | K21: 70.3 | M21: 12.61 | N21: 5.35 | O21: 2.96 | P21: 33.24 | Q21: 45.75
... A26: País Vasco | B26: 6.6 | C26: 24.7 | D26: 4.9 | E26: 59.7 | F26: 4.1 | H26: 6.7 | I26: 26 | J26: 5.3 | K26: 62 | M26: 0.69 | N26: 8.35 | O26: 3.54 | P26: 38.31 | Q26: 49.12
A27: La Rioja | B27: - | C27: 3.9 | D27: 1.9 | E27: 73.4 | F27: 20.8 | H27: - | I27: 4.9 | J27: 2.6 | K27: 92.5 | M27: 5.52 | N27: 12.88 | O27: 0.61 | P27: 40.49 | Q27: 39.88
A28: Ceuta | B28: 0.5 | C28: 1.1 | D28: 3.1 | E28: 79.1 | F28: 16.2 | H28: 0.2 | I28: 1.4 | J28: 3.7 | K28: 94.7 | M28: 0 | N28: 1.01 | O28: 0 | P28: 21.21 | Q28: 77.78
A29: Melilla | B29: 4.2 | C29: 12.5 | D29: 6.2 | E29: 69.5 | F29: 7.5 | H29: 4 | I29: 13.9 | J29: 6.6 | K29: 75.4 | M29: 2.04 | N29: 0 | O29: 1.02 | P29: 28.57 | Q29: 68.37
A31: FUENTE: Encuesta de Población Activa. INE.
A32: (1): Parados que buscan su primer empleo o han dejado su último empleo hace más de un año.
A33: NOTA: Los parados que han dejado su último empleo hace 12 meses o menos, se clasifican por el sector económico correspondiente a
A34: dicho empleo.

Sheet G.17.3-G.17.4
A1: 17. INDICADORES SOCIOECONÓMICOS REGIONALES
I2: Volver al índice
A5: G.17.3 Distribución porcentual de la población activa. 4º trimestre 2020 | I5: DATOS DE LOS
I6: GRÁFICOS
I7: ESPAÑA
I8: Andalucía
I9: Aragón
I10: Asturias
I11: Baleares
I12: Canarias
I13: Cantabria
I14: Cast. y León
I15: Cast.-La Mancha
I16: Cataluña
I17: C. Valenciana
... I26: Melilla
A31: G.17.4 Distribución porcentual de la población parada. 4º trimestre 2020

Sheet 17.2.3
A1: 17. INDICADORES SOCIOECONÓMICOS REGIONALES
K2: Volver al índice
A3: 17.2.3 OFERTAS, DEMANDAS, CONTRATOS Y PARO REGISTRADO. AÑO 2020
A5: Unidades: Número de personas
B7: Ofertas | E7: Demandas | H7: Contratos | I7: Paro
B8: Pendientes | C8: Registradas | E8: Pendientes | F8: Altas | I8: registrado
A10: ESPAÑA | B10: 114346 | C10: 451949 | E10: 3232983.2 | F10: 11923314 | H10: 15943061 | I10: 3709824.9
A11: Andalucía | B11: 18561 | C11: 134147 | E11: 739906.49 | F11: 2744118 | H11: 3956750 | I11: 938236.5
A12: Aragón | B12: 2035 | C12: 16763 | E12: 62200.76 | F12: 289906 | H12: 457933 | I12: 75924.667
A13: Asturias | B13: 709 | C13: 6746 | E13: 46629.33 | F13: 202632 | H13: 246224 | I13: 79018.833
A14: I. Baleares | B14: 1860 | C14: 9633 | E14: 114234.67 | F14: 391662 | H14: 251170 | I14: 73042.25
A15: Canarias | B15: 3431 | C15: 18784 | E15: 182397.08 | F15: 606545 | H15: 477929 | I15: 249498.5
A16: Cantabria | B16: 1027 | C16: 5500 | E16: 23975.42 | F16: 123096 | H16: 185883 | I16: 40988
A17: Castilla y León | B17: 3257 | C17: 19430 | E17: 80168.59 | F17: 435180 | H17: 756181 | I17: 185437
A18: Castilla - La Mancha | B18: 11430 | C18: 26401 | E18: 95156 | F18: 566567 | H18: 691871 | I18: 158152.75
A19: Cataluña | B19: 25280 | C19: 30638 | E19: 564390.18 | F19: 1772736 | H19: 2239613 | I19: 461419.25
A20: C. Valenciana | B20: 17224 | C20: 33404 | E20: 404035.25 | F20: 1217906 | H20: 1557224 | I20: 424157.92
A21: Extremadura | B21: 4955 | C21: 56216 | E21: 67074.25 | F21: 354404 | H21: 513164 | I21: 109055.08
... A29: Melilla | B29: 1017 | C29: 2050 | E29: 3653.42 | F29: 14826 | H29: 17480 | I29: 9489.5
A30: Extranjero (1) | B30: 5 | C30: 30 | E30: - | F30: - | H30: 6255 | I30: -
A32: FUENTE: Mercado de trabajo, movimiento laboral registrado. Ministerio de Trabajo y Economía Social.
A33: NOTAS: Los datos de "0fertas pendientes" se refieren a 31 de diciembre.
A34: Los datos de "demandas de empleo pendientes" y "paro registrado" son medias anuales.
A35: El resto de datos son acumulados anuales.
A36: (1): Datos referidos a centros de trabajo fuera del territorio nacional.

Sheet 17.3.1 
A1: 17. INDICADORES SOCIOECONÓMICOS REGIONALES
K2: Volver al índice
A3: 17.3 MACROMAGNITUDES
A5: 17.3.1 PRODUCTO INTERIOR BRUTO
A7: Unidades: Miles de euros
B9: PIBpm (precios corrientes) | G9: % Variac. volumen / año ant.
B10: 2016 | C10: 2017 | D10: 2018 (P) | E10: 2019(A) | G10: 2017 | H10: 2018 (P) | I10: 2019(A)
A12: ESPAÑA | B12: 1113840000 | C12: 1161867000 | D12: 1204241000 | E12: 1244772000 | G12: 2.973677 | H12: 2.430054 | I12: 1.950108
A13: Andalucía | B13: 148405362 | C13: 155371755 | D13: 160711363 | E13: 165865509 | G13: 2.622566 | H13: 2.763316 | I13: 2.143629
A14: Aragón | B14: 34214691 | C14: 35638352 | D14: 36850296 | E14: 38043571 | G14: 2.397388 | H14: 2.644581 | I14: 1.425375
A15: Asturias | B15: 21694246 | C15: 22592548 | D15: 23258673 | E15: 23765248 | G15: 2.118152 | H15: 1.494457 | I15: 1.185953
A16: I. Baleares | B16: 29831313 | C16: 31383376 | D16: 32767619 | E16: 33799767 | G16: 3.150451 | H16: 2.982477 | I16: 1.654585
A17: Canarias | B17: 42013704 | C17: 44205400 | D17: 45823321 | E17: 47164165 | G17: 3.838926 | H17: 2.266121 | I17: 1.657368
A18: Cantabria | B18: 12736089 | C18: 13226038 | D18: 13737756 | E18: 14187412 | G18: 3.051259 | H18: 2.069501 | I18: 1.41866
A19: Castilla y León | B19: 54767172 | C19: 56051831 | D19: 58477225 | E19: 59794929 | G19: 1.225477 | H19: 3.033919 | I19: 0.892002
A20: Castilla - La Mancha | B20: 38315029 | C20: 39891219 | D20: 41521223 | E20: 42820105 | G20: 1.869838 | H20: 3.308106 | I20: 1.463435
A21: Cataluña | B21: 212703912 | C21: 221476488 | D21: 229345722 | E21: 236813926 | G21: 2.816553 | H21: 2.164322 | I21: 1.774062
A22: C. Valenciana | B22: 103228580 | C22: 107785815 | D22: 111793978 | E22: 116015335 | G22: 3.49733 | H22: 2.129251 | I22: 2.086925
A23: Extremadura | B23: 18504343 | C23: 19534814 | D23: 20088238 | E23: 20677010 | G23: 3.552804 | H23: 1.809923 | I23: 1.359482
... A31: Melilla | B31: 1506101 | C31: 1519867 | D31: 1582540 | E31: 1621435 | G31: 2.322885 | H31: 2.16486 | I31: 0.961745
A32: Extrarregio | B32: 1071579 | C32: 1076830 | D32: 1103199 | E32: 1149762
A34: FUENTE: Contabilidad Regional. Revisión Estadística 2019. INE.
A35: (P) = Datos Provisionales. (A) = Avance. (1ªE) = Primera estimación

Sheet 17.3.2_G.17.5 
A1: 17. INDICADORES SOCIOECONÓMICOS REGIONALES
M2: Volver al índice
A3: 17.3.2 PIB PER CÁPITA
A5: Unidades: Euros
B7: PIB per cápita (precios corrientes) | H7: % Variación sobre año anterior
B8: 2015 | C8: 2016 | D8: 2017 | E8: 2018 (P) | F8: 2019(A) | H8: 2016 | I8: 2017 | J8: 2018 (P) | K8: 2019(A)
A10: ESPAÑA | B10: 23219 | C10: 23979 | D10: 24969 | E10: 25771 | F10: 26426 | H10: =((C10/B10)-1)*100 -> 3.2731814 | I10: =((D10/C10)-1)*100 -> 4.1286125 | J10: =((E10/D10)-1)*100 -> 3.2119829 | K10: =((F10/E10)-1)*100 -> 2.5416165
A11: Andalucía | B11: 17235 | C11: 17659 | D11: 18490 | E11: 19118 | F11: 19633 | H11: =((C11/B11)-1)*100 -> 2.4601102 | I11: =((D11/C11)-1)*100 -> 4.7058157 | J11: =((E11/D11)-1)*100 -> 3.3964305 | K11: =((F11/E11)-1)*100 -> 2.6937964
A12: Aragón | B12: 24874 | C12: 25985 | D12: 27087 | E12: 28007 | F12: 28727 | H12: =((C12/B12)-1)*100 -> 4.4665112 | I12: =((D12/C12)-1)*100 -> 4.2409082 | J12: =((E12/D12)-1)*100 -> 3.3964632 | K12: =((F12/E12)-1)*100 -> 2.5707859
A13: Asturias | B13: 20471 | C13: 20920 | D13: 21936 | E13: 22709 | F13: 23299 | H13: =((C13/B13)-1)*100 -> 2.1933467 | I13: =((D13/C13)-1)*100 -> 4.8565966 | J13: =((E13/D13)-1)*100 -> 3.5238877 | K13: =((F13/E13)-1)*100 -> 2.5980889
A14: I. Baleares | B14: 25002 | C14: 26093 | D14: 27102 | E14: 27870 | F14: 28213 | H14: =((C14/B14)-1)*100 -> 4.3636509 | I14: =((D14/C14)-1)*100 -> 3.8669375 | J14: =((E14/D14)-1)*100 -> 2.8337392 | K14: =((F14/E14)-1)*100 -> 1.230714
A15: Canarias | B15: 19065 | C15: 19612 | D15: 20436 | E15: 20940 | F15: 21244 | H15: =((C15/B15)-1)*100 -> 2.8691319 | I15: =((D15/C15)-1)*100 -> 4.2015093 | J15: =((E15/D15)-1)*100 -> 2.4662361 | K15: =((F15/E15)-1)*100 -> 1.451767
A16: Cantabria | B16: 21122 | C16: 21905 | D16: 22767 | E16: 23646 | F16: 24383 | H16: =((C16/B16)-1)*100 -> 3.7070353 | I16: =((D16/C16)-1)*100 -> 3.9351746 | J16: =((E16/D16)-1)*100 -> 3.8608512 | K16: =((F16/E16)-1)*100 -> 3.1168062
A17: Castilla y León | B17: 21603 | C17: 22408 | D17: 23130 | E17: 24261 | F17: 24886 | H17: =((C17/B17)-1)*100 -> 3.7263343 | I17: =((D17/C17)-1)*100 -> 3.2220635 | J17: =((E17/D17)-1)*100 -> 4.8897536 | K17: =((F17/E17)-1)*100 -> 2.576151
A18: Castilla - La Mancha | B18: 18069 | C18: 18752 | D18: 19621 | E18: 20451 | F18: 21004 | H18: =((C18/B18)-1)*100 -> 3.7799546 | I18: =((D18/C18)-1)*100 -> 4.6341724 | J18: =((E18/D18)-1)*100 -> 4.2301616 | K18: =((F18/E18)-1)*100 -> 2.7040243
A19: Cataluña | B19: 27630 | C19: 28680 | D19: 29727 | E19: 30514 | F19: 31119 | H19: =((C19/B19)-1)*100 -> 3.8002172 | I19: =((D19/C19)-1)*100 -> 3.6506276 | J19: =((E19/D19)-1)*100 -> 2.6474249 | K19: =((F19/E19)-1)*100 -> 1.9826965
A20: C. Valenciana | B20: 20301 | C20: 20948 | D20: 21864 | E20: 22592 | F20: 23206 | H20: =((C20/B20)-1)*100 -> 3.1870351 | I20: =((D20/C20)-1)*100 -> 4.3727325 | J20: =((E20/D20)-1)*100 -> 3.3296744 | K20: =((F20/E20)-1)*100 -> 2.7177762
A21: Extremadura | B21: 16460 | C21: 17117 | D21: 18203 | E21: 18827 | F21: 19454 | H21: =((C21/B21)-1)*100 -> 3.9914945 | I21: =((D21/C21)-1)*100 -> 6.3445697 | J21: =((E21/D21)-1)*100 -> 3.4280064 | K21: =((F21/E21)-1)*100 -> 3.3303235
... A27: La Rioja | B27: 25453 | C27: 25636 | D27: 26554 | E27: 27482 | F27: 28200 | H27: =((C27/B27)-1)*100 -> 0.71897222 | I27: =((D27/C27)-1)*100 -> 3.5809019 | J27: =((E27/D27)-1)*100 -> 3.4947654 | K27: =((F27/E27)-1)*100 -> 2.6126192
A28: Ceuta | B28: 18907 | C28: 19316 | D28: 19529 | E28: 20251 | F28: 20903 | H28: =((C28/B28)-1)*100 -> 2.16322 | I28: =((D28/C28)-1)*100 -> 1.1027128 | J28: =((E28/D28)-1)*100 -> 3.6970659 | K28: =+K10 -> 2.5416165
A29: Melilla | B29: 17257 | C29: 17783 | D29: 17921 | E29: 18700 | F29: 19211 | H29: =((C29/B29)-1)*100 -> 3.0480385 | I29: =((D29/C29)-1)*100 -> 0.77602204 | J29: =((E29/D29)-1)*100 -> 4.3468556 | K29: =((F29/E29)-1)*100 -> 2.7326203
A31: FUENTE: Contabilidad Regional. Revisión Estadística 2019. INE.
A32: (P) = Datos Provisionales. (A) = Avance
L33: PIB per cápita España | M33: Datos del gráfico
A35: G.17.5 PIB per cápita (precios corrientes). Año 2019 (A) | M35: CCAA | N35: PIB
L36: 26426 | M36: Madrid | N36: 35913
L37: 26426 | M37: País Vasco | N37: 34142
L38: 26426 | M38: Navarra | N38: 32141
L39: 26426 | M39: Cataluña | N39: 31119
L40: 26426 | M40: Aragón | N40: 28727
L41: 26426 | M41: I. Baleares | N41: 28213
L42: 26426 | M42: La Rioja | N42: 28200
L43: 26426 | M43: Castilla y León | N43: 24886
L44: 26426 | M44: Cantabria | N44: 24383
L45: 26426 | M45: Galicia | N45: 23873
L46: 26426 | M46: Asturias | N46: 23299
L47: 26426 | M47: C. Valenciana | N47: 23206
... L54: 26426 | M54: Melilla | N54: 19211

Sheet G.17.6
A1: 17. INDICADORES SOCIOECONÓMICOS REGIONALES
I2: Volver al índice

Sheet 17.3.3_G.17.7
A1: 17. INDICADORES SOCIOECONÓMICOS REGIONALES
L2: Volver al índice
A3: 17.3.3 VALOR AÑADIDO BRUTO Y PARTICIPACIÓN POR RAMAS DE ACTIVIDAD. AÑO 2019 (A)
A5: Unidades: Valores absolutos en miles de euros
B7: VAB | D7: % Participación / VAB | H7: Imp. netos sobre | I7: PIBpm | J7: Distribución
D8: Agricult. | E8: Industria | F8: Construc. | G8: Servicios | H8: los productos | J8: PIBpm (%)
A10: ESPAÑA | B10: 1129010000 | D10: 2.8830568 | E10: 16.146535 | F10: 6.4311211 | G10: 74.539287 | H10: 115762000 | I10: 1244772000 | J10: 100
A11: Andalucía | B11: 150440256 | D11: 6.5811002 | E11: 11.828859 | F11: 7.1348769 | G11: 74.455164 | H11: 15425253 | I11: 165865509 | J11: =I11*100/$I$10 -> 13.324971
A12: Aragón | B12: 34505574 | D12: 5.8803253 | E12: 21.661926 | F12: 6.5067342 | G12: 65.951014 | H12: 3537997 | I12: 38043571 | J12: =I12*100/$I$10 -> 3.0562682
A13: Asturias | B13: 21555114 | D13: 1.4116882 | E13: 19.68621 | F13: 7.427263 | G13: 71.474839 | H13: 2210134 | I13: 23765248 | J13: =I13*100/$I$10 -> 1.9092049
A14: I. Baleares | B14: 30656437 | D14: 0.52718781 | E14: 5.7097307 | F14: 8.2008323 | G14: 85.562249 | H14: 3143330 | I14: 33799767 | J14: =I14*100/$I$10 -> 2.715338
A15: Canarias | B15: 42777966 | D15: 1.6239178 | E15: 6.1982774 | F15: 6.4659199 | G15: 85.711885 | H15: 4386199 | I15: 47164165 | J15: =I15*100/$I$10 -> 3.7889802
A16: Cantabria | B16: 12868003 | D16: 1.5636537 | E16: 20.804176 | F16: 7.4740424 | G16: 70.158128 | H16: 1319409 | I16: 14187412 | J16: =I16*100/$I$10 -> 1.1397599
A17: Castilla y León | B17: 54234087 | D17: 5.2020678 | E17: 19.980786 | F17: 6.8340249 | G17: 67.983121 | H17: 5560842 | I17: 59794929 | J17: =I17*100/$I$10 -> 4.8036853
A18: Castilla - La Mancha | B18: 38837897 | D18: 9.7372111 | E18: 19.456275 | F18: 7.1483067 | G18: 63.658207 | H18: 3982208 | I18: 42820105 | J18: =I18*100/$I$10 -> 3.4399958
A19: Cataluña | B19: 214790573 | D19: 1.0759187 | E19: 19.229869 | F19: 5.5565786 | G19: 74.137634 | H19: 22023353 | I19: 236813926 | J19: =I19*100/$I$10 -> 19.024683
A20: C. Valenciana | B20: 105226076 | D20: 2.1159727 | E20: 18.884178 | F20: 7.156191 | G20: 71.843658 | H20: 10789259 | I20: 116015335 | J20: =I20*100/$I$10 -> 9.3202076
A21: Extremadura | B21: 18754078 | D21: 9.3837831 | E21: 13.681227 | F21: 7.7650312 | G21: 69.169959 | H21: 1922932 | I21: 20677010 | J21: =I21*100/$I$10 -> 1.6611082
A22: Galicia | B22: 58437992 | D22: 5.0125251 | E22: 18.239049 | F22: 7.6022855 | G22: 69.14614 | H22: 5991886 | I22: 64429878 | J22: =I22*100/$I$10 -> 5.1760385
... A29: Melilla | B29: 1470644 | D29: 0.041478427 | E29: 4.6126731 | F29: 5.8157515 | G29: 89.530097 | H29: 150791 | I29: 1621435 | J29: =I29*100/$I$10 -> 0.1302596
A31: FUENTE: Contabilidad Regional. Revisión Estadística 2019. INE.
A32: NOTAS: En la información de "ESPAÑA" está incluido el territorio extrarregional por lo que las cifras no coinciden con las sumas de las CCAA.
A33: (A) = Avance
L34: Datos del gráfico
A35: G.17.7 Distribución porcentual del VAB por ramas de actividad. Año 2019 (A) | L35: ESPAÑA
L36: Andalucía
L37: Aragón
L38: Asturias
L39: Baleares
L40: Canarias
L41: Cantabria
L42: Cast. y León
L43: Cast.-La Mancha
L44: Cataluña
L45: C. Valenciana
L46: Extremadura
L47: Galicia
... L54: Melilla

Sheet 17.3.4
A1: 17. INDICADORES SOCIOECONÓMICOS REGIONALES
F2: Volver al índice
A3: 17.3.4 OTRAS MACROMAGNITUDES DE LA CONTABILIDAD REGIONAL DE ESPAÑA. AÑO 2019 (A)
A5: Unidades: Miles de euros / Miles de personas
B7: Remuneración de | C7: Empleo total | D7: Empleo asalariado
B8: los asalariados
A10: ESPAÑA | B10: 571008000 | C10: 20266.2 | D10: 17479.7
A11: Andalucía | B11: 74880527 | C11: 3062.9 | D11: 2585.7
A12: Aragón | B12: 17017926 | C12: 618.2 | D12: 530.2
A13: Asturias | B13: 10891406 | C13: 402.5 | D13: 333.8
A14: I. Baleares | B14: 14678631 | C14: 527.1 | D14: 450
A15: Canarias | B15: 21737389 | C15: 845.3 | D15: 728.2
A16: Cantabria | B16: 6304418 | C16: 232.2 | D16: 194.6
A17: Castilla y León | B17: 25704370 | C17: 1005.2 | D17: 839.5
A18: Castilla - La Mancha | B18: 17895841 | C18: 739.1 | D18: 607.8
A19: Cataluña | B19: 110681002 | C19: 3629.1 | D19: 3173.2
A20: C. Valenciana | B20: 52296644 | C20: 2000.2 | D20: 1713.4
A21: Extremadura | B21: 8806226 | C21: 385.8 | D21: 311.8
... A29: Melilla | B29: 908598 | C29: 30.1 | D29: 26.5
A31: FUENTE: Contabilidad Regional. Revisión Estadística 2019. INE.
A32: (A)= Avance.
A33: NOTA: En la información de "ESPAÑA" está incluido el territorio extrarregional, por lo que sus cifras no coinciden con las sumas de las CCAA.

Sheet 17.4.1
A1: 17. INDICADORES SOCIOECONÓMICOS REGIONALES
P2: Volver al índice
A3: 17.4 CONSUMO
A5: 17.4.1 VARIACIÓN INTERANUAL DE LAS MEDIAS ANUALES DEL IPC POR GRUPOS Y POR REGIONES.
A6: AÑO 2020 | V6: 1
B8: Ind.Gral. | C8: G1 | D8: G2 | E8: G3 | F8: G4 | G8: G5 | H8: G6 | I8: G7 | J8: G8 | K8: G9 | L8: G10 | M8: G11 | N8: G12
A10: ESPAÑA | B10: -0.3 | C10: 2.4 | D10: 0.5 | E10: 1 | F10: -3.5 | G10: 0.4 | H10: 0.4 | I10: -3.8 | J10: -1.2 | K10: -0.6 | L10: 0.6 | M10: 1.1 | N10: 1.4
A11: Andalucía | B11: -0.2 | C11: 2.4 | D11: 0.5 | E11: 1 | F11: -3 | G11: 0.1 | H11: 0.6 | I11: -3.8 | J11: -1.2 | K11: -0.8 | L11: 0.9 | M11: 1.1 | N11: 1.2
A12: Aragón | B12: -0.5 | C12: 2.1 | D12: 0.6 | E12: 0.9 | F12: -4.5 | G12: 0.1 | H12: 1.2 | I12: -4.4 | J12: -1.2 | K12: -0.6 | L12: 1.4 | M12: 1.3 | N12: 2.3
A13: Asturias | B13: -0.5 | C13: 2.2 | D13: 0.4 | E13: 0.9 | F13: -4.1 | G13: 0.6 | H13: 0.8 | I13: -4.3 | J13: -1.3 | K13: -1.9 | L13: -0.8 | M13: 1.9 | N13: 1.3
A14: I. Baleares | B14: -0.3 | C14: 1.9 | D14: 0.4 | E14: 1.1 | F14: -2.7 | G14: 0.7 | H14: -0.9 | I14: -2.9 | J14: -1 | K14: -0.4 | L14: 1.5 | M14: 0.7 | N14: 1.4
A15: Canarias | B15: 0.5 | C15: 2.7 | D15: 2.4 | E15: 0.9 | F15: -1.7 | G15: 0.3 | H15: 0.2 | I15: -0.4 | J15: -1.2 | K15: -1.4 | L15: 0.4 | M15: 1.5 | N15: 1.5
A16: Cantabria | B16: -0.3 | C16: 2.3 | D16: 0 | E16: 1.1 | F16: -3.9 | G16: 0.1 | H16: 1.6 | I16: -4.7 | J16: -0.9 | K16: 0 | L16: 1.4 | M16: 1.6 | N16: 2.1
A17: Castilla y León | B17: -0.6 | C17: 2.6 | D17: 0.6 | E17: 1 | F17: -5.4 | G17: 0.8 | H17: 0.5 | I17: -4.2 | J17: -1.2 | K17: -0.9 | L17: -0.7 | M17: 1.3 | N17: 1.3
A18: Castilla - La Mancha | B18: -0.6 | C18: 2.5 | D18: 0.7 | E18: 1 | F18: -6.2 | G18: 0.6 | H18: 0.6 | I18: -3.7 | J18: -1.1 | K18: -1.2 | L18: 1.2 | M18: 1.5 | N18: 1.4
A19: Cataluña | B19: -0.4 | C19: 2.4 | D19: 0.7 | E19: 1 | F19: -3.4 | G19: 0.5 | H19: 0 | I19: -4.2 | J19: -1.3 | K19: -0.5 | L19: -0.2 | M19: 1 | N19: 1.5
A20: C. Valenciana | B20: -0.4 | C20: 2.2 | D20: 0.4 | E20: 0.9 | F20: -3.7 | G20: 0.1 | H20: 0.8 | I20: -4.2 | J20: -1.4 | K20: -0.6 | L20: 1.4 | M20: 1.1 | N20: 1.4
A21: Extremadura | B21: -0.2 | C21: 2.4 | D21: 0.7 | E21: 1 | F21: -3.9 | G21: 0.3 | H21: 0.4 | I21: -4.1 | J21: -1.3 | K21: -1.4 | L21: 1.6 | M21: 1.6 | N21: 1.5
... A29: Melilla | B29: 0.1 | C29: 3.6 | D29: 0.4 | E29: 0.9 | F29: -2.6 | G29: 0.3 | H29: 1.1 | I29: -4.4 | J29: -1.3 | K29: -1.4 | L29: 0.5 | M29: 1.4 | N29: 1
A31: FUENTE: Índice de Precios al Consumo. INE.
A32: NOTA:
A33: G1= Alimentos y bebidas no alcohólicas
A34: G2= Bebidas alcohólicas y tabaco
A35: G3= Vestido y calzado
A36: G4= Vivienda, agua, electricidad, gas y otros combustibles
A37: G5= Muebles, artículos del hogar y artículos para el mantenimiento corriente del hogar
A38: G6= Sanidad
A39: G7= Transporte
A40: G8= Comunicaciones
A41: G9= Ocio y cultura
A42: G10= Enseñanza
... A44: G12= Otros bienes y servicios

Sheet 17.4.2_G.17.8
A1: 17.4 INDICADORES SOCIOECONÓMICOS REGIONALES. CONSUMO
O2: Volver al índice
A3: 17.4.2 VARIACIÓN ANUAL DEL ÍNDICE GENERAL DE PRECIOS DE CONSUMO. AÑO 2020
B5: Enero | C5: Feb. | D5: Mar. | E5: Abr. | F5: Mayo | G5: Jun. | H5: Jul. | I5: Ago. | J5: Sep. | K5: Oct. | L5: Nov. | M5: Dic.
A7: ESPAÑA | B7: 1 | C7: 1.1 | D7: 1.3 | E7: 1.5 | F7: 0.8 | G7: 0.4 | H7: 0.5 | I7: 0.3 | J7: 0.1 | K7: 0.1 | L7: 0.4 | M7: 0.8
A8: Andalucía | B8: 0.8 | C8: 0.9 | D8: 1.2 | E8: 1.3 | F8: 0.6 | G8: 0.2 | H8: 0.3 | I8: 0.1 | J8: -0.1 | K8: 0 | L8: 0.3 | M8: 0.5
A9: Aragón | B9: 1 | C9: 1 | D9: 1.2 | E9: 1.6 | F9: 0.8 | G9: 0.4 | H9: 0.5 | I9: 0.4 | J9: 0.1 | K9: 0.1 | L9: 0.3 | M9: 0.8
A10: Asturias | B10: 0.9 | C10: 1.1 | D10: 1.3 | E10: 1.4 | F10: 0.7 | G10: 0.3 | H10: 0.3 | I10: -0.1 | J10: -0.4 | K10: -0.2 | L10: 0 | M10: 0.4
A11: I. Baleares | B11: 0.7 | C11: 0.7 | D11: 1.1 | E11: 1.2 | F11: 0.4 | G11: 0 | H11: 0.2 | I11: 0.1 | J11: 0.1 | K11: 0.1 | L11: 0.4 | M11: 1
A12: Canarias | B12: 1 | C12: 0.7 | D12: 0.8 | E12: 0.9 | F12: 0.2 | G12: 0 | H12: 0.2 | I12: 0 | J12: 0 | K12: -0.1 | L12: -0.1 | M12: 0.4
A13: Cantabria | B13: 0.9 | C13: 1.1 | D13: 1.3 | E13: 1.5 | F13: 1 | G13: 0.4 | H13: 0.4 | I13: 0.3 | J13: 0.1 | K13: 0 | L13: 0.4 | M13: 0.9
A14: Castilla y León | B14: 1.1 | C14: 1.3 | D14: 1.6 | E14: 1.8 | F14: 1.1 | G14: 0.5 | H14: 0.7 | I14: 0.4 | J14: 0.1 | K14: 0.1 | L14: 0.5 | M14: 1
A15: Castilla - La Mancha | B15: 0.7 | C15: 1 | D15: 1.4 | E15: 1.6 | F15: 0.7 | G15: 0.2 | H15: 0.4 | I15: 0.1 | J15: -0.2 | K15: 0 | L15: 0.3 | M15: 0.9
A16: Cataluña | B16: 1 | C16: 1.1 | D16: 1.4 | E16: 1.7 | F16: 1 | G16: 0.7 | H16: 0.8 | I16: 0.6 | J16: 0.3 | K16: 0.3 | L16: 0.5 | M16: 0.9
A17: C. Valenciana | B17: 1 | C17: 1 | D17: 1.3 | E17: 1.4 | F17: 0.7 | G17: 0.2 | H17: 0.3 | I17: 0 | J17: -0.2 | K17: 0 | L17: 0.3 | M17: 0.7
A18: Extremadura | B18: 1 | C18: 1 | D18: 1.2 | E18: 1.5 | F18: 0.8 | G18: 0.3 | H18: 0.3 | I18: 0 | J18: -0.4 | K18: 0.1 | L18: 0.3 | M18: 0.7
... A26: Melilla | B26: -0.5 | C26: -0.5 | D26: 0 | E26: 0.1 | F26: -0.7 | G26: -1 | H26: -0.6 | I26: -0.2 | J26: -0.3 | K26: -0.2 | L26: -0.4 | M26: 0.5
A28: FUENTE: Índice de Precios de Consumo. INE.
A32: G.17.8 Variación interanual del IPC. Año 2020 | O32: Datos del gráfico
O33: Ceuta | P33: 0.3
O34: Asturias | P34: 0.4
O35: Canarias | P35: 0.4
O36: Andalucía | P36: 0.5
O37: Melilla | P37: 0.5
O38: C. Valenciana | P38: 0.7
O39: Extremadura | P39: 0.7
O40: Galicia | P40: 0.7
O41: Murcia | P41: 0.7
O42: ESPAÑA | P42: 0.8
O43: Aragón | P43: 0.8
O44: Cantabria | P44: 0.9
... O52: Navarra | P52: 1.3

Sheet 17.5.1_G.17.9
A1: 17. INDICADORES SOCIOECONÓMICOS REGIONALES
H2: Volver al índice
A3: 17.5 SECTOR AGRARIO
A5: 17.5.1 DISTRIBUCIÓN GENERAL DEL SUELO POR USO Y APROVECHAMIENTO. AÑO 2020
A7: Unidades: Hectáreas
B9: Superficie | C9: Tierras de | D9: Prados y | E9: Superficie | F9: Otras
B10: geográfica | C10: cultivo | D10: pastizales | E10: forestal | F10: superficies
B11: total | D11: permanentes | E11: arbolada (1)
A13: ESPAÑA | B13: 50597026 | C13: =B13-SUM(D13:F13) -> 16929398 | D13: 8334523.6 | E13: 19383908 | F13: 5949196.8
A14: Andalucía | B14: 8759815.8 | C14: =B14-SUM(D14:F14) -> 3540412.4 | D14: 1445873.2 | E14: 2639807 | F14: 1133723.3
A15: Aragón | B15: 4772123.9 | C15: =B15-SUM(D15:F15) -> 1789285.2 | D15: 311172.46 | E15: 2094110.9 | F15: 577555.29
A16: Asturias | B16: 1060373.7 | C16: =B16-SUM(D16:F16) -> 25259.261 | D16: 433511.99 | E16: 535678.08 | F16: 65924.332
A17: I. Baleares | B17: 499169.96 | C17: =B17-SUM(D17:F17) -> 161407.11 | D17: 31185.246 | E17: 196033.19 | F17: 110544.41
A18: Canarias | B18: 744509.97 | C18: =B18-SUM(D18:F18) -> 43173.781 | D18: 158920.95 | E18: 283072.71 | F18: 259342.52
A19: Cantabria | B19: 532983.8 | C19: =B19-SUM(D19:F19) -> 7013.1893 | D19: 261607.13 | E19: 216943.94 | F19: 47419.536
A20: Castilla y León | B20: 9422374 | C20: =B20-SUM(D20:F20) -> 3553732 | D20: 1946028.2 | E20: 2987433.1 | F20: 935180.79
A21: Castilla - La Mancha | B21: 7946071.2 | C21: =B21-SUM(D21:F21) -> 3681343.7 | D21: 517757.59 | E21: 3004855.3 | F21: 742114.54
A22: Cataluña | B22: 3210768.7 | C22: =B22-SUM(D22:F22) -> 818105.29 | D22: 220035.31 | E22: 1815645.2 | F22: 356982.95
A23: C. Valenciana | B23: 2326389.4 | C23: =B23-SUM(D23:F23) -> 638173.67 | D23: 110262.42 | E23: 1102061.6 | F23: 475891.76
A24: Extremadura | B24: 4163543.1 | C24: =B24-SUM(D24:F24) -> 1069293.5 | D24: 1993081.2 | E24: 826222.78 | F24: 274945.6
... A30: La Rioja | B30: 504507.94 | C30: =B30-SUM(D30:F30) -> 157985.06 | D30: 61576.226 | E30: 232880.33 | F30: 52066.326
A32: FUENTE: Encuesta sobre Superficies y Rendimientos de Cultivo (ESYRCE). Mº de Agricultura, Pesca y Alimentación.
A33: (1) Las dehesas de labor con arbolado y de pasto con arbolado están incluidas en Tierras de cultivo y Prados y pastizales permantes, respectivamente. El matorral se incluye en Otras superficies.
A36: G.17.9 Distribución porcentual del suelo por uso y aprovechamiento. Año 2020 | H36: Datos del gráfico
H38: CCAA | I38: Tierras cultivo | J38: Prados y pastiz. perm. | K38: Superficie forestal | L38: Otras superficies
H40: ESPAÑA | I40: =C13*100/$B$13 -> 33.459274 | J40: =D13*100/$B$13 -> 16.472359 | K40: =E13*100/$B$13 -> 38.31037 | L40: =F13*100/$B$13 -> 11.757997
H41: Andalucía | I41: =C14*100/$B$14 -> 40.416517 | J41: =D14*100/$B$14 -> 16.505748 | K41: =E14*100/$B$14 -> 30.135416 | L41: =F14*100/$B$14 -> 12.942318
H42: Aragón | I42: =C15*100/$B$15 -> 37.494526 | J42: =D15*100/$B$15 -> 6.5206282 | K42: =E15*100/$B$15 -> 43.882158 | L42: =F15*100/$B$15 -> 12.102688
H43: Asturias | I43: =C16*100/$B$16 -> 2.3821094 | J43: =D16*100/$B$16 -> 40.882946 | K43: =E16*100/$B$16 -> 50.51786 | L43: =F16*100/$B$16 -> 6.217085
H44: Baleares | I44: =C17*100/$B$17 -> 32.335101 | J44: =D17*100/$B$17 -> 6.2474203 | K44: =E17*100/$B$17 -> 39.271833 | L44: =F17*100/$B$17 -> 22.145646
H45: Canarias | I45: =C18*100/$B$18 -> 5.7989528 | J45: =D18*100/$B$18 -> 21.345711 | K45: =E18*100/$B$18 -> 38.021346 | L45: =F18*100/$B$18 -> 34.83399
H46: Cantabria | I46: =C19*100/$B$19 -> 1.3158354 | J46: =D19*100/$B$19 -> 49.083505 | K46: =E19*100/$B$19 -> 40.703665 | L46: =F19*100/$B$19 -> 8.8969939
H47: Cast. y León | I47: =C20*100/$B$20 -> 37.715888 | J47: =D20*100/$B$20 -> 20.653268 | K47: =E20*100/$B$20 -> 31.705736 | L47: =F20*100/$B$20 -> 9.925108
H48: C.-La Mancha | I48: =C21*100/$B$21 -> 46.329106 | J48: =D21*100/$B$21 -> 6.5158942 | K48: =E21*100/$B$21 -> 37.81561 | L48: =F21*100/$B$21 -> 9.3393896
H49: Cataluña | I49: =C22*100/$B$22 -> 25.480044 | J49: =D22*100/$B$22 -> 6.8530416 | K49: =E22*100/$B$22 -> 56.548612 | L49: =F22*100/$B$22 -> 11.118302
H50: C. Valenciana | I50: =C23*100/$B$23 -> 27.431937 | J50: =D23*100/$B$23 -> 4.7396373 | K50: =E23*100/$B$23 -> 47.372188 | L50: =F23*100/$B$23 -> 20.456238
H51: Extremadura | I51: =C24*100/$B$24 -> 25.682296 | J51: =D24*100/$B$24 -> 47.869836 | K51: =E24*100/$B$24 -> 19.844223 | L51: =F24*100/$B$24 -> 6.6036449
H52: Galicia | I52: =C25*100/$B$25 -> 12.099337 | J52: =D25*100/$B$25 -> 15.851002 | K52: =E25*100/$B$25 -> 61.195359 | L52: =F25*100/$B$25 -> 10.854302
H53: Madrid | I53: =C26*100/$B$26 -> 25.975465 | J53: =D26*100/$B$26 -> 15.784024 | K53: =E26*100/$B$26 -> 33.590852 | L53: =F26*100/$B$26 -> 24.649659
H54: Murcia | I54: =C27*100/$B$27 -> 41.276438 | J54: =D27*100/$B$27 -> 1.0679831 | K54: =E27*100/$B$27 -> 36.688679 | L54: =F27*100/$B$27 -> 20.9669
...

Sheet 17.6.1
A1: 17. INDICADORES SOCIOECONÓMICOS REGIONALES
L2: Volver al índice
A3: 17.6 INDUSTRIA
A5: 17.6.1 ESTADÍSTICA ESTRUCTURAL DE EMPRESAS: SECTOR INDUSTRIAL. MAGNITUDES AÑO 2019
A7: Unidades: Miles de euros / Personas
B9: Total sector industrial | G9: C Industria manufacturera
B10: Cifra de | C10: Sueldos y | D10: Inv. activos | E10: Personal | G10: Cifra de | H10: Sueldos y | I10: Inv. activos | J10: Personal
B11: negocios | C11: salarios | D11: materiales | E11: ocupado | G11: negocios | H11: salarios | I11: materiales | J11: ocupado
A13: ESPAÑA | B13: =SUM(B14:B32) -> 668126995 | C13: =SUM(C14:C32) -> 65577968 | D13: =SUM(D14:D32) -> 27036068 | E13: =SUM(E14:E32) -> 2279271 | G13: =SUM(G14:G32) -> 545709941 | H13: =SUM(H14:H32) -> 57619631 | I13: =SUM(I14:I32) -> 20845704 | J13: =SUM(J14:J32) -> 2031415
A14: Andalucía | B14: 79236845 | C14: 5977657 | D14: 2682418 | E14: 239154 | G14: 62182574 | H14: 4717723 | I14: 1832107 | J14: 200490
A15: Aragón | B15: 31757645 | C15: 2846794 | D15: 1264661 | E15: 102179 | G15: 27813247 | H15: 2605146 | I15: 943097 | J15: 93460
A16: Asturias | B16: 13996752 | C16: 1587906 | D16: 651043 | E16: 50800 | G16: 10323570 | H16: 1370201 | I16: 501711 | J16: 45271
A17: I. Baleares | B17: 4899593 | C17: 616750 | D17: 183071 | E17: 26878 | G17: 2188191 | H17: 413392 | I17: 76121 | J17: 21154
A18: Canarias | B18: 7428979 | C18: 862674 | D18: 418484 | E18: 39491 | G18: 3417828 | H18: 552618 | I18: 218951 | J18: 28041
A19: Cantabria | B19: 9160454 | C19: 1007394 | D19: 355140 | E19: 33134 | G19: 7749848 | H19: 892417 | I19: 306845 | J19: 28951
A20: Castilla y León | B20: 39851393 | C20: 3616626 | D20: 1993453 | E20: 132408 | G20: 35142068 | H20: 3301836 | I20: 1613424 | J20: 121467
A21: Castilla - La Mancha | B21: 28932401 | C21: 2506765 | D21: 1218983 | E21: 102036 | G21: 24630371 | H21: 2251182 | I21: 944407 | J21: 94031
A22: Cataluña | B22: 148795441 | C22: 16180268 | D22: 5297110 | E22: 492622 | G22: 129051915 | H22: 14748486 | I22: 4502016 | J22: 449766
A23: C. Valenciana | B23: 70970218 | C23: 7084214 | D23: 4083099 | E23: 281020 | G23: 60755309 | H23: 6242329 | I23: 3618555 | J23: 251954
A24: Extremadura | B24: 8108967 | C24: 595454 | D24: 370521 | E24: 29534 | G24: 5684566 | H24: 462162 | I24: 206177 | J24: 25400
A25: Galicia | B25: 42953942 | C25: 3700766 | D25: 1758914 | E25: 143792 | G25: 36752603 | H25: 3332769 | I25: 1228058 | J25: 132505
... A32: Melilla | B32: 129428 | C32: 11983 | D32: 8154 | E32: 516 | G32: 17368 | H32: 5281 | I32: 74 | J32: 365
A34: FUENTE: Estadística Estructural de Empresas: Sector industrial. INE.
A35: NOTA: Los resultados de España se han obtenido por agregación de CC.AA

Sheet 17.6.2
A1: 17. INDICADORES SOCIOECONÓMICOS REGIONALES
P2: Volver al índice
A3: 17.6.2 DIRCE: EMPRESAS SEGÚN ESTRATO DE ASALARIADOS. AÑO 2020
A5: Unidades: Número de empresas
B7: TOTAL | C7: Sin | D7: 1 a 2 | E7: 3 a 5 | F7: 6 a 9 | G7: 10 a 19 | H7: 20 a | I7: 50 a | J7: 100 a | K7: 200 a | L7: 500 a | M7: 1000 a | N7: 5000
C8: asalar | D8: asal | E8: asal | F8: asal | G8: asal | H8: 49 | I8: 99 | J8: 199 | K8: 499 | L8: 999 | M8: 4999 | N8: o más
A10: ESPAÑA | B10: 3404428 | C10: 1912010 | D10: 907192 | E10: 305986 | F10: 125472 | G10: 81298 | H10: 46101 | I10: 13275 | J10: 6906 | K10: 1362 | L10: 3774 | M10: 880 | N10: 172
A11: Andalucía | B11: 531045 | C11: 290099 | D11: 147288 | E11: 51748 | F11: 20142 | G11: 12272 | H11: 6470 | I11: 1634 | J11: 790 | K11: 156 | L11: 368 | M11: 72 | N11: 6
A12: Aragón | B12: 90682 | C12: 48849 | D12: 25187 | E12: 8671 | F12: 3515 | G12: 2350 | H12: 1352 | I12: 409 | J12: 199 | K12: 37 | L12: 89 | M12: 21 | N12: 3
A13: Asturias | B13: 68433 | C13: 38028 | D13: 19565 | E13: 5968 | F13: 2302 | G13: 1412 | H13: 755 | I13: 217 | J13: 97 | K13: 23 | L13: 51 | M13: 12 | N13: 3
A14: I. Baleares | B14: 100022 | C14: 56170 | D14: 26031 | E14: 9402 | F14: 3946 | G14: 2494 | H14: 1328 | I14: 314 | J14: 194 | K14: 41 | L14: 84 | M14: 15 | N14: 3
A15: Canarias | B15: 152756 | C15: 87785 | D15: 37405 | E15: 14879 | F15: 6063 | G15: 3544 | H15: 1982 | I15: 565 | J15: 314 | K15: 52 | L15: 148 | M15: 16 | N15: 3
A16: Cantabria | B16: 38880 | C16: 20874 | D16: 11388 | E16: 3593 | F16: 1371 | G16: 885 | H16: 517 | I16: 134 | J16: 63 | K16: 11 | L16: 35 | M16: 6 | N16: 3
A17: Castilla y León | B17: 160199 | C17: 88237 | D17: 45299 | E17: 14600 | F17: 5752 | G17: 3425 | H17: 2012 | I17: 478 | J17: 228 | K17: 34 | L17: 101 | M17: 31 | N17: 2
A18: Castilla - La Mancha | B18: 128713 | C18: 69035 | D18: 37017 | E18: 12388 | F18: 4871 | G18: 3079 | H18: 1647 | I18: 384 | J18: 179 | K18: 32 | L18: 67 | M18: 13 | N18: 1
A19: Cataluña | B19: 629876 | C19: 365634 | D19: 158687 | E19: 53214 | F19: 22558 | G19: 15229 | H19: 8947 | I19: 2774 | J19: 1477 | K19: 299 | L19: 863 | M19: 172 | N19: 22
A20: C. Valenciana | B20: 370645 | C20: 203473 | D20: 101797 | E20: 34339 | F20: 14083 | G20: 9202 | H20: 5062 | I20: 1446 | J20: 706 | K20: 114 | L20: 351 | M20: 64 | N20: 8
A21: Extremadura | B21: 67336 | C21: 36896 | D21: 19238 | E21: 6359 | F21: 2384 | G21: 1398 | H21: 727 | I21: 193 | J21: 97 | K21: 11 | L21: 27 | M21: 4 | N21: 2
... A26: País Vasco | B26: 143028 | C26: 72132 | D26: 43117 | E26: 13811 | F26: 5762 | G26: 4085 | H26: 2601 | I26: 781 | J26: 373 | K26: 96 | L26: 222 | M26: 42 | N26: 6
A27: La Rioja | B27: 22700 | C27: 11979 | D27: 6385 | E27: 2211 | F27: 900 | G27: 632 | H27: 416 | I27: 106 | J27: 42 | K27: 8 | L27: 19 | M27: 2 | N27: -
A28: Ceuta | B28: 3845 | C28: 1968 | D28: 1198 | E28: 398 | F28: 128 | G28: 78 | H28: 53 | I28: 12 | J28: 5 | K28: 2 | L28: 3 | M28: - | N28: -
A29: Melilla | B29: 5234 | C29: 3085 | D29: 1339 | E29: 493 | F29: 170 | G29: 88 | H29: 43 | I29: 13 | J29: 1 | K29: 1 | L29: 1 | M29: - | N29: -
A31: FUENTE: Directorio Central de Empresas (DIRCE). INE.
A32: NOTA: Datos a 1 de enero.

Sheet 17.6.3
A1: 17. INDICADORES SOCIOECONÓMICOS REGIONALES
N2: Volver al índice
A3: 17.6.3 DIRCE: LOCALES SEGÚN ESTRATO DE ASALARIADOS. AÑO 2020
A5: Unidades: Número de locales
B7: TOTAL | C7: Sin | D7: 1 a 2 | E7: 3 a 5 | F7: 6 a 9 | G7: 10 a 19 | H7: 20 a | I7: 50 a | J7: 100 a | K7: 200 a | L7: 500 o
C8: asalar. | D8: asal. | E8: asal. | F8: asal. | G8: asal. | H8: 49 | I8: 99 | J8: 199 | K8: 499 | L8: más
A10: ESPAÑA | B10: 3907402 | C10: 2213473 | D10: 978099 | E10: 354260 | F10: 154717 | G10: 108818 | H10: 63646 | I10: 18783 | J10: 9030 | K10: 4902 | L10: 1674
A11: Andalucía | B11: 610535 | C11: 340984 | D11: 157481 | E11: 59021 | F11: 24396 | G11: 16057 | H11: 8609 | I11: 2288 | J11: 1017 | K11: 539 | L11: 143
A12: Aragón | B12: 106172 | C12: 57587 | D12: 27870 | E12: 10180 | F12: 4442 | G12: 3211 | H12: 1896 | I12: 564 | J12: 240 | K12: 136 | L12: 46
A13: Asturias | B13: 78627 | C13: 43864 | D13: 21303 | E13: 6895 | F13: 2911 | G13: 1939 | H13: 1188 | I13: 301 | J13: 121 | K13: 71 | L13: 34
A14: I. Baleares | B14: 116632 | C14: 65887 | D14: 28841 | E14: 11142 | F14: 4914 | G14: 3325 | H14: 1721 | I14: 473 | J14: 214 | K14: 98 | L14: 17
A15: Canarias | B15: 181176 | C15: 104202 | D15: 41018 | E15: 18297 | F15: 8254 | G15: 5259 | H15: 2776 | I15: 754 | J15: 398 | K15: 187 | L15: 31
A16: Cantabria | B16: 44694 | C16: 24394 | D16: 12260 | E16: 4080 | F16: 1760 | G16: 1147 | H16: 681 | I16: 203 | J16: 91 | K16: 61 | L16: 17
A17: Castilla y León | B17: 187588 | C17: 104531 | D17: 49970 | E17: 17334 | F17: 7227 | G17: 4570 | H17: 2678 | I17: 712 | J17: 317 | K17: 182 | L17: 67
A18: Castilla - La Mancha | B18: 149012 | C18: 82281 | D18: 39995 | E18: 14090 | F18: 5781 | G18: 3785 | H18: 2140 | I18: 549 | J18: 242 | K18: 115 | L18: 34
A19: Cataluña | B19: 723362 | C19: 418343 | D19: 171436 | E19: 62902 | F19: 28835 | G19: 21280 | H19: 13053 | I19: 4114 | J19: 2033 | K19: 1049 | L19: 317
A20: C. Valenciana | B20: 425055 | C20: 236695 | D20: 109484 | E20: 39314 | F20: 17028 | G20: 12020 | H20: 6960 | I20: 1963 | J20: 959 | K20: 504 | L20: 128
A21: Extremadura | B21: 78257 | C21: 44139 | D21: 21083 | E21: 7282 | F21: 2790 | G21: 1699 | H21: 875 | I21: 243 | J21: 100 | K21: 39 | L21: 7
... A29: Melilla | B29: 5832 | C29: 3471 | D29: 1436 | E29: 550 | F29: 186 | G29: 111 | H29: 56 | I29: 14 | J29: 4 | K29: 2 | L29: 2
A31: FUENTE: Directorio Central de Empresas (DIRCE). INE.
A32: NOTA: Datos a 1 de enero.

Sheet 17.7.1-G.17.10
A1: 17. INDICADORES SOCIOECONÓMICOS REGIONALES
J2: Volver al índice
A3: 17.7 CONSTRUCCIÓN Y VIVIENDA
A5: 17.7.1 LICITACIÓN OFICIAL POR AGENTE CONTRATANTE SEGÚN TIPO DE OBRA. AÑO 2020
A7: Unidades: Miles de euros
B9: Todas las administraciones públicas | F9: Entes territoriales (*)
B10: Total | C10: Edificación | D10: Ingeniería civil | F10: Total | G10: Edificación | H10: Ingeniería civil
A12: ESPAÑA | B12: 10492760 | C12: 3809510.7 | D12: 6683248.9 | F12: 8271817.9 | G12: 3282135.3 | H12: 4989682.6
A13: Andalucía | B13: 1667225.9 | C13: 527064.28 | D13: 1140161.7 | F13: 1383959.7 | G13: 464002.58 | H13: 919957.15
A14: Aragón | B14: 408644.15 | C14: 204825.13 | D14: 203819.02 | F14: 285104.43 | G14: 194438.04 | H14: 90666.396
A15: Asturias | B15: 183467.94 | C15: 25189.735 | D15: 158278.2 | F15: 93616.563 | G15: 13529.526 | H15: 80087.036
A16: I. Baleares | B16: 324163.26 | C16: 198028.86 | D16: 126134.4 | F16: 246769.01 | G16: 156555.06 | H16: 90213.952
A17: Canarias | B17: 599813.29 | C17: 160352.64 | D17: 439460.65 | F17: 461895.5 | G17: 134574.64 | H17: 327320.85
A18: Cantabria | B18: 96551.066 | C18: 23148.378 | D18: 73402.689 | F18: 52651.59 | G18: 18089.093 | H18: 34562.497
A19: Castilla - La Mancha | B19: 173473.34 | C19: 85769.102 | D19: 87704.24 | F19: 169681.74 | G19: 84341.438 | H19: 85340.297
A20: Castilla y León | B20: 428396.47 | C20: 126252.95 | D20: 302143.52 | F20: 377838.08 | G20: 109620.44 | H20: 268217.63
A21: Cataluña | B21: 1372587.9 | C21: 543477.58 | D21: 829110.36 | F21: 1123588.5 | G21: 479512.1 | H21: 644076.39
A22: C. Valenciana | B22: 1131762.9 | C22: 523006.29 | D22: 608756.6 | F22: 916808.11 | G22: 483849.41 | H22: 432958.7
A23: Extremadura | B23: 314312.88 | C23: 118186.24 | D23: 196126.64 | F23: 223977.66 | G23: 116510.72 | H23: 107466.94
... A31: Melilla | B31: 32122.335 | C31: 2114.7133 | D31: 30007.622 | F31: 6255.8251 | G31: 255.15309 | H31: 6000.672
A32: No regional | B32: 295841.81 | C32: 30487.314 | D32: 265354.49 | F32: - | G32: - | H32: -
A34: FUENTE: Licitación oficial en construcción. Ministerio de Transportes, Movilidad y Agenda Urbana. | J34: Datos del gráfico
A35: (*): Entes territoriales incluye: Comunidades Autónomas, Diputaciones, Cabildos, Consejos Insulares y Ayuntamientos. | J35: CCAA
J36: Ceuta | K36: 23281.879
A37: G.17.10 Licitación pública total. Año 2020 | J37: Melilla | K37: 32122.335
J38: La Rioja | K38: 69361.261
J39: Cantabria | K39: 96551.066
J40: Murcia | K40: 139080.24
J41: Navarra | K41: 153145.7
J42: Castilla - La Mancha | K42: 173473.34
J43: Asturias | K43: 183467.94
J44: Extremadura | K44: 314312.88
J45: I. Baleares | K45: 324163.26
J46: Aragón | K46: 408644.15
J47: Castilla y León | K47: 428396.47
J48: País Vasco | K48: 550992.77
J49: Canarias | K49: 599813.29
... J54: Andalucía | K54: 1667225.9

Sheet 17.7.2-G.17.11
A1: 17. INDICADORES SOCIOECONÓMICOS REGIONALES
A3: 17.7.2 PRECIO MEDIO DEL METRO CUADRADO DE LA VIVIENDA. AÑO 2020 | H3: Volver al índice
A5: Unidades: Euros
B7: VIVIENDAS LIBRES | F7: VIVIENDAS PROTEGIDAS
B8: Total | C8: Hasta 5 años | D8: Más de 5 años
C9: de antigüedad | D9: de antigüedad
A11: ESPAÑA | B11: 2029.45 | C11: 1892.35 | D11: 1614.675 | F11: 1133.975
A12: Andalucía | B12: 1627.05 | C12: 1518.15 | D12: 1296.025 | F12: 1114.5
A13: Aragón | B13: 1492.8 | C13: 1481.85 | D13: 1187.7 | F13: 1062.875
A14: Asturias | B14: 1584.95 | C14: 1573.875 | D14: 1259.575 | F14: 1082.625
A15: I. Baleares | B15: 2963.75 | C15: 2708.75 | D15: 2365.825 | F15: 1067.275
A16: Canarias | B16: 1880.2 | C16: 1659.2 | D16: 1502.275 | F16: 971.425
A17: Cantabria | B17: 1797.7 | C17: 1549.75 | D17: 1435.675 | F17: 1057.175
A18: Castilla y León | B18: 1281.15 | C18: 1196.975 | D18: 1022.8 | F18: 994.625
A19: Castilla - La Mancha | B19: 1090.125 | C19: 1026.8 | D19: 867.8 | F19: 979.85
A20: Cataluña | B20: 2505.95 | C20: 2327.225 | D20: 1996.95 | F20: 1211.075
A21: C. Valenciana | B21: 1511.15 | C21: 1500.95 | D21: 1197.925 | F21: 1098.075
A22: Extremadura | B22: 1062.025 | C22: 984.075 | D22: 851.275 | F22: 768.6
... A28: La Rioja | B28: 1365 | C28: 1435.125 | D28: 1071.675 | F28: 1046.1
A29: Ceuta y Melilla | B29: 2128.95 | C29: 1930 | D29: 1684.725 | F29: -
A31: FUENTE: Estadística de Valor Tasado de la Vivienda. Ministerio de Transportes, Movilidad y Agenda Urbana.
A32: ("): el dato no es representativo o no existen observaciones
H33: Datos del gráfico
A34: G.17.11 Precio del metro cuadrado de la vivienda. Año 2020 | H34: CCAA | L34: España
I35: Libre | J35: Protegida | L35: Libre | M35: Protegida
H36: Andalucía | I36: 1627.05 | J36: 1114.5 | L36: =$B$11 -> 2029.45 | M36: =$F$11 -> 1133.975
H37: Aragón | I37: 1492.8 | J37: 1062.875 | L37: =$B$11 -> 2029.45 | M37: =$F$11 -> 1133.975
H38: Asturias | I38: 1584.95 | J38: 1082.625 | L38: =$B$11 -> 2029.45 | M38: =$F$11 -> 1133.975
H39: Baleares | I39: 2963.75 | J39: 1067.275 | L39: =$B$11 -> 2029.45 | M39: =$F$11 -> 1133.975
H40: Canarias | I40: 1880.2 | J40: 971.425 | L40: =$B$11 -> 2029.45 | M40: =$F$11 -> 1133.975
H41: Cantabria | I41: 1797.7 | J41: 1057.175 | L41: =$B$11 -> 2029.45 | M41: =$F$11 -> 1133.975
H42: Cast. y León | I42: 1281.15 | J42: 994.625 | L42: =$B$11 -> 2029.45 | M42: =$F$11 -> 1133.975
H43: Cast.-La Mancha | I43: 1090.125 | J43: 979.85 | L43: =$B$11 -> 2029.45 | M43: =$F$11 -> 1133.975
H44: Cataluña | I44: 2505.95 | J44: 1211.075 | L44: =$B$11 -> 2029.45 | M44: =$F$11 -> 1133.975
H45: C. Valenciana | I45: 1511.15 | J45: 1098.075 | L45: =$B$11 -> 2029.45 | M45: =$F$11 -> 1133.975
H46: Extremadura | I46: 1062.025 | J46: 768.6 | L46: =$B$11 -> 2029.45 | M46: =$F$11 -> 1133.975
H47: Galicia | I47: 1500.375 | J47: 941.925 | L47: =$B$11 -> 2029.45 | M47: =$F$11 -> 1133.975
... H52: LA RIOJA | I52: 1365 | J52: 1046.1 | L52: =$B$11 -> 2029.45 | M52: =$F$11 -> 1133.975

Sheet 17.8.1
A1: 17. INDICADORES SOCIOECONÓMICOS REGIONALES
K2: Volver al índice
A3: 17.8 CATASTRO
A5: 17.8.1 CATASTRO INMOBILIARIO URBANO Y RÚSTICO. AÑO 2021
A7: Unidades: Número / Hectáreas / Miles de euros
B9: Catastro Inmobiliario Urbano | F9: Catastro Inmobiliario Rústico
B10: Nº de | C10: Superficie | D10: Valor | F10: Superficie | G10: Nº de | H10: Nº de | I10: Valor
B11: parcelas | C11: total | D11: catastral | F11: rústica | G11: parcelas | H11: subparcelas | I11: catastral
A13: ESPAÑA | B13: =SUM(B14:B32) -> 13905134 | C13: =SUM(C14:C32) -> 1030911 | D13: =SUM(D14:D32) -> 2.3581389e+09 | F13: 8480245 | G13: =SUM(G14:G27)+SUM(G30:G32) -> 39229770 | H13: =SUM(H14:H27)+SUM(H30:H32) -> 49707329 | I13: =SUM(I14:I27)+SUM(I30:I32) -> 75415501
A14: Andalucía | B14: 2520631 | C14: 169243 | D14: 3.8618917e+08 | F14: 4723916.6 | G14: 2842850 | H14: 4313517 | I14: 17481517
A15: Aragón | B15: 478229 | C15: 35521 | D15: 68990083 | F15: 1025377.9 | G15: 2476351 | H15: 3393368 | I15: 5020877.9
A16: Asturias | B16: 356614 | C16: 29698 | D16: 49863569 | F16: 466711.97 | G16: 1479653 | H16: 1841966 | I16: 1303895
A17: I. Baleares | B17: 285491 | C17: 23511 | D17: 77684743 | F17: 689512.39 | G17: 273985 | H17: 444468 | I17: 4598683.2
A18: Canarias | B18: 555296 | C18: 36988 | D18: 97274989 | F18: 500742.39 | G18: 782015 | H18: 1045574 | I18: 1974345.1
A19: Cantabria | B19: 162454 | C19: 17776 | D19: 37999381 | F19: 9267179 | G19: 498880 | H19: 589806 | I19: 1229319.8
A20: Castilla y León | B20: 1826268 | C20: 104657 | D20: 1.2446895e+08 | F20: 7832849.4 | G20: 8930766 | H20: 10345610 | I20: 8476176.2
A21: Castilla - La Mancha | B21: 1278732 | C21: 85484 | D21: 1.037423e+08 | F21: 3028350.7 | G21: 4344480 | H21: 5471026 | I21: 6664074.9
A22: Cataluña | B22: 1539920 | C22: 131258 | D22: 4.2790224e+08 | F22: 2184107.5 | G22: 1385038 | H22: 2781583 | I22: 5777669.4
A23: C. Valenciana | B23: 1318760 | C23: 105620 | D23: 2.4584176e+08 | F23: 4135747.1 | G23: 2244655 | H23: 2993042 | I23: 6720768.8
A24: Extremadura | B24: 625631 | C24: 30828 | D24: 37149398 | F24: 2833615.4 | G24: 1249267 | H24: 1794072 | I24: 3203135.9
A25: Galicia | B25: 1722291 | C25: 115312 | D25: 1.0638596e+08 | F25: 668625.55 | G25: 11074656 | H25: 12620351 | I25: 5081715.4
... A27: Murcia | B27: 433486 | C27: 44660 | D27: 66857370 | F27: 1075082.1 | G27: 513315 | H27: 808007 | I27: 4640770.7
A28: Navarra | B28: " | C28: " | D28: " | F28: " | G28: " | H28: " | I28: "
A29: País Vasco | B29: " | C29: " | D29: " | F29: " | G29: " | H29: " | I29: "
A30: La Rioja | B30: 124209 | C30: 7662 | D30: 15204257 | F30: 494187.98 | G30: 693970 | H30: 767381 | I30: 879312.5
A31: Ceuta | B31: 7704 | C31: 464 | D31: 2762465.3 | F31: 1561.31 | G31: 416 | H31: 1904 | I31: 1436.21
A32: Melilla | B32: 10214 | C32: 511 | D32: 2614672.1 | F32: 569.09 | G32: 386 | H32: 482 | I32: 22709.2
A34: FUENTE: Dirección General del Catastro. Ministerio de Hacienda y Función Pública.
A35: NOTAS: Los resultados de España se han obtenido por agregación de CCAA
A36: " Dato no disponible.

Sheet 17.9.1Enc-Servicios
A1: 17. INDICADORES SOCIOECONÓMICOS REGIONALES
H2: Volver al índice
A3: 17.9 SERVICIOS
A5: 17.9.1 ESTADÍSTICA ESTRUCTURAL DE EMPRESAS: SECTOR SERVICIOS. AÑO 2019
A7: Unidades: Datos económicos en miles de euros
C9: Cifra de | E9: Inversión en
B10: Número de locales | C10: negocios | D10: Sueldos y salarios | E10: activos materiales | F10: Personal ocupado
A12: ESPAÑA | B12: 1524549 | C12: 530619429 | D12: 119853987 | E12: 33855098 | F12: 6188653
A13: Andalucía | B13: 231025 | C13: 50152289 | D13: 13047071 | E13: 3167084 | F13: 853607
A14: Aragón | B14: 39624 | C14: 9916489 | D14: 2655029 | E14: 570570 | F14: 154420
A15: Asturias | B15: 30946 | C15: 6122063 | D15: 1705166 | E15: 261246 | F15: 108785
A16: I. Baleares | B16: 50261 | C16: 24433618 | D16: 4166679 | E16: 1426409 | F16: 205978
A17: Canarias | B17: 74378 | C17: 23688846 | D17: 5268933 | E17: 1504336 | F17: 322970
A18: Cantabria | B18: 16523 | C18: 3578332 | D18: 963739 | E18: 192716 | F18: 61306
A19: Castilla y León | B19: 63137 | C19: 13251885 | D19: 3599995 | E19: 1023838 | F19: 235136
A20: Castilla - La Mancha | B20: 47549 | C20: 9687964 | D20: 2318323 | E20: 529353 | F20: 162093
A21: Cataluña | B21: 301868 | C21: 105795108 | D21: 25024702 | E21: 7000837 | F21: 1194381
A22: C. Valenciana | B22: 158878 | C22: 38657278 | D22: 8929487 | E22: 2718027 | F22: 565884
A23: Extremadura | B23: 24562 | C23: 3852831 | D23: 964527 | E23: 369385 | F23: 76867
... A31: Melilla | B31: 1814 | C31: 317603 | D31: 89148 | E31: 4614 | F31: 6574
A33: FUENTE: Estadística Estructural de Empresas: Sector Servicios. INE.

Sheet 17.9.2Enc-Comercio
A1: 17. INDICADORES SOCIOECONÓMICOS REGIONALES
H2: Volver al índice
A3: 17.9.2 ESTADÍSTICA ESTRUCTURAL DE EMPRESAS: SECTOR COMERCIO. AÑO 2019
A5: Unidades: Datos económicos en miles de euros
C7: Cifra de | E7: Inversión en
B8: Número de locales | C8: negocios | D8: Sueldos y salarios | E8: activos materiales | F8: Personal ocupado
A10: ESPAÑA | B10: 879679 | C10: 836129854 | D10: 60277226 | E10: 10771622 | F10: 3216989
A11: Andalucía | B11: 161493 | C11: 104111613 | D11: 7609043 | E11: 1511555 | F11: 516684
A12: Aragón | B12: 22215 | C12: 20268338 | D12: 1551909 | E12: 290296 | F12: 83389
A13: Asturias | B13: 17273 | C13: 11119863 | D13: 1005906 | E13: 188688 | F13: 60256
A14: I. Baleares | B14: 20721 | C14: 15387624 | D14: 1386146 | E14: 234601 | F14: 78969
A15: Canarias | B15: 42531 | C15: 29566638 | D15: 2440117 | E15: 527724 | F15: 159676
A16: Cantabria | B16: 9618 | C16: 6690549 | D16: 558291 | E16: 109115 | F16: 32933
A17: Castilla y León | B17: 42729 | C17: 33281877 | D17: 2143683 | E17: 461180 | F17: 135336
A18: Castilla - La Mancha | B18: 37193 | C18: 24701110 | D18: 1663820 | E18: 350667 | F18: 108202
A19: Cataluña | B19: 150390 | C19: 162704039 | D19: 13415421 | E19: 1950230 | F19: 593639
A20: C. Valenciana | B20: 101784 | C20: 79038269 | D20: 6559841 | E20: 1443917 | F20: 382848
A21: Extremadura | B21: 22392 | C21: 10908438 | D21: 748415 | E21: 150132 | F21: 59958
... A29: Melilla | B29: 2338 | C29: 918817 | D29: 58168 | E29: 10146 | F29: 4998
A31: FUENTE: Estadística Estructural de Empresas: Sector Comercio. INE.

Sheet 17.10.1_G.17.12
A1: 17. INDICADORES SOCIOECONÓMICOS REGIONALES
G2: Volver al índice
A3: 17.10 TRANSPORTE
A5: 17.10.1 PARQUE NACIONAL DE VEHÍCULOS Y MATRICULACIONES. AÑO 2020
A7: Unidades: Número de vehículos
B9: Matriculaciones | C9: Bajas (según domicilio | D9: Total vehículos | E9: Vehículos por
C10: del vehículo) | D10: del Parque | E10: 1.000 habit.
A12: ESPAÑA | B12: 1283546 | C12: 967951 | D12: 34765203 | E12: 732.65797
A13: Andalucía | B13: 155288 | C13: 145499 | D13: 6036742 | E13: 713.19103
A14: Aragón | B14: 26416 | C14: 26733 | D14: 905582 | E14: 681.20064
A15: Asturias | B15: 18246 | C15: 17775 | D15: 705221 | E15: 692.21837
A16: I. Baleares | B16: 27614 | C16: 29553 | D16: 1054993 | E16: 900.51582
A17: Canarias | B17: 48530 | C17: 37790 | D17: 1745773 | E17: 802.30308
A18: Cantabria | B18: 14136 | C18: 11401 | D18: 434266 | E18: 745.00305
A19: Castilla y León | B19: 41564 | C19: 44418 | D19: 1854383 | E19: 774.29916
A20: Castilla - La Mancha | B20: 55465 | C20: 52716 | D20: 1604562 | E20: 784.54211
A21: Cataluña | B21: 205415 | C21: 176526 | D21: 5387406 | E21: 692.42601
A22: C. Valenciana | B22: 121680 | C22: 109400 | D22: 3642407 | E22: 720.22004
A23: Extremadura | B23: 15687 | C23: 21437 | D23: 850833 | E23: 799.66485
... A30: Ceuta y Melilla | B30: 3696 | C30: 2390 | D30: 133388 | E30: 778.7807
A32: FUENTE: DGT. Ministerio del Interior.
A33: NOTA: En el total de bajas se incluyen las realizadas a través de Internet
A35: G.17.12 Vehículos por 1.000 habitantes. Año 2020 | H35: Datos del gráfico
H37: I. Baleares | I37: 900.51582
H38: Canarias | I38: 802.30308
H39: Extremadura | I39: 799.66485
H40: Castilla - La Mancha | I40: 784.54211
H41: Ceuta y Melilla | I41: 778.7807
H42: Galicia | I42: 776.11787
H43: Castilla y León | I43: 774.29916
H44: Madrid | I44: 752.03499
H45: Cantabria | I45: 745.00305
H46: Murcia | I46: 743.09694
H47: ESPAÑA | I47: 732.65797
H48: Navarra | I48: 721.49148
... H55: País Vasco | I55: 628.23575

Sheet 17.11.1
A1: 17. INDICADORES SOCIOECONÓMICOS REGIONALES
L2: Volver al índice
A3: 17.11 TURISMO
A5: 17.11.1 VIAJEROS, PERNOCTACIONES, ESTANCIA MEDIA Y GRADO DE OCUPACIÓN. AÑO 2020 (P)
A7: Unidades: Número de personas
B9: Viajeros | E9: Pernoctaciones | H9: Estancia | I9: Grado de | J9: Personal
B10: Residentes | C10: Residentes en | E10: Residentes | F10: Residentes en | H10: media | I10: ocupación | J10: empleado
B11: en España | C11: el extranjero | E11: en España | F11: el extranjero | I11: (1) | J11: (2)
