Workbook

Sheet Índice Cap_9
B8: CAPÍTULO 9: POBLACIÓN
B10: 9.1: Estructura de la población
B11: 9.2: Movimiento natural de la población
B12: 9.3: Movimientos migratorios

Sheet 9.1.1
A1: 9. POBLACIÓN
A3: 9.1 ESTRUCTURA DE LA POBLACIÓN | F3: Volver al índice
A5: 9.1.1 EVOLUCIÓN DE LA POBLACIÓN
B7: Total | C7: Hombres | D7: Mujeres
A9: 2002 | B9: 277993 | C9: 138548 | D9: 139445
A10: 2003 | B10: 284609 | C10: 142296 | D10: 142312
A11: 2004 | B11: 291082 | C11: 145705 | D11: 145377
A12: 2005 | B12: 298050 | C12: 149792 | D12: 148258
A13: 2006 | B13: 302697 | C13: 152320 | D13: 150377
A14: 2007 | B14: 308118 | C14: 155223 | D14: 152895
A15: 2008 | B15: 316192 | C15: 159651 | D15: 156541
A16: 2009 | B16: 319786 | C16: 161177 | D16: 158608
A17: 2010 | B17: 319939 | C17: 160628 | D17: 159311
A18: 2011 | B18: 320850 | C18: 160694 | D18: 160156
A19: 2012 | B19: 320951 | C19: 160318 | D19: 160633
A20: 2013 | B20: 318639 | C20: 158540 | D20: 160099
... A28: 2021 | B28: 316197 | C28: 155766 | D28: 160431
A30: FUENTE: Estimaciones censales. Cifras de Población. INE.
A31: Nota: Datos a 1 de enero.

Sheet G.9.1
A1: 9. POBLACIÓN
J2: Volver al índice
J3: Datos del gráfico
A4: G.9.1 Evolución de la población de La Rioja por sexo | J4: 2003 | K4: 142296 | L4: 142312
K5: Hombres | L5: Mujeres
J6: 2002 | K6: 138548 | L6: 139445
J7: 2003 | K7: 142296 | L7: 142312
J8: 2004 | K8: 145705 | L8: 145377
J9: 2005 | K9: 149792 | L9: 148258
J10: 2006 | K10: 152320 | L10: 150377
J11: 2007 | K11: 155223 | L11: 152895
J12: 2008 | K12: 159651 | L12: 156541
J13: 2009 | K13: 161177 | L13: 158608
J14: 2010 | K14: 160628 | L14: 159311
J15: 2011 | K15: 160694 | L15: 160156
J16: 2012 | K16: 160318 | L16: 160633
J17: 2013 | K17: 158540 | L17: 160099
... J25: 2021 | K25: 155766 | L25: 160431

Sheet G.9.2mapaPoblacLog
A1: 9. POBLACIÓN
I2: Volver al índice
J13: Mapa

Sheet 9.1.2-9.1.3
A1: 9. POBLACIÓN
A3: 9.1.2 ESTRUCTURA DE LA POBLACIÓN SEGÚN REVISIÓN PADRONAL | N3: Volver al índice
B5: 2019 | F5: 2020 | J5: 2021
B6: TOTAL | C6: Hombres | D6: Mujeres | F6: TOTAL | G6: Hombres | H6: Mujeres | J6: TOTAL | K6: Hombres | L6: Mujeres
A8: TOTAL | B8: 313571 | C8: 154512 | D8: 159059 | F8: 315931 | G8: 155646 | H8: 160285 | J8: 316197 | K8: 155766 | L8: 160431
A9: De 0 a 4 años | B9: 13518 | C9: 6990 | D9: 6528 | F9: 13209 | G9: 6859 | H9: 6351 | J9: 12751 | K9: 6551 | L9: 6200
A10: De 5 a 9 años | B10: 15635 | C10: 8090 | D10: 7545 | F10: 15634 | G10: 8022 | H10: 7613 | J10: 15387 | K10: 7923 | L10: 7464
A11: De 10 a 14 años | B11: 16343 | C11: 8429 | D11: 7914 | F11: 16452 | G11: 8498 | H11: 7954 | J11: 16571 | K11: 8632 | L11: 7940
A12: De 15 a 19 años | B12: 15145 | C12: 7748 | D12: 7397 | F12: 15648 | G12: 8043 | H12: 7605 | J12: 15952 | K12: 8176 | L12: 7776
A13: De 20 a 24 años | B13: 14550 | C13: 7285 | D13: 7265 | F13: 14883 | G13: 7491 | H13: 7393 | J13: 15299 | K13: 7731 | L13: 7567
A14: De 25 a 29 años | B14: 14957 | C14: 7499 | D14: 7458 | F14: 15032 | G14: 7521 | H14: 7511 | J14: 14878 | K14: 7507 | L14: 7371
A15: De 30 a 34 años | B15: 17235 | C15: 8511 | D15: 8724 | F15: 17048 | G15: 8394 | H15: 8654 | J15: 16729 | K15: 8272 | L15: 8457
A16: De 35 a 39 años | B16: 22059 | C16: 11043 | D16: 11016 | F16: 21198 | G16: 10669 | H16: 10529 | J16: 20312 | K16: 10110 | L16: 10202
A17: De 40 a 44 años | B17: 26501 | C17: 13516 | D17: 12985 | F17: 26413 | G17: 13352 | H17: 13061 | J17: 25904 | K17: 13010 | L17: 12894
A18: De 45 a 49 años | B18: 24961 | C18: 12801 | D18: 12160 | F18: 25421 | G18: 13026 | H18: 12395 | J18: 25843 | K18: 13249 | L18: 12594
A19: De 50 a 54 años | B19: 23894 | C19: 11880 | D19: 12014 | F19: 24138 | G19: 12037 | H19: 12102 | J19: 24404 | K19: 12294 | L19: 12111
... A27: 90 y más años | B27: 4778 | C27: 1429 | D27: 3350 | F27: 4913 | G27: 1495 | H27: 3418 | J27: 5076 | K27: 1555 | L27: 3520
A29: FUENTE: Cifras de Población. INE.
A30: Nota: Datos a 1 de enero.
A33: 9.1.3 POBLACIÓN RESIDENTE SEGÚN EL LUGAR DE NACIMIENTO Y NACIONALIDAD. Año 2021
B35: TOTAL | F35: Nacionalidad española | J35: Nacionalidad extranjera
B36: TOTAL | C36: Hombres | D36: Mujeres | F36: TOTAL | G36: Hombres | H36: Mujeres | J36: TOTAL | K36: Hombres | L36: Mujeres
A38: Lugar de nacimiento
A39: TOTAL | B39: 316197 | C39: 155766 | D39: 160431 | F39: 276957 | G39: 136766 | H39: 140191 | J39: =B39-F39 -> 39240 | K39: =C39-G39 -> 19000 | L39: =D39-H39 -> 20240
A40: España | B40: 268677 | C40: 133177 | D40: 135501 | F40: 262344 | G40: 129912 | H40: 132433 | J40: =B40-F40 -> 6333 | K40: =C40-G40 -> 3265 | L40: =D40-H40 -> 3068
A41: UE27 sin España | B41: 13153 | C41: 6451 | D41: 6702 | F41: 1163 | G41: 570 | H41: 593 | J41: =B41-F41 -> 11990 | K41: =C41-G41 -> 5881 | L41: =D41-H41 -> 6109
A42: Europa menos UE27 | B42: 3046 | C42: 1466 | D42: 1581 | F42: 474 | G42: 242 | H42: 232 | J42: =B42-F42 -> 2572 | K42: =C42-G42 -> 1224 | L42: =D42-H42 -> 1349
A43: África | B43: 9985 | C43: 5565 | D43: 4421 | F43: 2392 | G43: 1504 | H43: 888 | J43: =B43-F43 -> 7593 | K43: =C43-G43 -> 4061 | L43: =D43-H43 -> 3533
A44: América del Norte | B44: 545 | C44: 214 | D44: 331 | F44: 210 | G44: 94 | H44: 115 | J44: =B44-F44 -> 335 | K44: =C44-G44 -> 120 | L44: =D44-H44 -> 216
A45: Centro América y Caribe | B45: 2181 | C45: 770 | D45: 1411 | F45: 907 | G45: 331 | H45: 577 | J45: =B45-F45 -> 1274 | K45: =C45-G45 -> 439 | L45: =D45-H45 -> 834
A46: Sudamérica | B46: 15752 | C46: 6722 | D46: 9030 | F46: 8609 | G46: 3570 | H46: 5039 | J46: =B46-F46 -> 7143 | K46: =C46-G46 -> 3152 | L46: =D46-H46 -> 3991
A47: Asia | B47: 2820 | C47: 1384 | D47: 1436 | F47: 846 | G47: 538 | H47: 308 | J47: =B47-F47 -> 1974 | K47: =C47-G47 -> 846 | L47: =D47-H47 -> 1128
A48: Oceanía | B48: 38 | C48: 19 | D48: 19 | F48: 12 | G48: 6 | H48: 6 | J48: =B48-F48 -> 26 | K48: =C48-G48 -> 13 | L48: =D48-H48 -> 13
A50: FUENTE: Cifras de Población. INE.
A51: Nota: Datos a 1 de enero.

Sheet 9.1.4-G.9.2
A1: 9. POBLACIÓN
J2: Volver al índice
A3: 9.1.4 ESTRUCTURA DE LA POBLACIÓN EXTRANJERA. Año 2021
B5: TOTAL | F5: Porcentaje de extranjeros
B6: TOTAL | C6: Hombres | D6: Mujeres | F6: TOTAL | G6: Hombres | H6: Mujeres
A8: TOTAL | B8: 39240 | C8: 19000 | D8: 20240 | F8: =B8*100/'9.1.2-9.1.3'!J8 -> 12.409985 | G8: =C8*100/'9.1.2-9.1.3'!K8 -> 12.197784 | H8: =D8*100/'9.1.2-9.1.3'!L8 -> 12.616016
A9: De 0 a 4 años | B9: 2914 | C9: 1496 | D9: 1418 | F9: =B9*100/'9.1.2-9.1.3'!J9 -> 22.85311 | G9: =C9*100/'9.1.2-9.1.3'!K9 -> 22.836208 | H9: =D9*100/'9.1.2-9.1.3'!L9 -> 22.870968
A10: De 5 a 9 años | B10: 2775 | C10: 1446 | D10: 1329 | F10: =B10*100/'9.1.2-9.1.3'!J10 -> 18.034705 | G10: =C10*100/'9.1.2-9.1.3'!K10 -> 18.250663 | H10: =D10*100/'9.1.2-9.1.3'!L10 -> 17.805466
A11: De 10 a 14 años | B11: 2198 | C11: 1155 | D11: 1044 | F11: =B11*100/'9.1.2-9.1.3'!J11 -> 13.264136 | G11: =C11*100/'9.1.2-9.1.3'!K11 -> 13.380445 | H11: =D11*100/'9.1.2-9.1.3'!L11 -> 13.148615
A12: De 15 a 19 años | B12: 2162 | C12: 1191 | D12: 971 | F12: =B12*100/'9.1.2-9.1.3'!J12 -> 13.553159 | G12: =C12*100/'9.1.2-9.1.3'!K12 -> 14.567025 | H12: =D12*100/'9.1.2-9.1.3'!L12 -> 12.48714
A13: De 20 a 24 años | B13: 2954 | C13: 1411 | D13: 1542 | F13: =B13*100/'9.1.2-9.1.3'!J13 -> 19.308452 | G13: =C13*100/'9.1.2-9.1.3'!K13 -> 18.251196 | H13: =D13*100/'9.1.2-9.1.3'!L13 -> 20.377957
A14: De 25 a 29 años | B14: 3372 | C14: 1636 | D14: 1736 | F14: =B14*100/'9.1.2-9.1.3'!J14 -> 22.664337 | G14: =C14*100/'9.1.2-9.1.3'!K14 -> 21.792993 | H14: =D14*100/'9.1.2-9.1.3'!L14 -> 23.551757
A15: De 30 a 34 años | B15: 3964 | C15: 1773 | D15: 2191 | F15: =B15*100/'9.1.2-9.1.3'!J15 -> 23.695379 | G15: =C15*100/'9.1.2-9.1.3'!K15 -> 21.433752 | H15: =D15*100/'9.1.2-9.1.3'!L15 -> 25.907532
A16: De 35 a 39 años | B16: 4209 | C16: 1890 | D16: 2319 | F16: =B16*100/'9.1.2-9.1.3'!J16 -> 20.721741 | G16: =C16*100/'9.1.2-9.1.3'!K16 -> 18.694362 | H16: =D16*100/'9.1.2-9.1.3'!L16 -> 22.730837
A17: De 40 a 44 años | B17: 4164 | C17: 2002 | D17: 2161 | F17: =B17*100/'9.1.2-9.1.3'!J17 -> 16.074737 | G17: =C17*100/'9.1.2-9.1.3'!K17 -> 15.388163 | H17: =D17*100/'9.1.2-9.1.3'!L17 -> 16.759733
A18: De 45 a 49 años | B18: 3247 | C18: 1648 | D18: 1599 | F18: =B18*100/'9.1.2-9.1.3'!J18 -> 12.564331 | G18: =C18*100/'9.1.2-9.1.3'!K18 -> 12.438675 | H18: =D18*100/'9.1.2-9.1.3'!L18 -> 12.696522
A19: De 50 a 54 años | B19: 2652 | C19: 1277 | D19: 1376 | F19: =B19*100/'9.1.2-9.1.3'!J19 -> 10.867071 | G19: =C19*100/'9.1.2-9.1.3'!K19 -> 10.387181 | H19: =D19*100/'9.1.2-9.1.3'!L19 -> 11.361572
... A27: 90 y más años | B27: 46 | C27: 17 | D27: 27 | F27: =B27*100/'9.1.2-9.1.3'!J27 -> 0.90622537 | G27: =C27*100/'9.1.2-9.1.3'!K27 -> 1.0932476 | H27: =D27*100/'9.1.2-9.1.3'!L27 -> 0.76704545
A29: FUENTE: Cifras de Población. INE.
A30: Nota: Datos a 1 de enero.
A32: G.9.2 Evolución del porcentaje de extranjeros
J34: DATOS DEL GRÁFICO
K35: % Extranjeros
K36: Hombres | L36: Mujeres | O36: TPTAL | Q36: Española | S36: Extranjera
J37: 2002 | K37: =S38*100/O38 -> 5.8968733 | L37: =T38*100/P38 -> 4.3551221 | O37: Hombres | P37: Mujeres | Q37: Hombres | R37: Mujeres | S37: Hombres | T37: Mujeres
J38: 2003 | K38: =S39*100/O39 -> 8.0255243 | L38: =T39*100/P39 -> 5.9784136 | N38: 1 de enero de 2002 | O38: 138548 | P38: 139445 | Q38: 130378 | R38: 133372 | S38: 8170 | T38: 6073
J39: 2004 | K39: =S40*100/O40 -> 9.6860094 | L39: =T40*100/P40 -> 7.3870007 | N39: 1 de enero de 2003 | O39: 142296 | P39: 142312 | Q39: 130876 | R39: 133804 | S39: 11420 | T39: 8508
J40: 2005 | K40: =S41*100/O41 -> 11.48793 | L40: =T41*100/P41 -> 8.6302257 | N40: 1 de enero de 2004 | O40: 145705 | P40: 145377 | Q40: 131592 | R40: 134638 | S40: 14113 | T40: 10739
J41: 2006 | K41: =S42*100/O42 -> 12.583377 | L41: =T42*100/P42 -> 9.5599726 | N41: 1 de enero de 2005 | O41: 149792 | P41: 148258 | Q41: 132584 | R41: 135463 | S41: 17208 | T41: 12795
J42: 2007 | K42: =S43*100/O43 -> 13.682895 | L42: =T43*100/P43 -> 10.632787 | N42: 1 de enero de 2006 | O42: 152320 | P42: 150377 | Q42: 133153 | R42: 136001 | S42: 19167 | T42: 14376
J43: 2008 | K43: =S44*100/O44 -> 15.557685 | L43: =T44*100/P44 -> 12.159115 | N43: 1 de enero de 2007 | O43: 155223 | P43: 152895 | Q43: 133984 | R43: 136638 | S43: 21239 | T43: 16257
J44: 2009 | K44: =S45*100/O45 -> 15.879437 | L44: =T45*100/P45 -> 12.778674 | N44: 1 de enero de 2008 | O44: 159651 | P44: 156541 | Q44: 134813 | R44: 137507 | S44: 24838 | T44: 19034
J45: 2010 | K45: =S46*100/O46 -> 15.279403 | L45: =T46*100/P46 -> 12.891765 | N45: 1 de enero de 2009 | O45: 161177 | P45: 158608 | Q45: 135583 | R45: 138340 | S45: 25594 | T45: 20268
J46: 2011 | K46: =S47*100/O47 -> 14.897258 | L46: =T47*100/P47 -> 12.958615 | N46: 1 de enero de 2010 | O46: 160628 | P46: 159311 | Q46: 136085 | R46: 138773 | S46: 24543 | T46: 20538
J47: 2012 | K47: =S48*100/O48 -> 14.431942 | L47: =T48*100/P48 -> 12.923247 | N47: 1 de enero de 2011 | O47: 160694 | P47: 160156 | Q47: 136755 | R47: 139402 | S47: 23939 | T47: 20754
J48: 2013 | K48: =S49*100/O49 -> 13.475464 | L48: =T49*100/P49 -> 12.453544 | N48: 1 de enero de 2012 | O48: 160318 | P48: 160633 | Q48: 137181 | R48: 139874 | S48: 23137 | T48: 20759
J49: 2014 | K49: =S50*100/O50 -> 11.809018 | L49: =T50*100/P50 -> 11.247397 | N49: 1 de enero de 2013 | O49: 158540 | P49: 160099 | Q49: 137176 | R49: 140161 | S49: 21364 | T49: 19938
... J56: 2021 | K56: =S57*100/O57 -> 12.197784 | L56: =T57*100/P57 -> 12.616016 | N56: 1 de enero de 2020 | O56: 155646 | P56: 160285 | Q56: 137263 | R56: 140702 | S56: 18383 | T56: 19583
N57: 1 de enero de 2021 | O57: 155766 | P57: 160431 | Q57: 136766 | R57: 140191 | S57: 19000 | T57: 20240

Sheet G9.3Piramides
A1: 9. POBLACIÓN
K2: Volver al índice

Sheet 9.1.5-9.1.6
A1: 9. POBLACIÓN
A3: 9.1.5 EVOLUCIÓN DE DENSIDADES DE POBLACIÓN (Hab./Km²) | I3: Volver al índice
C5: 2016 | D5: 2017 | E5: 2018 | F5: 2019 | G5: 2020
A7: TOTAL | C7: 62.004 | D7: 61.967 | E7: 62.6 | F7: 62.7913 | G7: 63.41
A8: Logroño | C8: 1896.57 | D8: 1897.8693 | E8: 1899.6 | F8: 1899.4093 | G8: 1932.146
A9: Resto de municipios | C9: 33.211416 | D9: 32.6 | E9: 33.1 | F9: 33.361393 | G9: 33.71
A11: FUENTE: Para Logroño y Otros municipios, elaboración propia a partir de la Revisión del Padrón Municipal de Habitantes a 1 de enero. INE
A12: Para densidades totales, elaboración propia a partir de Cifras de Población a 1 de enero. INE
A18: 9.1.6 DISTRIBUCIÓN DE LA POBLACIÓN POR TAMAÑO DE MUNICIPIO
B20: 2019 | D20: 2020 | F20: 2021
B21: Nº de municipios | C21: % de población | D21: Nº de municipios | E21: % de población | F21: Nº de municipios | G21: % de población
A23: TOTAL | B23: 174 | C23: 100 | D23: 174 | E23: 100 | F23: 174 | G23: 100
A24: Menos de 101 | B24: 62 | C24: 1 | D24: 63 | E24: 1 | F24: 64 | G24: 1.03
A25: 101 - 500 | B25: 73 | C25: 5.4 | D25: 71 | E25: 5.2 | F25: 69 | G25: 5.07
A26: 501 - 1.000 | B26: 11 | C26: 2.6 | D26: 12 | E26: 2.7 | F26: 11 | G26: 2.27
A27: 1.001 - 2.000 | B27: 7 | C27: 2.9 | D27: 7 | E27: 2.9 | F27: 9 | G27: 3.54
A28: 2.001 - 5.000 | B28: 12 | C28: 11.1 | D28: 12 | E28: 11.2 | F28: 12 | G28: 11.26
A29: 5.001 - 10.000 | B29: 4 | C29: 10 | D29: 4 | E29: 10.1 | F29: 4 | G29: 10.15
A30: 10.001 - 20.000 | B30: 3 | C30: 11.6 | D30: 3 | E30: 11.7 | F30: 3 | G30: 11.78
A31: 20.001 - 50.000 | B31: 1 | C31: 7.6 | D31: 1 | E31: 7.7 | F31: 1 | G31: 7.69
A32: Más de 50.000 | B32: 1 | C32: 47.7 | D32: 1 | E32: 47.7 | F32: 1 | G32: 47.21
A34: FUENTE: Estadística del Padrón Continuo. INE.
A35: NOTA: Los datos del último año disponible son provisionales.

Sheet 9.2.1-9.2.2
A1: 9. POBLACIÓN
A3: 9.2 MOVIMIENTO NATURAL DE LA POBLACIÓN | H3: Volver al índice
A5: 9.2.1 EVOLUCIÓN MOVIMIENTO NATURAL DE POBLACIÓN
B7: 2016 | C7: 2017 | D7: 2018 | E7: 2019 | F7: 2020
A9: MATRIMONIOS | B9: 1150 | C9: 1051 | D9: 1141 | E9: 1117 | F9: 628
A10: Tasa de nupcialidad | B10: 3.68 | C10: 3.36 | D10: 3.65 | E10: 3.55 | F10: 1.99
A12: NACIMIENTOS
A13: TOTAL | B13: 2662 | C13: 2566 | D13: 2330 | E13: 2408 | F13: 2317
A14: Hombres | B14: 1383 | C14: 1364 | D14: 1163 | E14: 1239 | F14: 1168
A15: Mujeres | B15: 1279 | C15: 1202 | D15: 1167 | E15: 1169 | F15: 1149
A16: Tasa de natalidad | B16: 8.51 | C16: 8.21 | D16: 7.45 | E16: 7.66 | F16: 7.33
A18: DEFUNCIONES
A19: TOTAL | B19: 2967 | C19: 3052 | D19: 3205 | E19: 3147 | F19: 3699
A20: Hombres | B20: 1530 | C20: 1532 | D20: 1667 | E20: 1609 | F20: 1894
A21: Mujeres | B21: 1437 | C21: 1520 | D21: 1538 | E21: 1538 | F21: 1805
A22: Tasa de mortalidad | B22: 9.49 | C22: 9.77 | D22: 10.25 | E22: 10.01 | F22: 11.7
A24: Crecimiento vegetativo | B24: -305 | C24: -486 | D24: -875 | E24: -739 | F24: -1382
A25: Crec. por 1.000 habitantes | B25: -0.97503277 | C25: -1.56 | D25: -2.8 | E25: -2.35 | F25: -4.3744421
A27: FUENTE: Movimiento Natural de Población. INE.
A28: NOTA: Crecimiento y tasas por 1.000 habitantes calculado con población a 1 de enero, según Padrón (INE).
A29: NOTA: Los datos del último año disponible son provisionales.
A34: 9.2.2 NACIMIENTOS EN LA RIOJA SEGÚN EDAD DE LA MADRE
B36: 2015 | C36: 2016 | D36: 2017 | E36: 2018 | F36: 2019
A38: TOTAL | B38: 2732 | C38: 2662 | D38: 2566 | E38: 2330 | F38: 2408
A40: Menos de 20 años | B40: 58 | C40: 58 | D40: 50 | E40: 35 | F40: 40
A41: De 20 a 24 años | B41: 165 | C41: 189 | D41: 166 | E41: 174 | F41: 195
A42: De 25 a 29 años | B42: 454 | C42: 453 | D42: 445 | E42: 374 | F42: 374
A43: De 30 a 34 años | B43: 945 | C43: 901 | D43: 861 | E43: 759 | F43: 787
A44: De 35 a 39 años | B44: 894 | C44: 847 | D44: 818 | E44: 736 | F44: 764
A45: De 40 a 44 años | B45: 205 | C45: 199 | D45: 209 | E45: 238 | F45: 236
A46: 45 y más años | B46: 11 | C46: 15 | D46: 17 | E46: 14 | F46: 12
A48: FUENTE: Movimiento Natural de Población. INE.

Sheet 9.2.3
A1: 9. POBLACIÓN
A3: 9.2.3 DEFUNCIONES DE RESIDENTES EN LA RIOJA SEGÚN SEXO Y EDAD
R4: Volver al índice
B5: 2016 | F5: 2017 | J5: 2018 | N5: 2019
B6: TOTAL | C6: Hombres | D6: Mujeres | F6: TOTAL | G6: Hombres | H6: Mujeres | J6: TOTAL | K6: Hombres | L6: Mujeres | N6: TOTAL | O6: Hombres | P6: Mujeres
A8: TOTAL | B8: 2967 | C8: 1530 | D8: 1437 | F8: 3052 | G8: 1532 | H8: 1520 | J8: 3205 | K8: 1667 | L8: 1538 | N8: 3147 | O8: 1609 | P8: 1538
A10: Menores de 1 año | B10: 3 | C10: 1 | D10: 2 | F10: 7 | G10: 5 | H10: 2 | J10: 7 | K10: 4 | L10: 3 | N10: 7 | O10: 3 | P10: 4
A11: De 1 a 5 años | B11: 3 | C11: 2 | D11: 1 | F11: 4 | G11: 1 | H11: 3 | J11: 3 | K11: 1 | L11: 2 | N11: 4 | O11: 3 | P11: 1
A12: De 6 a 10 años | B12: - | C12: - | D12: - | F12: 4 | G12: 2 | H12: 2 | J12: - | K12: - | L12: - | N12: - | O12: - | P12: -
A13: De 11 a 15 años | B13: 3 | C13: 1 | D13: 2 | F13: 2 | G13: 2 | H13: - | J13: - | K13: - | L13: - | N13: 2 | O13: 2 | P13: -
A14: De 16 a 20 años | B14: 4 | C14: 3 | D14: 1 | F14: 5 | G14: 2 | H14: 3 | J14: 4 | K14: 3 | L14: 1 | N14: 2 | O14: 2 | P14: -
A15: De 21 a 25 años | B15: 2 | C15: 1 | D15: 1 | F15: 5 | G15: 5 | H15: - | J15: 2 | K15: 1 | L15: 1 | N15: 3 | O15: 2 | P15: 1
A16: De 26 a 30 años | B16: 6 | C16: 4 | D16: 2 | F16: 5 | G16: 4 | H16: 1 | J16: 1 | K16: 1 | L16: - | N16: 4 | O16: 3 | P16: 1
A17: De 31 a 35 años | B17: 6 | C17: 5 | D17: 1 | F17: 10 | G17: 6 | H17: 4 | J17: 8 | K17: 6 | L17: 2 | N17: 6 | O17: 4 | P17: 2
A18: De 36 a 40 años | B18: 17 | C18: 8 | D18: 9 | F18: 14 | G18: 12 | H18: 2 | J18: 11 | K18: 6 | L18: 5 | N18: 17 | O18: 13 | P18: 4
A19: De 41 a 45 años | B19: 19 | C19: 11 | D19: 8 | F19: 20 | G19: 14 | H19: 6 | J19: 24 | K19: 16 | L19: 8 | N19: 21 | O19: 11 | P19: 10
A20: De 46 a 50 años | B20: 35 | C20: 22 | D20: 13 | F20: 36 | G20: 24 | H20: 12 | J20: 46 | K20: 30 | L20: 16 | N20: 38 | O20: 25 | P20: 13
A21: De 51 a 55 años | B21: 65 | C21: 43 | D21: 22 | F21: 71 | G21: 47 | H21: 24 | J21: 56 | K21: 44 | L21: 12 | N21: 69 | O21: 37 | P21: 32
A22: De 56 a 60 años | B22: 101 | C22: 72 | D22: 29 | F22: 97 | G22: 67 | H22: 30 | J22: 90 | K22: 59 | L22: 31 | N22: 104 | O22: 73 | P22: 31
A23: De 61 a 65 años | B23: 110 | C23: 75 | D23: 35 | F23: 111 | G23: 71 | H23: 40 | J23: 137 | K23: 85 | L23: 52 | N23: 123 | O23: 81 | P23: 42
A24: De 66 a 70 años | B24: 171 | C24: 115 | D24: 56 | F24: 164 | G24: 120 | H24: 44 | J24: 164 | K24: 116 | L24: 48 | N24: 153 | O24: 105 | P24: 48
A25: De 71 a 75 años | B25: 219 | C25: 130 | D25: 89 | F25: 215 | G25: 134 | H25: 81 | J25: 260 | K25: 176 | L25: 84 | N25: 243 | O25: 166 | P25: 77
A26: De 76 a 80 años | B26: 327 | C26: 220 | D26: 107 | F26: 292 | G26: 183 | H26: 109 | J26: 293 | K26: 187 | L26: 106 | N26: 286 | O26: 178 | P26: 108
A27: De 81 a 85 años | B27: 536 | C27: 288 | D27: 248 | F27: 539 | G27: 287 | H27: 252 | J27: 558 | K27: 320 | L27: 238 | N27: 532 | O27: 315 | P27: 217
A28: De 86 a 90 años | B28: 638 | C28: 301 | D28: 337 | F28: 711 | G28: 318 | H28: 393 | J28: 735 | K28: 333 | L28: 402 | N28: 711 | O28: 326 | P28: 385
... A31: De más de 100 años | B31: 33 | C31: 11 | D31: 22 | F31: 34 | G31: 5 | H31: 29 | J31: 37 | K31: 10 | L31: 27 | N31: 33 | O31: 4 | P31: 29
A33: FUENTE:Elaboración propia a partir del Movimiento Natural de la Población. INE.

Sheet 9.3.1
A1: 9. POBLACIÓN
A3: 9.3 MOVIMIENTOS MIGRATORIOS | R3: Volver al índice
A5: 9.3.1 MOVIMIENTOS MIGRATORIOS INTERIORES POR COMUNIDAD AUTÓNOMA DE PROCEDENCIA
B7: Inmigración | J7: Emigración
B8: 2019 | F8: 2020 | J8: 2019 | N8: 2020
B9: TOTAL | C9: Hombres | D9: Mujeres | F9: TOTAL | G9: Hombres | H9: Mujeres | J9: TOTAL | K9: Hombres | L9: Mujeres | N9: TOTAL | O9: Hombres | P9: Mujeres
A11: TOTAL | B11: =SUM(C11:D11) -> 4039 | C11: 2180 | D11: 1859 | F11: =SUM(G11:H11) -> 3366 | G11: 1831 | H11: 1535 | J11: =SUM(K11:L11) -> 3442 | K11: 1824 | L11: 1618 | N11: =SUM(O11:P11) -> 3039 | O11: 1586 | P11: 1453
A13: Andalucía | B13: =SUM(C13:D13) -> 331 | C13: 189 | D13: 142 | F13: =SUM(G13:H13) -> 297 | G13: 164 | H13: 133 | J13: =SUM(K13:L13) -> 238 | K13: 131 | L13: 107 | N13: =SUM(O13:P13) -> 212 | O13: 102 | P13: 110
A14: Aragón | B14: =SUM(C14:D14) -> 266 | C14: 125 | D14: 141 | F14: =SUM(G14:H14) -> 178 | G14: 102 | H14: 76 | J14: =SUM(K14:L14) -> 254 | K14: 135 | L14: 119 | N14: =SUM(O14:P14) -> 211 | O14: 109 | P14: 102
A15: Asturias | B15: =SUM(C15:D15) -> 103 | C15: 46 | D15: 57 | F15: =SUM(G15:H15) -> 50 | G15: 25 | H15: 25 | J15: =SUM(K15:L15) -> 53 | K15: 24 | L15: 29 | N15: =SUM(O15:P15) -> 58 | O15: 25 | P15: 33
A16: Baleares | B16: =SUM(C16:D16) -> 68 | C16: 32 | D16: 36 | F16: =SUM(G16:H16) -> 53 | G16: 32 | H16: 21 | J16: =SUM(K16:L16) -> 45 | K16: 26 | L16: 19 | N16: =SUM(O16:P16) -> 37 | O16: 19 | P16: 18
A17: Canarias | B17: =SUM(C17:D17) -> 85 | C17: 42 | D17: 43 | F17: 67 | G17: 38 | H17: 29 | J17: =SUM(K17:L17) -> 87 | K17: 39 | L17: 48 | N17: =SUM(O17:P17) -> 66 | O17: 33 | P17: 33
A18: Cantabria | B18: =SUM(C18:D18) -> 93 | C18: 48 | D18: 45 | F18: =SUM(G18:H18) -> 62 | G18: 29 | H18: 33 | J18: =SUM(K18:L18) -> 97 | K18: 43 | L18: 54 | N18: =SUM(O18:P18) -> 75 | O18: 35 | P18: 40
A19: Castilla y León | B19: =SUM(C19:D19) -> 494 | C19: 258 | D19: 236 | F19: =SUM(G19:H19) -> 365 | G19: 203 | H19: 162 | J19: =SUM(K19:L19) -> 336 | K19: 177 | L19: 159 | N19: 290 | O19: 151 | P19: 139
A20: Castilla-La Mancha | B20: =SUM(C20:D20) -> 106 | C20: 56 | D20: 50 | F20: =SUM(G20:H20) -> 87 | G20: 48 | H20: 39 | J20: =SUM(K20:L20) -> 70 | K20: 42 | L20: 28 | N20: =SUM(O20:P20) -> 65 | O20: 29 | P20: 36
A21: Cataluña | B21: =SUM(C21:D21) -> 364 | C21: 194 | D21: 170 | F21: =SUM(G21:H21) -> 262 | G21: 148 | H21: 114 | J21: =SUM(K21:L21) -> 230 | K21: 120 | L21: 110 | N21: =SUM(O21:P21) -> 264 | O21: 147 | P21: 117
A22: C. Valenciana | B22: =SUM(C22:D22) -> 219 | C22: 127 | D22: 92 | F22: =SUM(G22:H22) -> 165 | G22: 83 | H22: 82 | J22: =SUM(K22:L22) -> 192 | K22: 94 | L22: 98 | N22: =SUM(O22:P22) -> 174 | O22: 97 | P22: 77
A23: Extremadura | B23: =SUM(C23:D23) -> 50 | C23: 25 | D23: 25 | F23: =SUM(G23:H23) -> 56 | G23: 30 | H23: 26 | J23: =SUM(K23:L23) -> 60 | K23: 37 | L23: 23 | N23: =SUM(O23:P23) -> 37 | O23: 18 | P23: 19
A24: Galicia | B24: =SUM(C24:D24) -> 89 | C24: 47 | D24: 42 | F24: =SUM(G24:H24) -> 71 | G24: 42 | H24: 29 | J24: =SUM(K24:L24) -> 91 | K24: 53 | L24: 38 | N24: =SUM(O24:P24) -> 71 | O24: 33 | P24: 38
A25: Madrid | B25: =SUM(C25:D25) -> 361 | C25: 190 | D25: 171 | F25: =SUM(G25:H25) -> 370 | G25: 169 | H25: 201 | J25: =SUM(K25:L25) -> 452 | K25: 221 | L25: 231 | N25: =SUM(O25:P25) -> 365 | O25: 180 | P25: 185
A26: Murcia | B26: =SUM(C26:D26) -> 99 | C26: 66 | D26: 33 | F26: =SUM(G26:H26) -> 80 | G26: 49 | H26: 31 | J26: =SUM(K26:L26) -> 45 | K26: 26 | L26: 19 | N26: =SUM(O26:P26) -> 36 | O26: 20 | P26: 16
A27: Navarra | B27: =SUM(C27:D27) -> 612 | C27: 333 | D27: 279 | F27: =SUM(G27:H27) -> 540 | G27: 302 | H27: 238 | J27: =SUM(K27:L27) -> 525 | K27: 282 | L27: 243 | N27: =SUM(O27:P27) -> 548 | O27: 308 | P27: 240
A28: País Vasco | B28: =SUM(C28:D28) -> 670 | C28: 384 | D28: 286 | F28: =SUM(G28:H28) -> 645 | G28: 357 | H28: 288 | J28: =SUM(K28:L28) -> 654 | K28: 366 | L28: 288 | N28: =SUM(O28:P28) -> 523 | O28: 275 | P28: 248
A29: Ceuta y Melilla | B29: =SUM(C29:D29) -> 29 | C29: 18 | D29: 11 | F29: =SUM(G29:H29) -> 18 | G29: 10 | H29: 8 | J29: =SUM(K29:L29) -> 13 | K29: 8 | L29: 5 | N29: =SUM(O29:P29) -> 7 | O29: 5 | P29: 2
A31: FUENTE: Estadística del Padrón Continuo. INE.
A32: NOTA: Los datos del último año disponible son provisionales.

Sheet G.9.4-G.9.5
A1: 9. POBLACIÓN
A5: G.9.4 Evolución del flujo de inmigración y emigración interior en La Rioja
K7: Datos del gráfico
L9: Inmigración | M9: Emigración
K11: 2009 | L11: 4057 | M11: 4466
K12: 2010 | L12: 4125 | M12: 4507
K13: 2011 | L13: 3954 | M13: 4397
K14: 2012 | L14: 3789 | M14: 4100
K15: 2013 | L15: 3580 | M15: 3850
K16: 2014 | L16: 3728 | M16: 4053
K17: 2015 | L17: 3667 | M17: 3858
K18: 2016 | L18: 3508 | M18: 3783
K19: 2017 | L19: 3481 | M19: 3446
K20: 2018 | L20: 3761 | M20: 3582
K21: 2019 | L21: 4039 | M21: 3442
K22: 2020(P) | L22: 3366 | M22: 3039
A28: G.9.5 Movimientos migratorios en La Rioja, por CC.AA. de procedencia y destino.
A29: Año 2020
K31: Datos del gráfico
L32: Inmigración | M32: Emigración
K33: Andalucía | L33: 297 | M33: 212
K34: Aragón | L34: 178 | M34: 211
K35: Asturias | L35: 50 | M35: 58
K36: Baleares | L36: 53 | M36: 37
K37: Canarias | L37: 67 | M37: 66
K38: Cantabria | L38: 62 | M38: 75
K39: C. y León | L39: 365 | M39: 290
K40: C.-La Mancha | L40: 87 | M40: 65
K41: Cataluña | L41: 262 | M41: 264
K42: C. Valenciana | L42: 165 | M42: 174
K43: Extremadura | L43: 56 | M43: 37
K44: Galicia | L44: 71 | M44: 71
... K49: Ceuta-Melilla | L49: 18 | M49: 10

Sheet 9.3.2
A1: 9. POBLACIÓN
A3: 9.3.2 MOVIMIENTOS MIGRATORIOS EXTERIORES POR SEXO, EDAD Y NACIONALIDAD | R3: Volver al índice
B5: Inmigración | F5: 2020 | J5: Emigración
B6: 2019 | F6: 2020 | J6: 2019 | N6: 2020
B7: TOTAL | C7: Esp. | D7: Ext. | F7: TOTAL | G7: Esp. | H7: Ext. | J7: TOTAL | K7: Esp. | L7: Ext. | N7: TOTAL | O7: Esp. | P7: Ext.
A9: TOTAL | B9: =SUM(C9:D9) -> 3851 | C9: 181 | D9: 3670 | F9: =SUM(G9:H9) -> 2588 | G9: 140 | H9: 2448 | J9: =SUM(K9:L9) -> 1336 | K9: 394 | L9: 942 | N9: =SUM(O9:P9) -> 1255 | O9: 320 | P9: 935
A11: Sexo
A12: Hombres | B12: =SUM(C12:D12) -> 1884 | C12: 93 | D12: 1791 | F12: =SUM(G12:H12) -> 1269 | G12: 75 | H12: 1194 | J12: =SUM(K12:L12) -> 730 | K12: 214 | L12: 516 | N12: =SUM(O12:P12) -> 664 | O12: 160 | P12: 504
A13: Mujeres | B13: =SUM(C13:D13) -> 1967 | C13: 88 | D13: 1879 | F13: =SUM(G13:H13) -> 1319 | G13: 65 | H13: 1254 | J13: =SUM(K13:L13) -> 606 | K13: 180 | L13: 426 | N13: =SUM(O13:P13) -> 591 | O13: 160 | P13: 431
A15: Grupos de edad
A16: Menores de 14 años | B16: =SUM(C16:D16) -> 774 | C16: 47 | D16: 727 | F16: =SUM(G16:H16) -> 505 | G16: 28 | H16: 477 | J16: =SUM(K16:L16) -> 202 | K16: 156 | L16: 46 | N16: =SUM(O16:P16) -> 177 | O16: 115 | P16: 62
A17: De 15 a 19 años | B17: =SUM(C17:D17) -> 300 | C17: 12 | D17: 288 | F17: =SUM(G17:H17) -> 201 | G17: 8 | H17: 193 | J17: =SUM(K17:L17) -> 57 | K17: 14 | L17: 43 | N17: =SUM(O17:P17) -> 66 | O17: 26 | P17: 40
A18: De 20 a 29 años | B18: =SUM(C18:D18) -> 955 | C18: 14 | D18: 941 | F18: =SUM(G18:H18) -> 668 | G18: 19 | H18: 649 | J18: =SUM(K18:L18) -> 289 | K18: 86 | L18: 203 | N18: =SUM(O18:P18) -> 226 | O18: 50 | P18: 176
A19: De 30 a 39 años | B19: =SUM(C19:D19) -> 822 | C19: 35 | D19: 787 | F19: =SUM(G19:H19) -> 566 | G19: 31 | H19: 535 | J19: =SUM(K19:L19) -> 287 | K19: 80 | L19: 207 | N19: =SUM(O19:P19) -> 271 | O19: 49 | P19: 222
A20: De 40 a 49 años | B20: =SUM(C20:D20) -> 524 | C20: 24 | D20: 500 | F20: =SUM(G20:H20) -> 343 | G20: 23 | H20: 320 | J20: =SUM(K20:L20) -> 251 | K20: 37 | L20: 214 | N20: =SUM(O20:P20) -> 245 | O20: 46 | P20: 199
A21: De 50 a 59 años | B21: =SUM(C21:D21) -> 258 | C21: 15 | D21: 243 | F21: =SUM(G21:H21) -> 182 | G21: 15 | H21: 167 | J21: =SUM(K21:L21) -> 140 | K21: 8 | L21: 132 | N21: =SUM(O21:P21) -> 144 | O21: 14 | P21: 130
A22: De 60 a 64 años | B22: =SUM(C22:D22) -> 73 | C22: 4 | D22: 69 | F22: =SUM(G22:H22) -> 38 | G22: 2 | H22: 36 | J22: =SUM(K22:L22) -> 43 | K22: 1 | L22: 42 | N22: =SUM(O22:P22) -> 48 | O22: 6 | P22: 42
A23: De 65 y más | B23: =SUM(C23:D23) -> 145 | C23: 30 | D23: 115 | F23: =SUM(G23:H23) -> 85 | G23: 14 | H23: 71 | J23: =SUM(K23:L23) -> 67 | K23: 12 | L23: 55 | N23: =SUM(O23:P23) -> 78 | O23: 14 | P23: 64
A25: FUENTE: Elaboración propia a partir de Estadística de Migraciones. INE.
A26: NOTA: Los datos del último año disponible son provisionales.

Sheet G.9.6
A1: 9. POBLACIÓN
J2: Volver al índice
A4: G.9.6 Evolución del flujo de inmigración y emigración exterior en La Rioja
J7: Datos del gráfico
K9: Inmigración | L9: Emigración
J11: 2008 | K11: 4170 | L11: 2689
J12: 2009 | K12: 2682 | L12: 3626
J13: 2010 | K13: 2952 | L13: 3004
J14: 2011 | K14: 2600 | L14: 2980
J15: 2012 | K15: 1645 | L15: 3811
J16: 2013 | K16: 1260 | L16: 4438
J17: 2014 | K17: 1402 | L17: 2680
J18: 2015 | K18: 1710 | L18: 1913
J19: 2016 | K19: 2075 | L19: 1680
J20: 2017 | K20: 2408 | L20: 1681
J21: 2018 | K21: 3234 | L21: 1835
J22: 2019 | K22: 3851 | L22: 1336
J23: 2020 | K23: 2588 | L23: 1255

Sheet 9.3.3
A1: 9.3.3 NACIONALIDAD DEL FLUJO DE INMIGRACIÓN PROCEDENTE DEL EXTRANJERO
L2: Volver al índice
B3: 2016 | D3: 2017 | F3: 2018 | H3: 2019 | J3: 2020
A5: Total | B5: 2075 | D5: 2408 | F5: 3234 | H5: 3851 | J5: 2588
A7: España | B7: 271 | D7: 332 | F7: 313 | H7: 374 | J7: 246
A8: Total extranjero
A9: Unión Europea | B9: 559 | D9: 635 | F9: 660 | H9: 675 | J9: 414
A10: Resto de Europa | B10: 128 | D10: 155 | F10: 209 | H10: 175 | J10: 62
A11: África | B11: 398 | D11: 415 | F11: 640 | H11: 770 | J11: 533
A12: América del Norte | B12: 44 | D12: 46 | F12: 73 | H12: 79 | J12: 44
A13: Centro América y Caribe | B13: 92 | D13: 112 | F13: 205 | H13: 316 | J13: 178
A14: Sudamérica | B14: 377 | D14: 532 | F14: 950 | H14: 1249 | J14: 931
A15: Asia | B15: 167 | D15: 131 | F15: 131 | H15: 171 | J15: 130
A16: Oceanía | B16: 2 | D16: 1 | F16: 2 | H16: 1 | J16: 8
A17: Apátridas | B17: 1 | D17: - | F17: - | H17: 2 | J17: -
A19: FUENTE: Estadística de Migraciones. INE.
A20: NOTA: Los datos del último año disponible son provisionales.
